BEGIN:VCALENDAR
VERSION:2.0
PRODID:-//Batavia Moose #682 - ECPv6.15.20//NONSGML v1.0//EN
CALSCALE:GREGORIAN
METHOD:PUBLISH
X-WR-CALNAME:Batavia Moose #682
X-ORIGINAL-URL:https://www.bataviamoose682.org
X-WR-CALDESC:Events for Batavia Moose #682
REFRESH-INTERVAL;VALUE=DURATION:PT1H
X-Robots-Tag:noindex
X-PUBLISHED-TTL:PT1H
BEGIN:VTIMEZONE
TZID:UTC
BEGIN:STANDARD
TZOFFSETFROM:+0000
TZOFFSETTO:+0000
TZNAME:UTC
DTSTART:20240101T000000
END:STANDARD
END:VTIMEZONE
BEGIN:VEVENT
DTSTART;TZID=UTC:20250510T093000
DTEND;TZID=UTC:20250510T193000
DTSTAMP:20260421T111906
CREATED:20250306T023740Z
LAST-MODIFIED:20260209T210121Z
UID:10000008-1746869400-1746905400@www.bataviamoose682.org
SUMMARY:John Freedlund Memorial Golf Tournament 2025
DESCRIPTION:John Freedlund Memorial Golf Tournament \nNearly $10\,000 in Batavia boys’ basketball scholarships have been awarded since 2022 through the John Freedlund Memorial Scholarship. The Batavia Moose Legion is committed to keeping his memory alive. A lifelong resident of Batavia\, John was a member of the famous 1960’s Batavia HS basketball teams\, and an extraordinary husband\, father\, and grandfather. He was an active member of Batavia Moose 682\, TheMoose Legion\, and The Turners. John had a passion for sports\, especially Batavia Basketball. \nSaturday\, May 10th\, 2025Check-in @ 9:30amTee off @ 11:00am \nSteak dinner\, raffles and prizes to follow \nBliss Creek Golf Club1 Golfview LaneSugar Grove\, IL 60554 \nFORMAT: Four-person team ScrambleCOST: $135 per person: Includes golf\, steak dinner\, and contribution to scholarship. Dinner Only $35. Cash bar. \nSPONSORSHIPS*: $125 Hole sponsorships. Social Hour\, Lunch and Beverage Cart sponsorships also available. Great business recognition! \n*If you would like to be a sponsor for this great event\, please email craig.burgess@sbcglobal.net your company logo by May 1st\, 2025\, to be used along with your name so a sign can be made to recognize your contribution. \nPROCEEDS: This event is open to the public. Net proceeds will fund a Batavia High School Boys Basketball Scholarship in John’s name to be awarded at the annual Senior Awards Night in May 2025.
URL:https://www.bataviamoose682.org/event/johnfreedlundmemorialgolftournament2025/
LOCATION:Bliss Creak Golf Course\, 1 Golfview Lane\, Sugar Grove\, IL\, 60544\, United States
CATEGORIES:Open to the Public
END:VEVENT
END:VCALENDAR