BEGIN:VCALENDAR
VERSION:2.0
PRODID:-//Batavia Moose #682 - ECPv6.15.20//NONSGML v1.0//EN
CALSCALE:GREGORIAN
METHOD:PUBLISH
X-WR-CALNAME:Batavia Moose #682
X-ORIGINAL-URL:https://www.bataviamoose682.org
X-WR-CALDESC:Events for Batavia Moose #682
REFRESH-INTERVAL;VALUE=DURATION:PT1H
X-Robots-Tag:noindex
X-PUBLISHED-TTL:PT1H
BEGIN:VTIMEZONE
TZID:UTC
BEGIN:STANDARD
TZOFFSETFROM:+0000
TZOFFSETTO:+0000
TZNAME:UTC
DTSTART:20260101T000000
END:STANDARD
END:VTIMEZONE
BEGIN:VEVENT
DTSTART;TZID=UTC:20270220T173000
DTEND;TZID=UTC:20270220T200000
DTSTAMP:20260421T143550
CREATED:20250821T064936Z
LAST-MODIFIED:20250821T065109Z
UID:10004097-1803144600-1803153600@www.bataviamoose682.org
SUMMARY:Grilled Steak Night & Rockstar Bingo
DESCRIPTION:Seriously Fun Saturday Evening!\nGrilled Steak Dinner 5:30 pm – 8:00 pm\nRockstar Bingo 7 pm \nRockstar Bingo is like regular Bingo except with groovy music instead of numbers. Guaranteed you will be singing along.\nNo cost to play. Great prizes for winners. \nThis event is sponsored by the Batavia Moose Legion and is intended for Lodge members and their qualified guests. \nThis particular event will be in the social quarters only due to a private event scheduled in the back hall. \nRockstar Bingo is run by Seriously Fun Events.
URL:https://www.bataviamoose682.org/event/grilled-steak-night-rockstar-bingo/2027-02-20/
CATEGORIES:Monthly Special
ATTACH;FMTTYPE=image/png:https://www.bataviamoose682.org/wp-content/uploads/2025/03/Steak-Bingo.png
END:VEVENT
BEGIN:VEVENT
DTSTART;TZID=UTC:20270320T173000
DTEND;TZID=UTC:20270320T200000
DTSTAMP:20260421T143550
CREATED:20250821T064936Z
LAST-MODIFIED:20250821T065109Z
UID:10004098-1805563800-1805572800@www.bataviamoose682.org
SUMMARY:Grilled Steak Night & Rockstar Bingo
DESCRIPTION:Seriously Fun Saturday Evening!\nGrilled Steak Dinner 5:30 pm – 8:00 pm\nRockstar Bingo 7 pm \nRockstar Bingo is like regular Bingo except with groovy music instead of numbers. Guaranteed you will be singing along.\nNo cost to play. Great prizes for winners. \nThis event is sponsored by the Batavia Moose Legion and is intended for Lodge members and their qualified guests. \nThis particular event will be in the social quarters only due to a private event scheduled in the back hall. \nRockstar Bingo is run by Seriously Fun Events.
URL:https://www.bataviamoose682.org/event/grilled-steak-night-rockstar-bingo/2027-03-20/
CATEGORIES:Monthly Special
ATTACH;FMTTYPE=image/png:https://www.bataviamoose682.org/wp-content/uploads/2025/03/Steak-Bingo.png
END:VEVENT
BEGIN:VEVENT
DTSTART;TZID=UTC:20270417T173000
DTEND;TZID=UTC:20270417T200000
DTSTAMP:20260421T143550
CREATED:20250821T064936Z
LAST-MODIFIED:20250821T065109Z
UID:10004099-1807983000-1807992000@www.bataviamoose682.org
SUMMARY:Grilled Steak Night & Rockstar Bingo
DESCRIPTION:Seriously Fun Saturday Evening!\nGrilled Steak Dinner 5:30 pm – 8:00 pm\nRockstar Bingo 7 pm \nRockstar Bingo is like regular Bingo except with groovy music instead of numbers. Guaranteed you will be singing along.\nNo cost to play. Great prizes for winners. \nThis event is sponsored by the Batavia Moose Legion and is intended for Lodge members and their qualified guests. \nThis particular event will be in the social quarters only due to a private event scheduled in the back hall. \nRockstar Bingo is run by Seriously Fun Events.
URL:https://www.bataviamoose682.org/event/grilled-steak-night-rockstar-bingo/2027-04-17/
CATEGORIES:Monthly Special
ATTACH;FMTTYPE=image/png:https://www.bataviamoose682.org/wp-content/uploads/2025/03/Steak-Bingo.png
END:VEVENT
END:VCALENDAR