BEGIN:VCALENDAR
VERSION:2.0
PRODID:-//Batavia Moose #682 - ECPv6.15.20//NONSGML v1.0//EN
CALSCALE:GREGORIAN
METHOD:PUBLISH
X-WR-CALNAME:Batavia Moose #682
X-ORIGINAL-URL:https://www.bataviamoose682.org
X-WR-CALDESC:Events for Batavia Moose #682
REFRESH-INTERVAL;VALUE=DURATION:PT1H
X-Robots-Tag:noindex
X-PUBLISHED-TTL:PT1H
BEGIN:VTIMEZONE
TZID:UTC
BEGIN:STANDARD
TZOFFSETFROM:+0000
TZOFFSETTO:+0000
TZNAME:UTC
DTSTART:20240101T000000
END:STANDARD
END:VTIMEZONE
BEGIN:VEVENT
DTSTART;TZID=UTC:20260418T173000
DTEND;TZID=UTC:20260418T200000
DTSTAMP:20260421T143908
CREATED:20250821T064936Z
LAST-MODIFIED:20250821T065109Z
UID:10004087-1776533400-1776542400@www.bataviamoose682.org
SUMMARY:Grilled Steak Night & Rockstar Bingo
DESCRIPTION:Seriously Fun Saturday Evening!\nGrilled Steak Dinner 5:30 pm – 8:00 pm\nRockstar Bingo 7 pm \nRockstar Bingo is like regular Bingo except with groovy music instead of numbers. Guaranteed you will be singing along.\nNo cost to play. Great prizes for winners. \nThis event is sponsored by the Batavia Moose Legion and is intended for Lodge members and their qualified guests. \nThis particular event will be in the social quarters only due to a private event scheduled in the back hall. \nRockstar Bingo is run by Seriously Fun Events.
URL:https://www.bataviamoose682.org/event/grilled-steak-night-rockstar-bingo/2026-04-18/
CATEGORIES:Monthly Special
ATTACH;FMTTYPE=image/png:https://www.bataviamoose682.org/wp-content/uploads/2025/03/Steak-Bingo.png
END:VEVENT
BEGIN:VEVENT
DTSTART;TZID=UTC:20260321T173000
DTEND;TZID=UTC:20260321T200000
DTSTAMP:20260421T143908
CREATED:20250821T064936Z
LAST-MODIFIED:20250821T065109Z
UID:10004086-1774114200-1774123200@www.bataviamoose682.org
SUMMARY:Grilled Steak Night & Rockstar Bingo
DESCRIPTION:Seriously Fun Saturday Evening!\nGrilled Steak Dinner 5:30 pm – 8:00 pm\nRockstar Bingo 7 pm \nRockstar Bingo is like regular Bingo except with groovy music instead of numbers. Guaranteed you will be singing along.\nNo cost to play. Great prizes for winners. \nThis event is sponsored by the Batavia Moose Legion and is intended for Lodge members and their qualified guests. \nThis particular event will be in the social quarters only due to a private event scheduled in the back hall. \nRockstar Bingo is run by Seriously Fun Events.
URL:https://www.bataviamoose682.org/event/grilled-steak-night-rockstar-bingo/2026-03-21/
CATEGORIES:Monthly Special
ATTACH;FMTTYPE=image/png:https://www.bataviamoose682.org/wp-content/uploads/2025/03/Steak-Bingo.png
END:VEVENT
BEGIN:VEVENT
DTSTART;TZID=UTC:20260221T173000
DTEND;TZID=UTC:20260221T200000
DTSTAMP:20260421T143908
CREATED:20250821T064936Z
LAST-MODIFIED:20250821T065109Z
UID:10004085-1771695000-1771704000@www.bataviamoose682.org
SUMMARY:Grilled Steak Night & Rockstar Bingo
DESCRIPTION:Seriously Fun Saturday Evening!\nGrilled Steak Dinner 5:30 pm – 8:00 pm\nRockstar Bingo 7 pm \nRockstar Bingo is like regular Bingo except with groovy music instead of numbers. Guaranteed you will be singing along.\nNo cost to play. Great prizes for winners. \nThis event is sponsored by the Batavia Moose Legion and is intended for Lodge members and their qualified guests. \nThis particular event will be in the social quarters only due to a private event scheduled in the back hall. \nRockstar Bingo is run by Seriously Fun Events.
URL:https://www.bataviamoose682.org/event/grilled-steak-night-rockstar-bingo/2026-02-21/
CATEGORIES:Monthly Special
ATTACH;FMTTYPE=image/png:https://www.bataviamoose682.org/wp-content/uploads/2025/03/Steak-Bingo.png
END:VEVENT
BEGIN:VEVENT
DTSTART;TZID=UTC:20260117T173000
DTEND;TZID=UTC:20260117T200000
DTSTAMP:20260421T143908
CREATED:20250821T064936Z
LAST-MODIFIED:20250821T065109Z
UID:10004084-1768671000-1768680000@www.bataviamoose682.org
SUMMARY:Grilled Steak Night & Rockstar Bingo
DESCRIPTION:Seriously Fun Saturday Evening!\nGrilled Steak Dinner 5:30 pm – 8:00 pm\nRockstar Bingo 7 pm \nRockstar Bingo is like regular Bingo except with groovy music instead of numbers. Guaranteed you will be singing along.\nNo cost to play. Great prizes for winners. \nThis event is sponsored by the Batavia Moose Legion and is intended for Lodge members and their qualified guests. \nThis particular event will be in the social quarters only due to a private event scheduled in the back hall. \nRockstar Bingo is run by Seriously Fun Events.
URL:https://www.bataviamoose682.org/event/grilled-steak-night-rockstar-bingo/2026-01-17/
CATEGORIES:Monthly Special
ATTACH;FMTTYPE=image/png:https://www.bataviamoose682.org/wp-content/uploads/2025/03/Steak-Bingo.png
END:VEVENT
BEGIN:VEVENT
DTSTART;TZID=UTC:20251220T173000
DTEND;TZID=UTC:20251220T200000
DTSTAMP:20260421T143908
CREATED:20250821T064936Z
LAST-MODIFIED:20250821T065109Z
UID:10004083-1766251800-1766260800@www.bataviamoose682.org
SUMMARY:Grilled Steak Night & Rockstar Bingo
DESCRIPTION:Seriously Fun Saturday Evening!\nGrilled Steak Dinner 5:30 pm – 8:00 pm\nRockstar Bingo 7 pm \nRockstar Bingo is like regular Bingo except with groovy music instead of numbers. Guaranteed you will be singing along.\nNo cost to play. Great prizes for winners. \nThis event is sponsored by the Batavia Moose Legion and is intended for Lodge members and their qualified guests. \nThis particular event will be in the social quarters only due to a private event scheduled in the back hall. \nRockstar Bingo is run by Seriously Fun Events.
URL:https://www.bataviamoose682.org/event/grilled-steak-night-rockstar-bingo/2025-12-20/
CATEGORIES:Monthly Special
ATTACH;FMTTYPE=image/png:https://www.bataviamoose682.org/wp-content/uploads/2025/03/Steak-Bingo.png
END:VEVENT
BEGIN:VEVENT
DTSTART;TZID=UTC:20251115T173000
DTEND;TZID=UTC:20251115T200000
DTSTAMP:20260421T143908
CREATED:20250821T064936Z
LAST-MODIFIED:20250821T065109Z
UID:10004082-1763227800-1763236800@www.bataviamoose682.org
SUMMARY:Grilled Steak Night & Rockstar Bingo
DESCRIPTION:Seriously Fun Saturday Evening!\nGrilled Steak Dinner 5:30 pm – 8:00 pm\nRockstar Bingo 7 pm \nRockstar Bingo is like regular Bingo except with groovy music instead of numbers. Guaranteed you will be singing along.\nNo cost to play. Great prizes for winners. \nThis event is sponsored by the Batavia Moose Legion and is intended for Lodge members and their qualified guests. \nThis particular event will be in the social quarters only due to a private event scheduled in the back hall. \nRockstar Bingo is run by Seriously Fun Events.
URL:https://www.bataviamoose682.org/event/grilled-steak-night-rockstar-bingo/2025-11-15/
CATEGORIES:Monthly Special
ATTACH;FMTTYPE=image/png:https://www.bataviamoose682.org/wp-content/uploads/2025/03/Steak-Bingo.png
END:VEVENT
BEGIN:VEVENT
DTSTART;TZID=UTC:20251018T173000
DTEND;TZID=UTC:20251018T200000
DTSTAMP:20260421T143908
CREATED:20250821T064936Z
LAST-MODIFIED:20250821T065109Z
UID:10004081-1760808600-1760817600@www.bataviamoose682.org
SUMMARY:Grilled Steak Night & Rockstar Bingo
DESCRIPTION:Seriously Fun Saturday Evening!\nGrilled Steak Dinner 5:30 pm – 8:00 pm\nRockstar Bingo 7 pm \nRockstar Bingo is like regular Bingo except with groovy music instead of numbers. Guaranteed you will be singing along.\nNo cost to play. Great prizes for winners. \nThis event is sponsored by the Batavia Moose Legion and is intended for Lodge members and their qualified guests. \nThis particular event will be in the social quarters only due to a private event scheduled in the back hall. \nRockstar Bingo is run by Seriously Fun Events.
URL:https://www.bataviamoose682.org/event/grilled-steak-night-rockstar-bingo/2025-10-18/
CATEGORIES:Monthly Special
ATTACH;FMTTYPE=image/png:https://www.bataviamoose682.org/wp-content/uploads/2025/03/Steak-Bingo.png
END:VEVENT
BEGIN:VEVENT
DTSTART;TZID=UTC:20250920T173000
DTEND;TZID=UTC:20250920T200000
DTSTAMP:20260421T143909
CREATED:20250821T065456Z
LAST-MODIFIED:20250821T065456Z
UID:10004100-1758389400-1758398400@www.bataviamoose682.org
SUMMARY:Supper Club Evening - Grilled Steak Dinner
DESCRIPTION:Batavia Moose Legion presents: Grilled Steak Dinner with supper club theme. Ultimate Salad Bar. Drink Specials: Old Fashioneds and Pabst Blue Ribbon beer.
URL:https://www.bataviamoose682.org/event/supper-club-evening-grilled-steak-dinner/
CATEGORIES:Monthly Special,Special Event
ATTACH;FMTTYPE=image/png:https://www.bataviamoose682.org/wp-content/uploads/2025/08/Untitled-design-15.png
END:VEVENT
BEGIN:VEVENT
DTSTART;TZID=UTC:20250823T130000
DTEND;TZID=UTC:20250823T210000
DTSTAMP:20260421T143909
CREATED:20250718T195835Z
LAST-MODIFIED:20250718T195835Z
UID:10003849-1755954000-1755982800@www.bataviamoose682.org
SUMMARY:Moose-a-Palooza (OPEN TO THE PUBLIC)
DESCRIPTION:Our 8th annual Moose-a-Palooza Music Fest and Fundraiser brings back your favorites from year’s past.\n\nAll net proceeds from this event help the Batavia Moose Lodge and their support of the needs of the kids at Mooseheart Child City and School. Event will be open to the public. Tickets to go on sale in April.\n\n7:00 pm Jimmy Nick and Don’t Tell Mama– Back by popular demand! Jimmy is an old-fashioned guitar slinging blues prodigy. His mission is to expose the next generation to the blues. Driven by his Motown-tight band\, Don’t Tell Mama\, Jimmy excites crowds with his electrifying guitar work\, fresh harp\, clever lyrics and animated stage theatrics. His high energy blues and rock-n-roll captivate audiences\, and forge instant fans.\n\n5:00 pm: Ivy Ford – Back by popular demand! Versatile\, talented\, and an old soul. From singing the blues to being sultry\, Ivy is an indigo artist whose gift connects those who are around her and those who listen. The “Blues Kitten” serves an experience of music to soothe your soul\, fill your heart\, with an energy that is most magical.\n\n3:00pm: Jonny Lyons and the Pride – Back by popular demand! From Cash to Presley\, to his own recordings\, Jonny and his dream 5-piece show band\, the Pride\, entertain folks all over North America captivating audiences with a stage presence and a touch from the past.\n\n1:00pm: The Joliet Jakes – Welcome to the Moose-a-Palooza premier of the Joliet Jakes who will be kicking off our day of music\, fun and dance.. A show band that plays the music of The Blues Brothers and rhythm and blues. They are on a mission from God to help support the kids at Mooseheart!\nPlease bring your own chairs for our outdoor venue. Food and beverage will be available for purchase.\n\nGet tickets at: https://www.eventbrite.com/e/moose-a-palooza-music-festival-and-fundraiser-open-to-the-public-tickets-1364347583349?aff=ebdsoporgprofile
URL:https://www.bataviamoose682.org/event/moose-a-palooza2025/
LOCATION:Batavia Moose Lodge
CATEGORIES:Live Music Event,Open to the Public,Special Event
ATTACH;FMTTYPE=image/png:https://www.bataviamoose682.org/wp-content/uploads/2024/04/MAP-no-bg.png
END:VEVENT
BEGIN:VEVENT
DTSTART;TZID=UTC:20250510T093000
DTEND;TZID=UTC:20250510T193000
DTSTAMP:20260421T143909
CREATED:20250306T023740Z
LAST-MODIFIED:20260209T210121Z
UID:10000008-1746869400-1746905400@www.bataviamoose682.org
SUMMARY:John Freedlund Memorial Golf Tournament 2025
DESCRIPTION:John Freedlund Memorial Golf Tournament \nNearly $10\,000 in Batavia boys’ basketball scholarships have been awarded since 2022 through the John Freedlund Memorial Scholarship. The Batavia Moose Legion is committed to keeping his memory alive. A lifelong resident of Batavia\, John was a member of the famous 1960’s Batavia HS basketball teams\, and an extraordinary husband\, father\, and grandfather. He was an active member of Batavia Moose 682\, TheMoose Legion\, and The Turners. John had a passion for sports\, especially Batavia Basketball. \nSaturday\, May 10th\, 2025Check-in @ 9:30amTee off @ 11:00am \nSteak dinner\, raffles and prizes to follow \nBliss Creek Golf Club1 Golfview LaneSugar Grove\, IL 60554 \nFORMAT: Four-person team ScrambleCOST: $135 per person: Includes golf\, steak dinner\, and contribution to scholarship. Dinner Only $35. Cash bar. \nSPONSORSHIPS*: $125 Hole sponsorships. Social Hour\, Lunch and Beverage Cart sponsorships also available. Great business recognition! \n*If you would like to be a sponsor for this great event\, please email craig.burgess@sbcglobal.net your company logo by May 1st\, 2025\, to be used along with your name so a sign can be made to recognize your contribution. \nPROCEEDS: This event is open to the public. Net proceeds will fund a Batavia High School Boys Basketball Scholarship in John’s name to be awarded at the annual Senior Awards Night in May 2025.
URL:https://www.bataviamoose682.org/event/johnfreedlundmemorialgolftournament2025/
LOCATION:Bliss Creak Golf Course\, 1 Golfview Lane\, Sugar Grove\, IL\, 60544\, United States
CATEGORIES:Open to the Public
END:VEVENT
BEGIN:VEVENT
DTSTART;TZID=UTC:20250419T200000
DTEND;TZID=UTC:20250419T233000
DTSTAMP:20260421T143909
CREATED:20250305T043436Z
LAST-MODIFIED:20250306T034656Z
UID:10000250-1745092800-1745105400@www.bataviamoose682.org
SUMMARY:Karaoke
DESCRIPTION:
URL:https://www.bataviamoose682.org/event/karaoke/
LOCATION:Batavia Moose Lodge
CATEGORIES:Special Event
END:VEVENT
BEGIN:VEVENT
DTSTART;TZID=UTC:20250419T173000
DTEND;TZID=UTC:20250419T203000
DTSTAMP:20260421T143909
CREATED:20250317T045057Z
LAST-MODIFIED:20250317T045057Z
UID:10000587-1745083800-1745094600@www.bataviamoose682.org
SUMMARY:Steak Fry
DESCRIPTION:Steak Fry Saturday!\n\nSteak served with fries or baked potato and veggies.\nGrilled Chicken served with fries or baked potato and veggies\n\n5:30-8:30pm or until sold out\n\nHave a great dinner and stay for Karaoke!\n\nOpen to current members & their qualified guests.
URL:https://www.bataviamoose682.org/event/steak-fry/2025-04-19/
LOCATION:Batavia Moose Lodge
CATEGORIES:Special Event
END:VEVENT
BEGIN:VEVENT
DTSTART;TZID=UTC:20250322T200000
DTEND;TZID=UTC:20250322T233000
DTSTAMP:20260421T143909
CREATED:20250306T034437Z
LAST-MODIFIED:20250306T034619Z
UID:10000251-1742673600-1742686200@www.bataviamoose682.org
SUMMARY:Karaoke
DESCRIPTION:
URL:https://www.bataviamoose682.org/event/karaoke-2/
LOCATION:Batavia Moose Lodge
CATEGORIES:Special Event
END:VEVENT
BEGIN:VEVENT
DTSTART;TZID=UTC:20250322T173000
DTEND;TZID=UTC:20250322T203000
DTSTAMP:20260421T143909
CREATED:20250317T045057Z
LAST-MODIFIED:20250317T045057Z
UID:10000586-1742664600-1742675400@www.bataviamoose682.org
SUMMARY:Steak Fry
DESCRIPTION:Steak Fry Saturday!\n\nSteak served with fries or baked potato and veggies.\nGrilled Chicken served with fries or baked potato and veggies\n\n5:30-8:30pm or until sold out\n\nHave a great dinner and stay for Karaoke!\n\nOpen to current members & their qualified guests.
URL:https://www.bataviamoose682.org/event/steak-fry/2025-03-22/
LOCATION:Batavia Moose Lodge
CATEGORIES:Special Event
END:VEVENT
END:VCALENDAR