BEGIN:VCALENDAR
VERSION:2.0
PRODID:-//Batavia Moose #682 - ECPv6.15.20//NONSGML v1.0//EN
CALSCALE:GREGORIAN
METHOD:PUBLISH
X-ORIGINAL-URL:https://www.bataviamoose682.org
X-WR-CALDESC:Events for Batavia Moose #682
REFRESH-INTERVAL;VALUE=DURATION:PT1H
X-Robots-Tag:noindex
X-PUBLISHED-TTL:PT1H
BEGIN:VTIMEZONE
TZID:UTC
BEGIN:STANDARD
TZOFFSETFROM:+0000
TZOFFSETTO:+0000
TZNAME:UTC
DTSTART:20250101T000000
END:STANDARD
END:VTIMEZONE
BEGIN:VEVENT
DTSTART;TZID=UTC:20260724T120000
DTEND;TZID=UTC:20260724T150000
DTSTAMP:20260422T003537
CREATED:20250507T070730Z
LAST-MODIFIED:20250507T070800Z
UID:10001803-1784894400-1784905200@www.bataviamoose682.org
SUMMARY:Family Fish Fry Lunch
DESCRIPTION:
URL:https://www.bataviamoose682.org/event/friday-fish-fry-lunch/2026-07-24/
END:VEVENT
BEGIN:VEVENT
DTSTART;TZID=UTC:20260724T170000
DTEND;TZID=UTC:20260724T203000
DTSTAMP:20260422T003537
CREATED:20250507T070846Z
LAST-MODIFIED:20250507T070846Z
UID:10002065-1784912400-1784925000@www.bataviamoose682.org
SUMMARY:Fish Fry
DESCRIPTION:
URL:https://www.bataviamoose682.org/event/fish-fry/2026-07-24/
END:VEVENT
BEGIN:VEVENT
DTSTART;TZID=UTC:20260725T120000
DTEND;TZID=UTC:20260725T150000
DTSTAMP:20260422T003537
CREATED:20250507T071224Z
LAST-MODIFIED:20260303T184004Z
UID:10003374-1784980800-1784991600@www.bataviamoose682.org
SUMMARY:Family Lunch
DESCRIPTION:
URL:https://www.bataviamoose682.org/event/family-lunch/2026-07-25/
END:VEVENT
BEGIN:VEVENT
DTSTART;TZID=UTC:20260725T170000
DTEND;TZID=UTC:20260725T200000
DTSTAMP:20260422T003537
CREATED:20250507T071313Z
LAST-MODIFIED:20260303T184129Z
UID:10003636-1784998800-1785009600@www.bataviamoose682.org
SUMMARY:Saturday Dinner
DESCRIPTION:
URL:https://www.bataviamoose682.org/event/saturday-dinner/2026-07-25/
END:VEVENT
BEGIN:VEVENT
DTSTART;TZID=UTC:20260727T170000
DTEND;TZID=UTC:20260727T200000
DTSTAMP:20260422T003537
CREATED:20250821T051442Z
LAST-MODIFIED:20250821T051444Z
UID:10003112-1785171600-1785182400@www.bataviamoose682.org
SUMMARY:Comfort Food Monday
DESCRIPTION:
URL:https://www.bataviamoose682.org/event/comfort-food-monday-2/2026-07-27/
CATEGORIES:Monthly Meeting
END:VEVENT
BEGIN:VEVENT
DTSTART;TZID=UTC:20260728T170000
DTEND;TZID=UTC:20260728T200000
DTSTAMP:20260422T003537
CREATED:20250507T071042Z
LAST-MODIFIED:20250507T071042Z
UID:10002456-1785258000-1785268800@www.bataviamoose682.org
SUMMARY:Kitchen Open
DESCRIPTION:
URL:https://www.bataviamoose682.org/event/kitchen-open/2026-07-28/
END:VEVENT
BEGIN:VEVENT
DTSTART;TZID=UTC:20260728T180000
DTEND;TZID=UTC:20260728T200000
DTSTAMP:20260422T003537
CREATED:20250317T045829Z
LAST-MODIFIED:20250317T045829Z
UID:10000664-1785261600-1785268800@www.bataviamoose682.org
SUMMARY:Kubb
DESCRIPTION:Come out and learn the hottest new outdoor game…KUBB! \nPlease check out our Facebook group for changes in date due to bad weather. \nCurrent Moose members and their qualified guests are welcome to join in on the fun!
URL:https://www.bataviamoose682.org/event/kubb/2026-07-28/
END:VEVENT
BEGIN:VEVENT
DTSTART;TZID=UTC:20260728T193000
DTEND;TZID=UTC:20260728T194500
DTSTAMP:20260422T003537
CREATED:20250317T052710Z
LAST-MODIFIED:20250317T052734Z
UID:10001197-1785267000-1785267900@www.bataviamoose682.org
SUMMARY:Queen of Hearts
DESCRIPTION:QUEEN OF  HEARTS WEEKLY DRAWING \n\nMust be a Current Loyal order of the Moose member in good standing to play and will be asked to present membership card to claim prize.\ndrawings will be held on Tuesday evenings at 7:30 pm\nyou may purchase tickets as many tickets as you like\, any day of the week up until 7:00pm the night of the drawing\nplease sign your tickets as your name appears on your membership card\, include your phone number on ticket\nIf you will not be present for the drawing\, please indicate your envelope number selection on the ticket. if no number is indicated the next available number will be chosen for you by the board member present.\nall non-winning tickets will be disposed of after the drawing & tickets will begin to be sold for the next week’s drawing\nif the 2nd joker is drawn\, the game will restart and all monies remaining in the prize pool.\n\nWINNING PAYMENTS: \n\ngrand prize winner need not be present for full payout\nweekly winner must be present for cash payout\n\nPayout as follows \n\n70% of pot to the winner\n20% to the Moose Lodge\n10% to start the next game
URL:https://www.bataviamoose682.org/event/queen-of-hearts/2026-07-28/
LOCATION:Batavia Moose Lodge
END:VEVENT
BEGIN:VEVENT
DTSTART;TZID=UTC:20260729T170000
DTEND;TZID=UTC:20260729T200000
DTSTAMP:20260422T003537
CREATED:20250507T071042Z
LAST-MODIFIED:20250507T071042Z
UID:10002457-1785344400-1785355200@www.bataviamoose682.org
SUMMARY:Kitchen Open
DESCRIPTION:
URL:https://www.bataviamoose682.org/event/kitchen-open/2026-07-29/
END:VEVENT
BEGIN:VEVENT
DTSTART;TZID=UTC:20260730T170000
DTEND;TZID=UTC:20260730T200000
DTSTAMP:20260422T003537
CREATED:20250507T071042Z
LAST-MODIFIED:20250507T071042Z
UID:10002458-1785430800-1785441600@www.bataviamoose682.org
SUMMARY:Kitchen Open
DESCRIPTION:
URL:https://www.bataviamoose682.org/event/kitchen-open/2026-07-30/
END:VEVENT
BEGIN:VEVENT
DTSTART;TZID=UTC:20260731T120000
DTEND;TZID=UTC:20260731T150000
DTSTAMP:20260422T003537
CREATED:20250507T070730Z
LAST-MODIFIED:20250507T070800Z
UID:10001804-1785499200-1785510000@www.bataviamoose682.org
SUMMARY:Family Fish Fry Lunch
DESCRIPTION:
URL:https://www.bataviamoose682.org/event/friday-fish-fry-lunch/2026-07-31/
END:VEVENT
BEGIN:VEVENT
DTSTART;TZID=UTC:20260731T170000
DTEND;TZID=UTC:20260731T203000
DTSTAMP:20260422T003537
CREATED:20250507T070846Z
LAST-MODIFIED:20250507T070846Z
UID:10002066-1785517200-1785529800@www.bataviamoose682.org
SUMMARY:Fish Fry
DESCRIPTION:
URL:https://www.bataviamoose682.org/event/fish-fry/2026-07-31/
END:VEVENT
BEGIN:VEVENT
DTSTART;TZID=UTC:20260801T120000
DTEND;TZID=UTC:20260801T150000
DTSTAMP:20260422T003537
CREATED:20250507T071224Z
LAST-MODIFIED:20260303T184004Z
UID:10003375-1785585600-1785596400@www.bataviamoose682.org
SUMMARY:Family Lunch
DESCRIPTION:
URL:https://www.bataviamoose682.org/event/family-lunch/2026-08-01/
END:VEVENT
BEGIN:VEVENT
DTSTART;TZID=UTC:20260801T170000
DTEND;TZID=UTC:20260801T200000
DTSTAMP:20260422T003537
CREATED:20250507T071313Z
LAST-MODIFIED:20260303T184129Z
UID:10003637-1785603600-1785614400@www.bataviamoose682.org
SUMMARY:Saturday Dinner
DESCRIPTION:
URL:https://www.bataviamoose682.org/event/saturday-dinner/2026-08-01/
END:VEVENT
BEGIN:VEVENT
DTSTART;TZID=UTC:20260803T170000
DTEND;TZID=UTC:20260803T200000
DTSTAMP:20260422T003537
CREATED:20250821T051442Z
LAST-MODIFIED:20250821T051444Z
UID:10003113-1785776400-1785787200@www.bataviamoose682.org
SUMMARY:Comfort Food Monday
DESCRIPTION:
URL:https://www.bataviamoose682.org/event/comfort-food-monday-2/2026-08-03/
CATEGORIES:Monthly Meeting
END:VEVENT
BEGIN:VEVENT
DTSTART;TZID=UTC:20260803T190000
DTEND;TZID=UTC:20260803T200000
DTSTAMP:20260422T003537
CREATED:20250821T051547Z
LAST-MODIFIED:20250821T051549Z
UID:10003952-1785783600-1785787200@www.bataviamoose682.org
SUMMARY:Lodge General Meeting
DESCRIPTION:1st & 3rd Monday of each month @ 7:00 p.m. \n\nAll current members are welcome to attend.\nWe recommend each member attend a few meetings a year\nMeetings may include discussions regarding:\n\nBusiness conducted in the lodge\nRegional business\nUpcoming events & volunteer opportunities\nFundraiser ideas or proposals \n\n\nProper conduct & dress…\n\nNo alcohol allowed in meetings\nWhen in doubt\, don’t wear it\n\n\n\n 
URL:https://www.bataviamoose682.org/event/lodge-general-meeting-3-2/2026-08-03/
CATEGORIES:Monthly Meeting
END:VEVENT
BEGIN:VEVENT
DTSTART;TZID=UTC:20260804T170000
DTEND;TZID=UTC:20260804T200000
DTSTAMP:20260422T003537
CREATED:20250507T071042Z
LAST-MODIFIED:20250507T071042Z
UID:10002459-1785862800-1785873600@www.bataviamoose682.org
SUMMARY:Kitchen Open
DESCRIPTION:
URL:https://www.bataviamoose682.org/event/kitchen-open/2026-08-04/
END:VEVENT
BEGIN:VEVENT
DTSTART;TZID=UTC:20260804T180000
DTEND;TZID=UTC:20260804T200000
DTSTAMP:20260422T003537
CREATED:20250317T045829Z
LAST-MODIFIED:20250317T045829Z
UID:10000665-1785866400-1785873600@www.bataviamoose682.org
SUMMARY:Kubb
DESCRIPTION:Come out and learn the hottest new outdoor game…KUBB! \nPlease check out our Facebook group for changes in date due to bad weather. \nCurrent Moose members and their qualified guests are welcome to join in on the fun!
URL:https://www.bataviamoose682.org/event/kubb/2026-08-04/
END:VEVENT
BEGIN:VEVENT
DTSTART;TZID=UTC:20260804T193000
DTEND;TZID=UTC:20260804T194500
DTSTAMP:20260422T003537
CREATED:20250317T052710Z
LAST-MODIFIED:20250317T052734Z
UID:10001198-1785871800-1785872700@www.bataviamoose682.org
SUMMARY:Queen of Hearts
DESCRIPTION:QUEEN OF  HEARTS WEEKLY DRAWING \n\nMust be a Current Loyal order of the Moose member in good standing to play and will be asked to present membership card to claim prize.\ndrawings will be held on Tuesday evenings at 7:30 pm\nyou may purchase tickets as many tickets as you like\, any day of the week up until 7:00pm the night of the drawing\nplease sign your tickets as your name appears on your membership card\, include your phone number on ticket\nIf you will not be present for the drawing\, please indicate your envelope number selection on the ticket. if no number is indicated the next available number will be chosen for you by the board member present.\nall non-winning tickets will be disposed of after the drawing & tickets will begin to be sold for the next week’s drawing\nif the 2nd joker is drawn\, the game will restart and all monies remaining in the prize pool.\n\nWINNING PAYMENTS: \n\ngrand prize winner need not be present for full payout\nweekly winner must be present for cash payout\n\nPayout as follows \n\n70% of pot to the winner\n20% to the Moose Lodge\n10% to start the next game
URL:https://www.bataviamoose682.org/event/queen-of-hearts/2026-08-04/
LOCATION:Batavia Moose Lodge
END:VEVENT
BEGIN:VEVENT
DTSTART;TZID=UTC:20260805T170000
DTEND;TZID=UTC:20260805T200000
DTSTAMP:20260422T003537
CREATED:20250507T071042Z
LAST-MODIFIED:20250507T071042Z
UID:10002460-1785949200-1785960000@www.bataviamoose682.org
SUMMARY:Kitchen Open
DESCRIPTION:
URL:https://www.bataviamoose682.org/event/kitchen-open/2026-08-05/
END:VEVENT
BEGIN:VEVENT
DTSTART;TZID=UTC:20260806T170000
DTEND;TZID=UTC:20260806T200000
DTSTAMP:20260422T003537
CREATED:20250507T071042Z
LAST-MODIFIED:20250507T071042Z
UID:10002461-1786035600-1786046400@www.bataviamoose682.org
SUMMARY:Kitchen Open
DESCRIPTION:
URL:https://www.bataviamoose682.org/event/kitchen-open/2026-08-06/
END:VEVENT
BEGIN:VEVENT
DTSTART;TZID=UTC:20260806T184500
DTEND;TZID=UTC:20260806T194500
DTSTAMP:20260422T003537
CREATED:20240220T230013Z
LAST-MODIFIED:20250306T022809Z
UID:10000026-1786041900-1786045500@www.bataviamoose682.org
SUMMARY:Moose Rider's Monthly Meeting
DESCRIPTION:Join us for our monthly Batavia Moose Rider’s Meeting. \nThe Moose Riders are consistently among the fastest growing and most “active” of all Moose Lodge Activity Groups. $20 annual dues. \nMoose Riders is open to any current Moose member. No motorcycle required to join.
URL:https://www.bataviamoose682.org/event/moose-riders-monthly-meeting/2026-08-06/
LOCATION:Batavia Moose Lodge
CATEGORIES:Monthly Meeting
ATTACH;FMTTYPE=image/png:https://www.bataviamoose682.org/wp-content/uploads/2024/02/Untitled-design-21-e1708489780661.png
END:VEVENT
BEGIN:VEVENT
DTSTART;TZID=UTC:20260807T120000
DTEND;TZID=UTC:20260807T150000
DTSTAMP:20260422T003537
CREATED:20250507T070730Z
LAST-MODIFIED:20250507T070800Z
UID:10001805-1786104000-1786114800@www.bataviamoose682.org
SUMMARY:Family Fish Fry Lunch
DESCRIPTION:
URL:https://www.bataviamoose682.org/event/friday-fish-fry-lunch/2026-08-07/
END:VEVENT
BEGIN:VEVENT
DTSTART;TZID=UTC:20260807T170000
DTEND;TZID=UTC:20260807T203000
DTSTAMP:20260422T003537
CREATED:20250507T070846Z
LAST-MODIFIED:20250507T070846Z
UID:10002067-1786122000-1786134600@www.bataviamoose682.org
SUMMARY:Fish Fry
DESCRIPTION:
URL:https://www.bataviamoose682.org/event/fish-fry/2026-08-07/
END:VEVENT
BEGIN:VEVENT
DTSTART;TZID=UTC:20260807T190000
DTEND;TZID=UTC:20260807T210000
DTSTAMP:20260422T003537
CREATED:20260303T175656Z
LAST-MODIFIED:20260303T200039Z
UID:10004395-1786129200-1786136400@www.bataviamoose682.org
SUMMARY:Trivia
DESCRIPTION:Get your team together and join us for a fun evening of TRIVIA!
URL:https://www.bataviamoose682.org/event/trivia-2/2026-08-07/
ATTACH;FMTTYPE=image/png:https://www.bataviamoose682.org/wp-content/uploads/2025/03/Kitchen-Open-1.png
END:VEVENT
BEGIN:VEVENT
DTSTART;TZID=UTC:20260808T120000
DTEND;TZID=UTC:20260808T150000
DTSTAMP:20260422T003537
CREATED:20250507T071224Z
LAST-MODIFIED:20260303T184004Z
UID:10003376-1786190400-1786201200@www.bataviamoose682.org
SUMMARY:Family Lunch
DESCRIPTION:
URL:https://www.bataviamoose682.org/event/family-lunch/2026-08-08/
END:VEVENT
BEGIN:VEVENT
DTSTART;TZID=UTC:20260808T170000
DTEND;TZID=UTC:20260808T200000
DTSTAMP:20260422T003537
CREATED:20250507T071313Z
LAST-MODIFIED:20260303T184129Z
UID:10003638-1786208400-1786219200@www.bataviamoose682.org
SUMMARY:Saturday Dinner
DESCRIPTION:
URL:https://www.bataviamoose682.org/event/saturday-dinner/2026-08-08/
END:VEVENT
BEGIN:VEVENT
DTSTART;TZID=UTC:20260809T150000
DTEND;TZID=UTC:20260809T180000
DTSTAMP:20260422T003537
CREATED:20250821T073041Z
LAST-MODIFIED:20250821T073229Z
UID:10004111-1786287600-1786298400@www.bataviamoose682.org
SUMMARY:Pizza Sunday
DESCRIPTION:
URL:https://www.bataviamoose682.org/event/pizza-sunday-2/2026-08-09/
LOCATION:Batavia Moose Lodge
CATEGORIES:Monthly Special
ATTACH;FMTTYPE=image/png:https://www.bataviamoose682.org/wp-content/uploads/2025/08/Pizza-Sunday.png
END:VEVENT
BEGIN:VEVENT
DTSTART;TZID=UTC:20260810T170000
DTEND;TZID=UTC:20260810T200000
DTSTAMP:20260422T003537
CREATED:20250821T051442Z
LAST-MODIFIED:20250821T051444Z
UID:10003114-1786381200-1786392000@www.bataviamoose682.org
SUMMARY:Comfort Food Monday
DESCRIPTION:
URL:https://www.bataviamoose682.org/event/comfort-food-monday-2/2026-08-10/
CATEGORIES:Monthly Meeting
END:VEVENT
BEGIN:VEVENT
DTSTART;TZID=UTC:20260810T190000
DTEND;TZID=UTC:20260810T200000
DTSTAMP:20260422T003537
CREATED:20250306T033232Z
LAST-MODIFIED:20250306T033232Z
UID:10000207-1786388400-1786392000@www.bataviamoose682.org
SUMMARY:Moose Legion Meeting
DESCRIPTION:MOOSE LEGION\nTHE MEN WHO GET THINGS DONE \n\nAlso known as the Degree of Service. The purpose of this degree is to band together the loyal and devoted Moose members who desire to make further contributions to the humanitarian objectives of our Order while providing fun and entertaining activities for members and their families.  The official colors of the Moose Legion are red\, white and purple with purple being predominant. You will also see Moose Legionnaires sporting maroon blazers and informal vests. \n\nMeetings are the 2nd Monday of each month at 7:00pm \n$20 annual dues \nFellowship Degree of Honor  \n\nHonorary degree of the Loyal Order of Moose conferred only upon Moose Legionnaires who are recommended by the Fellows of their Lodge and approved by the Pilgrim Council. The official regalia of a Fellow is a French-blue blazer featuring the Fellowship logo\, coordinated necktie\, white shirt and black trousers. \n\nPilgrim Degree of Merit  \nHighest honor that can be bestowed upon a member of the Loyal Order of Moose. This Degree is conferred only in the House of God at Mooseheart and comes as a reward for extraordinary service to the Order. The official regalia of a Pilgrim is a gold blazer featuring the Pilgrim logo\, coordinated necktie\, white shirt and black trousers!
URL:https://www.bataviamoose682.org/event/moose-legion-meeting/2026-08-10/
CATEGORIES:Monthly Meeting
END:VEVENT
END:VCALENDAR