BEGIN:VCALENDAR
VERSION:2.0
PRODID:-//Batavia Moose #682 - ECPv6.15.20//NONSGML v1.0//EN
CALSCALE:GREGORIAN
METHOD:PUBLISH
X-WR-CALNAME:Batavia Moose #682
X-ORIGINAL-URL:https://www.bataviamoose682.org
X-WR-CALDESC:Events for Batavia Moose #682
REFRESH-INTERVAL;VALUE=DURATION:PT1H
X-Robots-Tag:noindex
X-PUBLISHED-TTL:PT1H
BEGIN:VTIMEZONE
TZID:UTC
BEGIN:STANDARD
TZOFFSETFROM:+0000
TZOFFSETTO:+0000
TZNAME:UTC
DTSTART:20260101T000000
END:STANDARD
END:VTIMEZONE
BEGIN:VEVENT
DTSTART;TZID=UTC:20270421T170000
DTEND;TZID=UTC:20270421T200000
DTSTAMP:20260425T031924
CREATED:20250507T071042Z
LAST-MODIFIED:20250507T071042Z
UID:10002571-1808326800-1808337600@www.bataviamoose682.org
SUMMARY:Kitchen Open
DESCRIPTION:
URL:https://www.bataviamoose682.org/event/kitchen-open/2027-04-21/
END:VEVENT
BEGIN:VEVENT
DTSTART;TZID=UTC:20270422T170000
DTEND;TZID=UTC:20270422T200000
DTSTAMP:20260425T031924
CREATED:20250507T071042Z
LAST-MODIFIED:20250507T071042Z
UID:10002572-1808413200-1808424000@www.bataviamoose682.org
SUMMARY:Kitchen Open
DESCRIPTION:
URL:https://www.bataviamoose682.org/event/kitchen-open/2027-04-22/
END:VEVENT
BEGIN:VEVENT
DTSTART;TZID=UTC:20270422T173000
DTEND;TZID=UTC:20270422T203000
DTSTAMP:20260425T031924
CREATED:20250821T052812Z
LAST-MODIFIED:20250821T052814Z
UID:10004079-1808415000-1808425800@www.bataviamoose682.org
SUMMARY:Famous Fried Chicken Dinner
DESCRIPTION:Join us for our Famous Fried Chicken Dinner. \n5:30-8:30pm or sold out \nopen to current Moose members & their qualified guests
URL:https://www.bataviamoose682.org/event/famous-fried-chicken-dinner-2-2-2/2027-04-22/
LOCATION:Batavia Moose Lodge
CATEGORIES:Monthly Special
ATTACH;FMTTYPE=image/png:https://www.bataviamoose682.org/wp-content/uploads/2025/03/Untitled-design-14.png
END:VEVENT
BEGIN:VEVENT
DTSTART;TZID=UTC:20270423T120000
DTEND;TZID=UTC:20270423T150000
DTSTAMP:20260425T031924
CREATED:20250507T070730Z
LAST-MODIFIED:20250507T070800Z
UID:10001842-1808481600-1808492400@www.bataviamoose682.org
SUMMARY:Family Fish Fry Lunch
DESCRIPTION:
URL:https://www.bataviamoose682.org/event/friday-fish-fry-lunch/2027-04-23/
END:VEVENT
BEGIN:VEVENT
DTSTART;TZID=UTC:20270423T170000
DTEND;TZID=UTC:20270423T203000
DTSTAMP:20260425T031924
CREATED:20250507T070846Z
LAST-MODIFIED:20250507T070846Z
UID:10002104-1808499600-1808512200@www.bataviamoose682.org
SUMMARY:Fish Fry
DESCRIPTION:
URL:https://www.bataviamoose682.org/event/fish-fry/2027-04-23/
END:VEVENT
BEGIN:VEVENT
DTSTART;TZID=UTC:20270424T120000
DTEND;TZID=UTC:20270424T150000
DTSTAMP:20260425T031924
CREATED:20250507T071224Z
LAST-MODIFIED:20260303T184004Z
UID:10003413-1808568000-1808578800@www.bataviamoose682.org
SUMMARY:Family Lunch
DESCRIPTION:
URL:https://www.bataviamoose682.org/event/family-lunch/2027-04-24/
END:VEVENT
BEGIN:VEVENT
DTSTART;TZID=UTC:20270424T170000
DTEND;TZID=UTC:20270424T200000
DTSTAMP:20260425T031924
CREATED:20250507T071313Z
LAST-MODIFIED:20260303T184129Z
UID:10003675-1808586000-1808596800@www.bataviamoose682.org
SUMMARY:Saturday Dinner
DESCRIPTION:
URL:https://www.bataviamoose682.org/event/saturday-dinner/2027-04-24/
END:VEVENT
BEGIN:VEVENT
DTSTART;TZID=UTC:20270426T170000
DTEND;TZID=UTC:20270426T200000
DTSTAMP:20260425T031924
CREATED:20250821T051442Z
LAST-MODIFIED:20250821T051444Z
UID:10003151-1808758800-1808769600@www.bataviamoose682.org
SUMMARY:Comfort Food Monday
DESCRIPTION:
URL:https://www.bataviamoose682.org/event/comfort-food-monday-2/2027-04-26/
CATEGORIES:Monthly Meeting
END:VEVENT
BEGIN:VEVENT
DTSTART;TZID=UTC:20270427T170000
DTEND;TZID=UTC:20270427T200000
DTSTAMP:20260425T031924
CREATED:20250507T071042Z
LAST-MODIFIED:20250507T071042Z
UID:10002573-1808845200-1808856000@www.bataviamoose682.org
SUMMARY:Kitchen Open
DESCRIPTION:
URL:https://www.bataviamoose682.org/event/kitchen-open/2027-04-27/
END:VEVENT
BEGIN:VEVENT
DTSTART;TZID=UTC:20270427T180000
DTEND;TZID=UTC:20270427T200000
DTSTAMP:20260425T031924
CREATED:20250317T045829Z
LAST-MODIFIED:20250317T045829Z
UID:10000703-1808848800-1808856000@www.bataviamoose682.org
SUMMARY:Kubb
DESCRIPTION:Come out and learn the hottest new outdoor game…KUBB! \nPlease check out our Facebook group for changes in date due to bad weather. \nCurrent Moose members and their qualified guests are welcome to join in on the fun!
URL:https://www.bataviamoose682.org/event/kubb/2027-04-27/
END:VEVENT
BEGIN:VEVENT
DTSTART;TZID=UTC:20270427T193000
DTEND;TZID=UTC:20270427T194500
DTSTAMP:20260425T031924
CREATED:20250317T052710Z
LAST-MODIFIED:20250317T052734Z
UID:10001236-1808854200-1808855100@www.bataviamoose682.org
SUMMARY:Queen of Hearts
DESCRIPTION:QUEEN OF  HEARTS WEEKLY DRAWING \n\nMust be a Current Loyal order of the Moose member in good standing to play and will be asked to present membership card to claim prize.\ndrawings will be held on Tuesday evenings at 7:30 pm\nyou may purchase tickets as many tickets as you like\, any day of the week up until 7:00pm the night of the drawing\nplease sign your tickets as your name appears on your membership card\, include your phone number on ticket\nIf you will not be present for the drawing\, please indicate your envelope number selection on the ticket. if no number is indicated the next available number will be chosen for you by the board member present.\nall non-winning tickets will be disposed of after the drawing & tickets will begin to be sold for the next week’s drawing\nif the 2nd joker is drawn\, the game will restart and all monies remaining in the prize pool.\n\nWINNING PAYMENTS: \n\ngrand prize winner need not be present for full payout\nweekly winner must be present for cash payout\n\nPayout as follows \n\n70% of pot to the winner\n20% to the Moose Lodge\n10% to start the next game
URL:https://www.bataviamoose682.org/event/queen-of-hearts/2027-04-27/
LOCATION:Batavia Moose Lodge
END:VEVENT
BEGIN:VEVENT
DTSTART;TZID=UTC:20270428T170000
DTEND;TZID=UTC:20270428T200000
DTSTAMP:20260425T031924
CREATED:20250507T071042Z
LAST-MODIFIED:20250507T071042Z
UID:10002574-1808931600-1808942400@www.bataviamoose682.org
SUMMARY:Kitchen Open
DESCRIPTION:
URL:https://www.bataviamoose682.org/event/kitchen-open/2027-04-28/
END:VEVENT
BEGIN:VEVENT
DTSTART;TZID=UTC:20270428T190000
DTEND;TZID=UTC:20270428T200000
DTSTAMP:20260425T031924
CREATED:20250317T043719Z
LAST-MODIFIED:20251209T071623Z
UID:10000488-1808938800-1808942400@www.bataviamoose682.org
SUMMARY:Line Dancing - Beginner/Intermediate Lesson
DESCRIPTION:
URL:https://www.bataviamoose682.org/event/line-dancing-beginner-intermediate-lesson/2027-04-28/
END:VEVENT
BEGIN:VEVENT
DTSTART;TZID=UTC:20270429T170000
DTEND;TZID=UTC:20270429T200000
DTSTAMP:20260425T031924
CREATED:20250507T071042Z
LAST-MODIFIED:20250507T071042Z
UID:10002575-1809018000-1809028800@www.bataviamoose682.org
SUMMARY:Kitchen Open
DESCRIPTION:
URL:https://www.bataviamoose682.org/event/kitchen-open/2027-04-29/
END:VEVENT
BEGIN:VEVENT
DTSTART;TZID=UTC:20270430T120000
DTEND;TZID=UTC:20270430T150000
DTSTAMP:20260425T031924
CREATED:20250507T070730Z
LAST-MODIFIED:20250507T070800Z
UID:10001843-1809086400-1809097200@www.bataviamoose682.org
SUMMARY:Family Fish Fry Lunch
DESCRIPTION:
URL:https://www.bataviamoose682.org/event/friday-fish-fry-lunch/2027-04-30/
END:VEVENT
BEGIN:VEVENT
DTSTART;TZID=UTC:20270430T170000
DTEND;TZID=UTC:20270430T203000
DTSTAMP:20260425T031924
CREATED:20250507T070846Z
LAST-MODIFIED:20250507T070846Z
UID:10002105-1809104400-1809117000@www.bataviamoose682.org
SUMMARY:Fish Fry
DESCRIPTION:
URL:https://www.bataviamoose682.org/event/fish-fry/2027-04-30/
END:VEVENT
BEGIN:VEVENT
DTSTART;TZID=UTC:20270501T120000
DTEND;TZID=UTC:20270501T150000
DTSTAMP:20260425T031924
CREATED:20250507T071224Z
LAST-MODIFIED:20260303T184004Z
UID:10003414-1809172800-1809183600@www.bataviamoose682.org
SUMMARY:Family Lunch
DESCRIPTION:
URL:https://www.bataviamoose682.org/event/family-lunch/2027-05-01/
END:VEVENT
BEGIN:VEVENT
DTSTART;TZID=UTC:20270501T170000
DTEND;TZID=UTC:20270501T200000
DTSTAMP:20260425T031924
CREATED:20250507T071313Z
LAST-MODIFIED:20260303T184129Z
UID:10003676-1809190800-1809201600@www.bataviamoose682.org
SUMMARY:Saturday Dinner
DESCRIPTION:
URL:https://www.bataviamoose682.org/event/saturday-dinner/2027-05-01/
END:VEVENT
BEGIN:VEVENT
DTSTART;TZID=UTC:20270503T170000
DTEND;TZID=UTC:20270503T200000
DTSTAMP:20260425T031924
CREATED:20250821T051442Z
LAST-MODIFIED:20250821T051444Z
UID:10003152-1809363600-1809374400@www.bataviamoose682.org
SUMMARY:Comfort Food Monday
DESCRIPTION:
URL:https://www.bataviamoose682.org/event/comfort-food-monday-2/2027-05-03/
CATEGORIES:Monthly Meeting
END:VEVENT
BEGIN:VEVENT
DTSTART;TZID=UTC:20270503T190000
DTEND;TZID=UTC:20270503T200000
DTSTAMP:20260425T031924
CREATED:20250821T051547Z
LAST-MODIFIED:20250821T051549Z
UID:10003961-1809370800-1809374400@www.bataviamoose682.org
SUMMARY:Lodge General Meeting
DESCRIPTION:1st & 3rd Monday of each month @ 7:00 p.m. \n\nAll current members are welcome to attend.\nWe recommend each member attend a few meetings a year\nMeetings may include discussions regarding:\n\nBusiness conducted in the lodge\nRegional business\nUpcoming events & volunteer opportunities\nFundraiser ideas or proposals \n\n\nProper conduct & dress…\n\nNo alcohol allowed in meetings\nWhen in doubt\, don’t wear it\n\n\n\n 
URL:https://www.bataviamoose682.org/event/lodge-general-meeting-3-2/2027-05-03/
CATEGORIES:Monthly Meeting
END:VEVENT
BEGIN:VEVENT
DTSTART;TZID=UTC:20270504T170000
DTEND;TZID=UTC:20270504T200000
DTSTAMP:20260425T031924
CREATED:20250507T071042Z
LAST-MODIFIED:20250507T071042Z
UID:10002576-1809450000-1809460800@www.bataviamoose682.org
SUMMARY:Kitchen Open
DESCRIPTION:
URL:https://www.bataviamoose682.org/event/kitchen-open/2027-05-04/
END:VEVENT
BEGIN:VEVENT
DTSTART;TZID=UTC:20270504T180000
DTEND;TZID=UTC:20270504T200000
DTSTAMP:20260425T031924
CREATED:20250317T045829Z
LAST-MODIFIED:20250317T045829Z
UID:10000704-1809453600-1809460800@www.bataviamoose682.org
SUMMARY:Kubb
DESCRIPTION:Come out and learn the hottest new outdoor game…KUBB! \nPlease check out our Facebook group for changes in date due to bad weather. \nCurrent Moose members and their qualified guests are welcome to join in on the fun!
URL:https://www.bataviamoose682.org/event/kubb/2027-05-04/
END:VEVENT
BEGIN:VEVENT
DTSTART;TZID=UTC:20270504T193000
DTEND;TZID=UTC:20270504T194500
DTSTAMP:20260425T031924
CREATED:20250317T052710Z
LAST-MODIFIED:20250317T052734Z
UID:10001237-1809459000-1809459900@www.bataviamoose682.org
SUMMARY:Queen of Hearts
DESCRIPTION:QUEEN OF  HEARTS WEEKLY DRAWING \n\nMust be a Current Loyal order of the Moose member in good standing to play and will be asked to present membership card to claim prize.\ndrawings will be held on Tuesday evenings at 7:30 pm\nyou may purchase tickets as many tickets as you like\, any day of the week up until 7:00pm the night of the drawing\nplease sign your tickets as your name appears on your membership card\, include your phone number on ticket\nIf you will not be present for the drawing\, please indicate your envelope number selection on the ticket. if no number is indicated the next available number will be chosen for you by the board member present.\nall non-winning tickets will be disposed of after the drawing & tickets will begin to be sold for the next week’s drawing\nif the 2nd joker is drawn\, the game will restart and all monies remaining in the prize pool.\n\nWINNING PAYMENTS: \n\ngrand prize winner need not be present for full payout\nweekly winner must be present for cash payout\n\nPayout as follows \n\n70% of pot to the winner\n20% to the Moose Lodge\n10% to start the next game
URL:https://www.bataviamoose682.org/event/queen-of-hearts/2027-05-04/
LOCATION:Batavia Moose Lodge
END:VEVENT
BEGIN:VEVENT
DTSTART;TZID=UTC:20270505T170000
DTEND;TZID=UTC:20270505T200000
DTSTAMP:20260425T031924
CREATED:20250507T071042Z
LAST-MODIFIED:20250507T071042Z
UID:10002577-1809536400-1809547200@www.bataviamoose682.org
SUMMARY:Kitchen Open
DESCRIPTION:
URL:https://www.bataviamoose682.org/event/kitchen-open/2027-05-05/
END:VEVENT
BEGIN:VEVENT
DTSTART;TZID=UTC:20270506T170000
DTEND;TZID=UTC:20270506T200000
DTSTAMP:20260425T031924
CREATED:20250507T071042Z
LAST-MODIFIED:20250507T071042Z
UID:10002578-1809622800-1809633600@www.bataviamoose682.org
SUMMARY:Kitchen Open
DESCRIPTION:
URL:https://www.bataviamoose682.org/event/kitchen-open/2027-05-06/
END:VEVENT
BEGIN:VEVENT
DTSTART;TZID=UTC:20270506T184500
DTEND;TZID=UTC:20270506T194500
DTSTAMP:20260425T031924
CREATED:20240220T230013Z
LAST-MODIFIED:20250306T022809Z
UID:10000035-1809629100-1809632700@www.bataviamoose682.org
SUMMARY:Moose Rider's Monthly Meeting
DESCRIPTION:Join us for our monthly Batavia Moose Rider’s Meeting. \nThe Moose Riders are consistently among the fastest growing and most “active” of all Moose Lodge Activity Groups. $20 annual dues. \nMoose Riders is open to any current Moose member. No motorcycle required to join.
URL:https://www.bataviamoose682.org/event/moose-riders-monthly-meeting/2027-05-06/
LOCATION:Batavia Moose Lodge
CATEGORIES:Monthly Meeting
ATTACH;FMTTYPE=image/png:https://www.bataviamoose682.org/wp-content/uploads/2024/02/Untitled-design-21-e1708489780661.png
END:VEVENT
BEGIN:VEVENT
DTSTART;TZID=UTC:20270507T120000
DTEND;TZID=UTC:20270507T150000
DTSTAMP:20260425T031924
CREATED:20250507T070730Z
LAST-MODIFIED:20250507T070800Z
UID:10001844-1809691200-1809702000@www.bataviamoose682.org
SUMMARY:Family Fish Fry Lunch
DESCRIPTION:
URL:https://www.bataviamoose682.org/event/friday-fish-fry-lunch/2027-05-07/
END:VEVENT
BEGIN:VEVENT
DTSTART;TZID=UTC:20270507T170000
DTEND;TZID=UTC:20270507T203000
DTSTAMP:20260425T031924
CREATED:20250507T070846Z
LAST-MODIFIED:20250507T070846Z
UID:10002106-1809709200-1809721800@www.bataviamoose682.org
SUMMARY:Fish Fry
DESCRIPTION:
URL:https://www.bataviamoose682.org/event/fish-fry/2027-05-07/
END:VEVENT
BEGIN:VEVENT
DTSTART;TZID=UTC:20270507T190000
DTEND;TZID=UTC:20270507T210000
DTSTAMP:20260425T031924
CREATED:20260303T175656Z
LAST-MODIFIED:20260303T200039Z
UID:10004403-1809716400-1809723600@www.bataviamoose682.org
SUMMARY:Trivia
DESCRIPTION:Get your team together and join us for a fun evening of TRIVIA!
URL:https://www.bataviamoose682.org/event/trivia-2/2027-05-07/
ATTACH;FMTTYPE=image/png:https://www.bataviamoose682.org/wp-content/uploads/2025/03/Kitchen-Open-1.png
END:VEVENT
BEGIN:VEVENT
DTSTART;TZID=UTC:20270508T120000
DTEND;TZID=UTC:20270508T150000
DTSTAMP:20260425T031924
CREATED:20250507T071224Z
LAST-MODIFIED:20260303T184004Z
UID:10003415-1809777600-1809788400@www.bataviamoose682.org
SUMMARY:Family Lunch
DESCRIPTION:
URL:https://www.bataviamoose682.org/event/family-lunch/2027-05-08/
END:VEVENT
END:VCALENDAR