BEGIN:VCALENDAR
VERSION:2.0
PRODID:-//Batavia Moose #682 - ECPv6.15.20//NONSGML v1.0//EN
CALSCALE:GREGORIAN
METHOD:PUBLISH
X-WR-CALNAME:Batavia Moose #682
X-ORIGINAL-URL:https://www.bataviamoose682.org
X-WR-CALDESC:Events for Batavia Moose #682
REFRESH-INTERVAL;VALUE=DURATION:PT1H
X-Robots-Tag:noindex
X-PUBLISHED-TTL:PT1H
BEGIN:VTIMEZONE
TZID:UTC
BEGIN:STANDARD
TZOFFSETFROM:+0000
TZOFFSETTO:+0000
TZNAME:UTC
DTSTART:20250101T000000
END:STANDARD
END:VTIMEZONE
BEGIN:VEVENT
DTSTART;TZID=UTC:20260513T170000
DTEND;TZID=UTC:20260513T200000
DTSTAMP:20260421T180332
CREATED:20250507T071042Z
LAST-MODIFIED:20250507T071042Z
UID:10002424-1778691600-1778702400@www.bataviamoose682.org
SUMMARY:Kitchen Open
DESCRIPTION:
URL:https://www.bataviamoose682.org/event/kitchen-open/2026-05-13/
END:VEVENT
BEGIN:VEVENT
DTSTART;TZID=UTC:20260513T190000
DTEND;TZID=UTC:20260513T203000
DTSTAMP:20260421T180332
CREATED:20250317T043634Z
LAST-MODIFIED:20250317T043634Z
UID:10000416-1778698800-1778704200@www.bataviamoose682.org
SUMMARY:Line Dancing - Beginners Lesson
DESCRIPTION:
URL:https://www.bataviamoose682.org/event/line-dancing-beginners-lesson/2026-05-13/
END:VEVENT
BEGIN:VEVENT
DTSTART;TZID=UTC:20260514T170000
DTEND;TZID=UTC:20260514T200000
DTSTAMP:20260421T180332
CREATED:20250507T071042Z
LAST-MODIFIED:20250507T071042Z
UID:10002425-1778778000-1778788800@www.bataviamoose682.org
SUMMARY:Kitchen Open
DESCRIPTION:
URL:https://www.bataviamoose682.org/event/kitchen-open/2026-05-14/
END:VEVENT
BEGIN:VEVENT
DTSTART;TZID=UTC:20260514T180000
DTEND;TZID=UTC:20260514T190000
DTSTAMP:20260421T180332
CREATED:20250507T064303Z
LAST-MODIFIED:20250507T064303Z
UID:10001685-1778781600-1778785200@www.bataviamoose682.org
SUMMARY:Rod & Gun Monthly Meeting
DESCRIPTION:
URL:https://www.bataviamoose682.org/event/rod-gun-monthly-meeting/2026-05-14/
CATEGORIES:Monthly Meeting
END:VEVENT
BEGIN:VEVENT
DTSTART;TZID=UTC:20260515T120000
DTEND;TZID=UTC:20260515T150000
DTSTAMP:20260421T180332
CREATED:20250507T070730Z
LAST-MODIFIED:20250507T070800Z
UID:10001793-1778846400-1778857200@www.bataviamoose682.org
SUMMARY:Family Fish Fry Lunch
DESCRIPTION:
URL:https://www.bataviamoose682.org/event/friday-fish-fry-lunch/2026-05-15/
END:VEVENT
BEGIN:VEVENT
DTSTART;TZID=UTC:20260515T170000
DTEND;TZID=UTC:20260515T203000
DTSTAMP:20260421T180332
CREATED:20250507T070846Z
LAST-MODIFIED:20250507T070846Z
UID:10002055-1778864400-1778877000@www.bataviamoose682.org
SUMMARY:Fish Fry
DESCRIPTION:
URL:https://www.bataviamoose682.org/event/fish-fry/2026-05-15/
END:VEVENT
BEGIN:VEVENT
DTSTART;TZID=UTC:20260516T120000
DTEND;TZID=UTC:20260516T150000
DTSTAMP:20260421T180332
CREATED:20250507T071224Z
LAST-MODIFIED:20260303T184004Z
UID:10003364-1778932800-1778943600@www.bataviamoose682.org
SUMMARY:Family Lunch
DESCRIPTION:
URL:https://www.bataviamoose682.org/event/family-lunch/2026-05-16/
END:VEVENT
BEGIN:VEVENT
DTSTART;TZID=UTC:20260516T170000
DTEND;TZID=UTC:20260516T200000
DTSTAMP:20260421T180332
CREATED:20250507T071313Z
LAST-MODIFIED:20260303T184129Z
UID:10003626-1778950800-1778961600@www.bataviamoose682.org
SUMMARY:Saturday Dinner
DESCRIPTION:
URL:https://www.bataviamoose682.org/event/saturday-dinner/2026-05-16/
END:VEVENT
BEGIN:VEVENT
DTSTART;TZID=UTC:20260516T173000
DTEND;TZID=UTC:20260516T200000
DTSTAMP:20260421T180332
CREATED:20250821T064936Z
LAST-MODIFIED:20250821T065109Z
UID:10004088-1778952600-1778961600@www.bataviamoose682.org
SUMMARY:Grilled Steak Night & Rockstar Bingo
DESCRIPTION:Seriously Fun Saturday Evening!\nGrilled Steak Dinner 5:30 pm – 8:00 pm\nRockstar Bingo 7 pm \nRockstar Bingo is like regular Bingo except with groovy music instead of numbers. Guaranteed you will be singing along.\nNo cost to play. Great prizes for winners. \nThis event is sponsored by the Batavia Moose Legion and is intended for Lodge members and their qualified guests. \nThis particular event will be in the social quarters only due to a private event scheduled in the back hall. \nRockstar Bingo is run by Seriously Fun Events.
URL:https://www.bataviamoose682.org/event/grilled-steak-night-rockstar-bingo/2026-05-16/
CATEGORIES:Monthly Special
ATTACH;FMTTYPE=image/png:https://www.bataviamoose682.org/wp-content/uploads/2025/03/Steak-Bingo.png
END:VEVENT
BEGIN:VEVENT
DTSTART;TZID=UTC:20260518T170000
DTEND;TZID=UTC:20260518T200000
DTSTAMP:20260421T180332
CREATED:20250821T051442Z
LAST-MODIFIED:20250821T051444Z
UID:10003102-1779123600-1779134400@www.bataviamoose682.org
SUMMARY:Comfort Food Monday
DESCRIPTION:
URL:https://www.bataviamoose682.org/event/comfort-food-monday-2/2026-05-18/
CATEGORIES:Monthly Meeting
END:VEVENT
BEGIN:VEVENT
DTSTART;TZID=UTC:20260518T190000
DTEND;TZID=UTC:20260518T200000
DTSTAMP:20260421T180332
CREATED:20250306T033105Z
LAST-MODIFIED:20250306T033306Z
UID:10000144-1779130800-1779134400@www.bataviamoose682.org
SUMMARY:Lodge General Meeting
DESCRIPTION:1st & 3rd Monday of each month @ 7:00 p.m. \n\nAll current members are welcome to attend.\nWe recommend each member attend a few meetings a year\nMeetings may include discussions regarding:\n\nBusiness conducted in the lodge\nRegional business\nUpcoming events & volunteer opportunities\nFundraiser ideas or proposals \n\n\nProper conduct & dress…\n\nNo alcohol allowed in meetings\nWhen in doubt\, don’t wear it
URL:https://www.bataviamoose682.org/event/lodge-general-meeting-2/2026-05-18/
CATEGORIES:Monthly Meeting
END:VEVENT
BEGIN:VEVENT
DTSTART;TZID=UTC:20260519T170000
DTEND;TZID=UTC:20260519T200000
DTSTAMP:20260421T180332
CREATED:20250507T071042Z
LAST-MODIFIED:20250507T071042Z
UID:10002426-1779210000-1779220800@www.bataviamoose682.org
SUMMARY:Kitchen Open
DESCRIPTION:
URL:https://www.bataviamoose682.org/event/kitchen-open/2026-05-19/
END:VEVENT
BEGIN:VEVENT
DTSTART;TZID=UTC:20260519T180000
DTEND;TZID=UTC:20260519T200000
DTSTAMP:20260421T180332
CREATED:20250317T045829Z
LAST-MODIFIED:20250317T045829Z
UID:10000654-1779213600-1779220800@www.bataviamoose682.org
SUMMARY:Kubb
DESCRIPTION:Come out and learn the hottest new outdoor game…KUBB! \nPlease check out our Facebook group for changes in date due to bad weather. \nCurrent Moose members and their qualified guests are welcome to join in on the fun!
URL:https://www.bataviamoose682.org/event/kubb/2026-05-19/
END:VEVENT
BEGIN:VEVENT
DTSTART;TZID=UTC:20260519T193000
DTEND;TZID=UTC:20260519T194500
DTSTAMP:20260421T180332
CREATED:20250317T052710Z
LAST-MODIFIED:20250317T052734Z
UID:10001187-1779219000-1779219900@www.bataviamoose682.org
SUMMARY:Queen of Hearts
DESCRIPTION:QUEEN OF  HEARTS WEEKLY DRAWING \n\nMust be a Current Loyal order of the Moose member in good standing to play and will be asked to present membership card to claim prize.\ndrawings will be held on Tuesday evenings at 7:30 pm\nyou may purchase tickets as many tickets as you like\, any day of the week up until 7:00pm the night of the drawing\nplease sign your tickets as your name appears on your membership card\, include your phone number on ticket\nIf you will not be present for the drawing\, please indicate your envelope number selection on the ticket. if no number is indicated the next available number will be chosen for you by the board member present.\nall non-winning tickets will be disposed of after the drawing & tickets will begin to be sold for the next week’s drawing\nif the 2nd joker is drawn\, the game will restart and all monies remaining in the prize pool.\n\nWINNING PAYMENTS: \n\ngrand prize winner need not be present for full payout\nweekly winner must be present for cash payout\n\nPayout as follows \n\n70% of pot to the winner\n20% to the Moose Lodge\n10% to start the next game
URL:https://www.bataviamoose682.org/event/queen-of-hearts/2026-05-19/
LOCATION:Batavia Moose Lodge
END:VEVENT
BEGIN:VEVENT
DTSTART;TZID=UTC:20260520T170000
DTEND;TZID=UTC:20260520T200000
DTSTAMP:20260421T180332
CREATED:20250507T071042Z
LAST-MODIFIED:20250507T071042Z
UID:10002427-1779296400-1779307200@www.bataviamoose682.org
SUMMARY:Kitchen Open
DESCRIPTION:
URL:https://www.bataviamoose682.org/event/kitchen-open/2026-05-20/
END:VEVENT
BEGIN:VEVENT
DTSTART;TZID=UTC:20260521T170000
DTEND;TZID=UTC:20260521T200000
DTSTAMP:20260421T180332
CREATED:20250507T071042Z
LAST-MODIFIED:20250507T071042Z
UID:10002428-1779382800-1779393600@www.bataviamoose682.org
SUMMARY:Kitchen Open
DESCRIPTION:
URL:https://www.bataviamoose682.org/event/kitchen-open/2026-05-21/
END:VEVENT
BEGIN:VEVENT
DTSTART;TZID=UTC:20260521T183000
DTEND;TZID=UTC:20260521T190000
DTSTAMP:20260421T180332
CREATED:20250317T044339Z
LAST-MODIFIED:20250317T044339Z
UID:10000538-1779388200-1779390000@www.bataviamoose682.org
SUMMARY:Women of the Moose Monthly Meeting
DESCRIPTION:Women of the Moose unite for our monthly meeting.\nNot a WOTM? Ask us and we can get you more information.
URL:https://www.bataviamoose682.org/event/women-of-the-moose-monthly-meeting/2026-05-21/
LOCATION:Batavia Moose Lodge
CATEGORIES:Monthly Meeting
ATTACH;FMTTYPE=image/png:https://www.bataviamoose682.org/wp-content/uploads/2022/03/KLKE52091.png
END:VEVENT
BEGIN:VEVENT
DTSTART;TZID=UTC:20260522T120000
DTEND;TZID=UTC:20260522T150000
DTSTAMP:20260421T180332
CREATED:20250507T070730Z
LAST-MODIFIED:20250507T070800Z
UID:10001794-1779451200-1779462000@www.bataviamoose682.org
SUMMARY:Family Fish Fry Lunch
DESCRIPTION:
URL:https://www.bataviamoose682.org/event/friday-fish-fry-lunch/2026-05-22/
END:VEVENT
BEGIN:VEVENT
DTSTART;TZID=UTC:20260522T170000
DTEND;TZID=UTC:20260522T203000
DTSTAMP:20260421T180332
CREATED:20250507T070846Z
LAST-MODIFIED:20250507T070846Z
UID:10002056-1779469200-1779481800@www.bataviamoose682.org
SUMMARY:Fish Fry
DESCRIPTION:
URL:https://www.bataviamoose682.org/event/fish-fry/2026-05-22/
END:VEVENT
BEGIN:VEVENT
DTSTART;TZID=UTC:20260523T120000
DTEND;TZID=UTC:20260523T150000
DTSTAMP:20260421T180332
CREATED:20250507T071224Z
LAST-MODIFIED:20260303T184004Z
UID:10003365-1779537600-1779548400@www.bataviamoose682.org
SUMMARY:Family Lunch
DESCRIPTION:
URL:https://www.bataviamoose682.org/event/family-lunch/2026-05-23/
END:VEVENT
BEGIN:VEVENT
DTSTART;TZID=UTC:20260523T170000
DTEND;TZID=UTC:20260523T200000
DTSTAMP:20260421T180332
CREATED:20250507T071313Z
LAST-MODIFIED:20260303T184129Z
UID:10003627-1779555600-1779566400@www.bataviamoose682.org
SUMMARY:Saturday Dinner
DESCRIPTION:
URL:https://www.bataviamoose682.org/event/saturday-dinner/2026-05-23/
END:VEVENT
BEGIN:VEVENT
DTSTART;TZID=UTC:20260525T170000
DTEND;TZID=UTC:20260525T200000
DTSTAMP:20260421T180332
CREATED:20250821T051442Z
LAST-MODIFIED:20250821T051444Z
UID:10003103-1779728400-1779739200@www.bataviamoose682.org
SUMMARY:Comfort Food Monday
DESCRIPTION:
URL:https://www.bataviamoose682.org/event/comfort-food-monday-2/2026-05-25/
CATEGORIES:Monthly Meeting
END:VEVENT
BEGIN:VEVENT
DTSTART;TZID=UTC:20260526T170000
DTEND;TZID=UTC:20260526T200000
DTSTAMP:20260421T180332
CREATED:20250507T071042Z
LAST-MODIFIED:20250507T071042Z
UID:10002429-1779814800-1779825600@www.bataviamoose682.org
SUMMARY:Kitchen Open
DESCRIPTION:
URL:https://www.bataviamoose682.org/event/kitchen-open/2026-05-26/
END:VEVENT
BEGIN:VEVENT
DTSTART;TZID=UTC:20260526T180000
DTEND;TZID=UTC:20260526T200000
DTSTAMP:20260421T180332
CREATED:20250317T045829Z
LAST-MODIFIED:20250317T045829Z
UID:10000655-1779818400-1779825600@www.bataviamoose682.org
SUMMARY:Kubb
DESCRIPTION:Come out and learn the hottest new outdoor game…KUBB! \nPlease check out our Facebook group for changes in date due to bad weather. \nCurrent Moose members and their qualified guests are welcome to join in on the fun!
URL:https://www.bataviamoose682.org/event/kubb/2026-05-26/
END:VEVENT
BEGIN:VEVENT
DTSTART;TZID=UTC:20260526T193000
DTEND;TZID=UTC:20260526T194500
DTSTAMP:20260421T180332
CREATED:20250317T052710Z
LAST-MODIFIED:20250317T052734Z
UID:10001188-1779823800-1779824700@www.bataviamoose682.org
SUMMARY:Queen of Hearts
DESCRIPTION:QUEEN OF  HEARTS WEEKLY DRAWING \n\nMust be a Current Loyal order of the Moose member in good standing to play and will be asked to present membership card to claim prize.\ndrawings will be held on Tuesday evenings at 7:30 pm\nyou may purchase tickets as many tickets as you like\, any day of the week up until 7:00pm the night of the drawing\nplease sign your tickets as your name appears on your membership card\, include your phone number on ticket\nIf you will not be present for the drawing\, please indicate your envelope number selection on the ticket. if no number is indicated the next available number will be chosen for you by the board member present.\nall non-winning tickets will be disposed of after the drawing & tickets will begin to be sold for the next week’s drawing\nif the 2nd joker is drawn\, the game will restart and all monies remaining in the prize pool.\n\nWINNING PAYMENTS: \n\ngrand prize winner need not be present for full payout\nweekly winner must be present for cash payout\n\nPayout as follows \n\n70% of pot to the winner\n20% to the Moose Lodge\n10% to start the next game
URL:https://www.bataviamoose682.org/event/queen-of-hearts/2026-05-26/
LOCATION:Batavia Moose Lodge
END:VEVENT
BEGIN:VEVENT
DTSTART;TZID=UTC:20260527T170000
DTEND;TZID=UTC:20260527T200000
DTSTAMP:20260421T180332
CREATED:20250507T071042Z
LAST-MODIFIED:20250507T071042Z
UID:10002430-1779901200-1779912000@www.bataviamoose682.org
SUMMARY:Kitchen Open
DESCRIPTION:
URL:https://www.bataviamoose682.org/event/kitchen-open/2026-05-27/
END:VEVENT
BEGIN:VEVENT
DTSTART;TZID=UTC:20260527T190000
DTEND;TZID=UTC:20260527T200000
DTSTAMP:20260421T180332
CREATED:20250317T043719Z
LAST-MODIFIED:20251209T071623Z
UID:10000477-1779908400-1779912000@www.bataviamoose682.org
SUMMARY:Line Dancing - Beginner/Intermediate Lesson
DESCRIPTION:
URL:https://www.bataviamoose682.org/event/line-dancing-beginner-intermediate-lesson/2026-05-27/
END:VEVENT
BEGIN:VEVENT
DTSTART;TZID=UTC:20260528T170000
DTEND;TZID=UTC:20260528T200000
DTSTAMP:20260421T180332
CREATED:20250507T071042Z
LAST-MODIFIED:20250507T071042Z
UID:10002431-1779987600-1779998400@www.bataviamoose682.org
SUMMARY:Kitchen Open
DESCRIPTION:
URL:https://www.bataviamoose682.org/event/kitchen-open/2026-05-28/
END:VEVENT
BEGIN:VEVENT
DTSTART;TZID=UTC:20260528T173000
DTEND;TZID=UTC:20260528T203000
DTSTAMP:20260421T180332
CREATED:20250821T052812Z
LAST-MODIFIED:20250821T052814Z
UID:10004068-1779989400-1780000200@www.bataviamoose682.org
SUMMARY:Famous Fried Chicken Dinner
DESCRIPTION:Join us for our Famous Fried Chicken Dinner. \n5:30-8:30pm or sold out \nopen to current Moose members & their qualified guests
URL:https://www.bataviamoose682.org/event/famous-fried-chicken-dinner-2-2-2/2026-05-28/
LOCATION:Batavia Moose Lodge
CATEGORIES:Monthly Special
ATTACH;FMTTYPE=image/png:https://www.bataviamoose682.org/wp-content/uploads/2025/03/Untitled-design-14.png
END:VEVENT
BEGIN:VEVENT
DTSTART;TZID=UTC:20260529T120000
DTEND;TZID=UTC:20260529T150000
DTSTAMP:20260421T180332
CREATED:20250507T070730Z
LAST-MODIFIED:20250507T070800Z
UID:10001795-1780056000-1780066800@www.bataviamoose682.org
SUMMARY:Family Fish Fry Lunch
DESCRIPTION:
URL:https://www.bataviamoose682.org/event/friday-fish-fry-lunch/2026-05-29/
END:VEVENT
END:VCALENDAR