BEGIN:VCALENDAR
VERSION:2.0
PRODID:-//Batavia Moose #682 - ECPv6.15.20//NONSGML v1.0//EN
CALSCALE:GREGORIAN
METHOD:PUBLISH
X-WR-CALNAME:Batavia Moose #682
X-ORIGINAL-URL:https://www.bataviamoose682.org
X-WR-CALDESC:Events for Batavia Moose #682
REFRESH-INTERVAL;VALUE=DURATION:PT1H
X-Robots-Tag:noindex
X-PUBLISHED-TTL:PT1H
BEGIN:VTIMEZONE
TZID:UTC
BEGIN:STANDARD
TZOFFSETFROM:+0000
TZOFFSETTO:+0000
TZNAME:UTC
DTSTART:20240101T000000
END:STANDARD
END:VTIMEZONE
BEGIN:VEVENT
DTSTART;TZID=UTC:20251024T120000
DTEND;TZID=UTC:20251024T150000
DTSTAMP:20260421T231248
CREATED:20250507T070730Z
LAST-MODIFIED:20250507T070800Z
UID:10001764-1761307200-1761318000@www.bataviamoose682.org
SUMMARY:Family Fish Fry Lunch
DESCRIPTION:
URL:https://www.bataviamoose682.org/event/friday-fish-fry-lunch/2025-10-24/
END:VEVENT
BEGIN:VEVENT
DTSTART;TZID=UTC:20251023T173000
DTEND;TZID=UTC:20251023T203000
DTSTAMP:20260421T231248
CREATED:20250820T045514Z
LAST-MODIFIED:20250821T051140Z
UID:10003850-1761240600-1761251400@www.bataviamoose682.org
SUMMARY:Famous Fried Chicken Dinner
DESCRIPTION:Join us for our Famous Fried Chicken Dinner. \n5:30-8:30pm or sold out \nopen to current Moose members & their qualified guests
URL:https://www.bataviamoose682.org/event/famous-fried-chicken-dinner-2/2025-10-23/
LOCATION:Batavia Moose Lodge
CATEGORIES:Monthly Special
ATTACH;FMTTYPE=image/png:https://www.bataviamoose682.org/wp-content/uploads/2025/03/Untitled-design-14.png
END:VEVENT
BEGIN:VEVENT
DTSTART;TZID=UTC:20251022T190000
DTEND;TZID=UTC:20251022T200000
DTSTAMP:20260421T231248
CREATED:20250317T043719Z
LAST-MODIFIED:20251209T071623Z
UID:10000470-1761159600-1761163200@www.bataviamoose682.org
SUMMARY:Line Dancing - Beginner/Intermediate Lesson
DESCRIPTION:
URL:https://www.bataviamoose682.org/event/line-dancing-beginner-intermediate-lesson/2025-10-22/
END:VEVENT
BEGIN:VEVENT
DTSTART;TZID=UTC:20251022T170000
DTEND;TZID=UTC:20251022T200000
DTSTAMP:20260421T231248
CREATED:20250507T071042Z
LAST-MODIFIED:20250507T071042Z
UID:10002337-1761152400-1761163200@www.bataviamoose682.org
SUMMARY:Kitchen Open
DESCRIPTION:
URL:https://www.bataviamoose682.org/event/kitchen-open/2025-10-22/
END:VEVENT
BEGIN:VEVENT
DTSTART;TZID=UTC:20251021T193000
DTEND;TZID=UTC:20251021T194500
DTSTAMP:20260421T231248
CREATED:20250317T052710Z
LAST-MODIFIED:20250317T052734Z
UID:10001157-1761075000-1761075900@www.bataviamoose682.org
SUMMARY:Queen of Hearts
DESCRIPTION:QUEEN OF  HEARTS WEEKLY DRAWING \n\nMust be a Current Loyal order of the Moose member in good standing to play and will be asked to present membership card to claim prize.\ndrawings will be held on Tuesday evenings at 7:30 pm\nyou may purchase tickets as many tickets as you like\, any day of the week up until 7:00pm the night of the drawing\nplease sign your tickets as your name appears on your membership card\, include your phone number on ticket\nIf you will not be present for the drawing\, please indicate your envelope number selection on the ticket. if no number is indicated the next available number will be chosen for you by the board member present.\nall non-winning tickets will be disposed of after the drawing & tickets will begin to be sold for the next week’s drawing\nif the 2nd joker is drawn\, the game will restart and all monies remaining in the prize pool.\n\nWINNING PAYMENTS: \n\ngrand prize winner need not be present for full payout\nweekly winner must be present for cash payout\n\nPayout as follows \n\n70% of pot to the winner\n20% to the Moose Lodge\n10% to start the next game
URL:https://www.bataviamoose682.org/event/queen-of-hearts/2025-10-21/
LOCATION:Batavia Moose Lodge
END:VEVENT
BEGIN:VEVENT
DTSTART;TZID=UTC:20251021T180000
DTEND;TZID=UTC:20251021T200000
DTSTAMP:20260421T231248
CREATED:20250317T045829Z
LAST-MODIFIED:20250317T045829Z
UID:10000624-1761069600-1761076800@www.bataviamoose682.org
SUMMARY:Kubb
DESCRIPTION:Come out and learn the hottest new outdoor game…KUBB! \nPlease check out our Facebook group for changes in date due to bad weather. \nCurrent Moose members and their qualified guests are welcome to join in on the fun!
URL:https://www.bataviamoose682.org/event/kubb/2025-10-21/
END:VEVENT
BEGIN:VEVENT
DTSTART;TZID=UTC:20251021T170000
DTEND;TZID=UTC:20251021T200000
DTSTAMP:20260421T231248
CREATED:20250507T071042Z
LAST-MODIFIED:20250507T071042Z
UID:10002336-1761066000-1761076800@www.bataviamoose682.org
SUMMARY:Kitchen Open
DESCRIPTION:
URL:https://www.bataviamoose682.org/event/kitchen-open/2025-10-21/
END:VEVENT
BEGIN:VEVENT
DTSTART;TZID=UTC:20251020T190000
DTEND;TZID=UTC:20251020T200000
DTSTAMP:20260421T231248
CREATED:20250306T033105Z
LAST-MODIFIED:20250306T033306Z
UID:10000137-1760986800-1760990400@www.bataviamoose682.org
SUMMARY:Lodge General Meeting
DESCRIPTION:1st & 3rd Monday of each month @ 7:00 p.m. \n\nAll current members are welcome to attend.\nWe recommend each member attend a few meetings a year\nMeetings may include discussions regarding:\n\nBusiness conducted in the lodge\nRegional business\nUpcoming events & volunteer opportunities\nFundraiser ideas or proposals \n\n\nProper conduct & dress…\n\nNo alcohol allowed in meetings\nWhen in doubt\, don’t wear it
URL:https://www.bataviamoose682.org/event/lodge-general-meeting-2/2025-10-20/
CATEGORIES:Monthly Meeting
END:VEVENT
BEGIN:VEVENT
DTSTART;TZID=UTC:20251020T170000
DTEND;TZID=UTC:20251020T200000
DTSTAMP:20260421T231248
CREATED:20250821T051442Z
LAST-MODIFIED:20250821T051444Z
UID:10003072-1760979600-1760990400@www.bataviamoose682.org
SUMMARY:Comfort Food Monday
DESCRIPTION:
URL:https://www.bataviamoose682.org/event/comfort-food-monday-2/2025-10-20/
CATEGORIES:Monthly Meeting
END:VEVENT
BEGIN:VEVENT
DTSTART;TZID=UTC:20251019T130000
DTEND;TZID=UTC:20251019T140000
DTSTAMP:20260421T231248
CREATED:20251004T195108Z
LAST-MODIFIED:20251004T195108Z
UID:10004156-1760878800-1760882400@www.bataviamoose682.org
SUMMARY:District 2 Meeting @ BATAVIA Lodge
DESCRIPTION:
URL:https://www.bataviamoose682.org/event/district-2-meeting-batavia-lodge/
LOCATION:Batavia Moose Lodge
END:VEVENT
BEGIN:VEVENT
DTSTART;TZID=UTC:20251019T100000
DTEND;TZID=UTC:20251019T120000
DTSTAMP:20260421T231248
CREATED:20251004T195235Z
LAST-MODIFIED:20251004T195235Z
UID:10004157-1760868000-1760875200@www.bataviamoose682.org
SUMMARY:Tailgate - Breast Cancer Awareness Event
DESCRIPTION:Let’s paint the lodge PINK for our Breast Cancer Awareness Tailgate!
URL:https://www.bataviamoose682.org/event/tailgate-breast-cancer-awareness-event/
LOCATION:Batavia Moose Lodge
CATEGORIES:Special Event
END:VEVENT
BEGIN:VEVENT
DTSTART;TZID=UTC:20251018T173000
DTEND;TZID=UTC:20251018T200000
DTSTAMP:20260421T231248
CREATED:20250821T064936Z
LAST-MODIFIED:20250821T065109Z
UID:10004081-1760808600-1760817600@www.bataviamoose682.org
SUMMARY:Grilled Steak Night & Rockstar Bingo
DESCRIPTION:Seriously Fun Saturday Evening!\nGrilled Steak Dinner 5:30 pm – 8:00 pm\nRockstar Bingo 7 pm \nRockstar Bingo is like regular Bingo except with groovy music instead of numbers. Guaranteed you will be singing along.\nNo cost to play. Great prizes for winners. \nThis event is sponsored by the Batavia Moose Legion and is intended for Lodge members and their qualified guests. \nThis particular event will be in the social quarters only due to a private event scheduled in the back hall. \nRockstar Bingo is run by Seriously Fun Events.
URL:https://www.bataviamoose682.org/event/grilled-steak-night-rockstar-bingo/2025-10-18/
CATEGORIES:Monthly Special
ATTACH;FMTTYPE=image/png:https://www.bataviamoose682.org/wp-content/uploads/2025/03/Steak-Bingo.png
END:VEVENT
BEGIN:VEVENT
DTSTART;TZID=UTC:20251018T120000
DTEND;TZID=UTC:20251018T150000
DTSTAMP:20260421T231248
CREATED:20250507T071224Z
LAST-MODIFIED:20260303T184004Z
UID:10003334-1760788800-1760799600@www.bataviamoose682.org
SUMMARY:Family Lunch
DESCRIPTION:
URL:https://www.bataviamoose682.org/event/family-lunch/2025-10-18/
END:VEVENT
BEGIN:VEVENT
DTSTART;TZID=UTC:20251017T170000
DTEND;TZID=UTC:20251017T203000
DTSTAMP:20260421T231248
CREATED:20250507T070846Z
LAST-MODIFIED:20250507T070846Z
UID:10002025-1760720400-1760733000@www.bataviamoose682.org
SUMMARY:Fish Fry
DESCRIPTION:
URL:https://www.bataviamoose682.org/event/fish-fry/2025-10-17/
END:VEVENT
BEGIN:VEVENT
DTSTART;TZID=UTC:20251017T120000
DTEND;TZID=UTC:20251017T150000
DTSTAMP:20260421T231248
CREATED:20250507T070730Z
LAST-MODIFIED:20250507T070800Z
UID:10001763-1760702400-1760713200@www.bataviamoose682.org
SUMMARY:Family Fish Fry Lunch
DESCRIPTION:
URL:https://www.bataviamoose682.org/event/friday-fish-fry-lunch/2025-10-17/
END:VEVENT
BEGIN:VEVENT
DTSTART;TZID=UTC:20251016T183000
DTEND;TZID=UTC:20251016T190000
DTSTAMP:20260421T231248
CREATED:20250317T044339Z
LAST-MODIFIED:20250317T044339Z
UID:10000531-1760639400-1760641200@www.bataviamoose682.org
SUMMARY:Women of the Moose Monthly Meeting
DESCRIPTION:Women of the Moose unite for our monthly meeting.\nNot a WOTM? Ask us and we can get you more information.
URL:https://www.bataviamoose682.org/event/women-of-the-moose-monthly-meeting/2025-10-16/
LOCATION:Batavia Moose Lodge
CATEGORIES:Monthly Meeting
ATTACH;FMTTYPE=image/png:https://www.bataviamoose682.org/wp-content/uploads/2022/03/KLKE52091.png
END:VEVENT
BEGIN:VEVENT
DTSTART;TZID=UTC:20251016T170000
DTEND;TZID=UTC:20251016T200000
DTSTAMP:20260421T231248
CREATED:20250507T071042Z
LAST-MODIFIED:20250507T071042Z
UID:10002335-1760634000-1760644800@www.bataviamoose682.org
SUMMARY:Kitchen Open
DESCRIPTION:
URL:https://www.bataviamoose682.org/event/kitchen-open/2025-10-16/
END:VEVENT
BEGIN:VEVENT
DTSTART;TZID=UTC:20251015T183000
DTEND;TZID=UTC:20251015T203000
DTSTAMP:20260421T231248
CREATED:20251004T194935Z
LAST-MODIFIED:20251004T194935Z
UID:10004155-1760553000-1760560200@www.bataviamoose682.org
SUMMARY:Local Artist Spotlight: Mike "Mcgoo" McGohan
DESCRIPTION:Batavia Moose Member and Musician Mike “Magoo” McGohan has shared the stage with artists such as Kid Rock\, Zach Brown\, Carrie Underwood\, Blues Traveler\, Lynyrd Skynyrd\, and Sister Hazel and traveled around the world as a guitarist for Chicago-based band Hello Dave. He released his solo acoustic record “Alone” in 2012. Come out and enjoy Magoo in our Social Quarters.\nThis event is for Lodge members and their qualified guests.
URL:https://www.bataviamoose682.org/event/local-artist-spotlight-mike-mcgoo-mcgohan/
LOCATION:Batavia Moose Lodge
CATEGORIES:Live Music Event
ATTACH;FMTTYPE=image/png:https://www.bataviamoose682.org/wp-content/uploads/2024/04/Magoo.png
END:VEVENT
BEGIN:VEVENT
DTSTART;TZID=UTC:20251015T170000
DTEND;TZID=UTC:20251015T200000
DTSTAMP:20260421T231248
CREATED:20250507T071042Z
LAST-MODIFIED:20250507T071042Z
UID:10002334-1760547600-1760558400@www.bataviamoose682.org
SUMMARY:Kitchen Open
DESCRIPTION:
URL:https://www.bataviamoose682.org/event/kitchen-open/2025-10-15/
END:VEVENT
BEGIN:VEVENT
DTSTART;TZID=UTC:20251014T193000
DTEND;TZID=UTC:20251014T194500
DTSTAMP:20260421T231248
CREATED:20250317T052710Z
LAST-MODIFIED:20250317T052734Z
UID:10001156-1760470200-1760471100@www.bataviamoose682.org
SUMMARY:Queen of Hearts
DESCRIPTION:QUEEN OF  HEARTS WEEKLY DRAWING \n\nMust be a Current Loyal order of the Moose member in good standing to play and will be asked to present membership card to claim prize.\ndrawings will be held on Tuesday evenings at 7:30 pm\nyou may purchase tickets as many tickets as you like\, any day of the week up until 7:00pm the night of the drawing\nplease sign your tickets as your name appears on your membership card\, include your phone number on ticket\nIf you will not be present for the drawing\, please indicate your envelope number selection on the ticket. if no number is indicated the next available number will be chosen for you by the board member present.\nall non-winning tickets will be disposed of after the drawing & tickets will begin to be sold for the next week’s drawing\nif the 2nd joker is drawn\, the game will restart and all monies remaining in the prize pool.\n\nWINNING PAYMENTS: \n\ngrand prize winner need not be present for full payout\nweekly winner must be present for cash payout\n\nPayout as follows \n\n70% of pot to the winner\n20% to the Moose Lodge\n10% to start the next game
URL:https://www.bataviamoose682.org/event/queen-of-hearts/2025-10-14/
LOCATION:Batavia Moose Lodge
END:VEVENT
BEGIN:VEVENT
DTSTART;TZID=UTC:20251014T180000
DTEND;TZID=UTC:20251014T200000
DTSTAMP:20260421T231248
CREATED:20250317T045829Z
LAST-MODIFIED:20250317T045829Z
UID:10000623-1760464800-1760472000@www.bataviamoose682.org
SUMMARY:Kubb
DESCRIPTION:Come out and learn the hottest new outdoor game…KUBB! \nPlease check out our Facebook group for changes in date due to bad weather. \nCurrent Moose members and their qualified guests are welcome to join in on the fun!
URL:https://www.bataviamoose682.org/event/kubb/2025-10-14/
END:VEVENT
BEGIN:VEVENT
DTSTART;TZID=UTC:20251014T170000
DTEND;TZID=UTC:20251014T200000
DTSTAMP:20260421T231248
CREATED:20250507T071042Z
LAST-MODIFIED:20250507T071042Z
UID:10002333-1760461200-1760472000@www.bataviamoose682.org
SUMMARY:Kitchen Open
DESCRIPTION:
URL:https://www.bataviamoose682.org/event/kitchen-open/2025-10-14/
END:VEVENT
BEGIN:VEVENT
DTSTART;TZID=UTC:20251013T190000
DTEND;TZID=UTC:20251013T200000
DTSTAMP:20260421T231248
CREATED:20250306T033232Z
LAST-MODIFIED:20250306T033232Z
UID:10000197-1760382000-1760385600@www.bataviamoose682.org
SUMMARY:Moose Legion Meeting
DESCRIPTION:MOOSE LEGION\nTHE MEN WHO GET THINGS DONE \n\nAlso known as the Degree of Service. The purpose of this degree is to band together the loyal and devoted Moose members who desire to make further contributions to the humanitarian objectives of our Order while providing fun and entertaining activities for members and their families.  The official colors of the Moose Legion are red\, white and purple with purple being predominant. You will also see Moose Legionnaires sporting maroon blazers and informal vests. \n\nMeetings are the 2nd Monday of each month at 7:00pm \n$20 annual dues \nFellowship Degree of Honor  \n\nHonorary degree of the Loyal Order of Moose conferred only upon Moose Legionnaires who are recommended by the Fellows of their Lodge and approved by the Pilgrim Council. The official regalia of a Fellow is a French-blue blazer featuring the Fellowship logo\, coordinated necktie\, white shirt and black trousers. \n\nPilgrim Degree of Merit  \nHighest honor that can be bestowed upon a member of the Loyal Order of Moose. This Degree is conferred only in the House of God at Mooseheart and comes as a reward for extraordinary service to the Order. The official regalia of a Pilgrim is a gold blazer featuring the Pilgrim logo\, coordinated necktie\, white shirt and black trousers!
URL:https://www.bataviamoose682.org/event/moose-legion-meeting/2025-10-13/
CATEGORIES:Monthly Meeting
END:VEVENT
BEGIN:VEVENT
DTSTART;TZID=UTC:20251013T170000
DTEND;TZID=UTC:20251013T200000
DTSTAMP:20260421T231248
CREATED:20250821T051442Z
LAST-MODIFIED:20250821T051444Z
UID:10003071-1760374800-1760385600@www.bataviamoose682.org
SUMMARY:Comfort Food Monday
DESCRIPTION:
URL:https://www.bataviamoose682.org/event/comfort-food-monday-2/2025-10-13/
CATEGORIES:Monthly Meeting
END:VEVENT
BEGIN:VEVENT
DTSTART;TZID=UTC:20251012T150000
DTEND;TZID=UTC:20251012T180000
DTSTAMP:20260421T231248
CREATED:20250821T073041Z
LAST-MODIFIED:20250821T073229Z
UID:10004101-1760281200-1760292000@www.bataviamoose682.org
SUMMARY:Pizza Sunday
DESCRIPTION:
URL:https://www.bataviamoose682.org/event/pizza-sunday-2/2025-10-12/
LOCATION:Batavia Moose Lodge
CATEGORIES:Monthly Special
ATTACH;FMTTYPE=image/png:https://www.bataviamoose682.org/wp-content/uploads/2025/08/Pizza-Sunday.png
END:VEVENT
BEGIN:VEVENT
DTSTART;TZID=UTC:20251011T170000
DTEND;TZID=UTC:20251011T230000
DTSTAMP:20260421T231248
CREATED:20251004T194711Z
LAST-MODIFIED:20251004T194711Z
UID:10004154-1760202000-1760223600@www.bataviamoose682.org
SUMMARY:Moose Rider's Birthday Party w/Beaver Moon Band
DESCRIPTION:MOOSE RIDERS BIRTHDAY BASH\nKickstands up\, party animals—it’s time to throttle into celebration mode!\nThe Batavia Moose Riders are throwing their annual birthday blowout\, and it’s gonna be full high-octane fun:\n Taco bar to fuel your ride Raffle basket & 50/50 to test your luck  Cash bar to keep your tank topped off Live tunes from the Beaver  Moon  Band (7–10 PM) to keep your boots stompin’ Dancing ‘til the wheels fall off\nWhether you roll in solo or with your crew\, it’s gonna be a moose-tastic\, chrome-shining\, leather-loving good time.\nOpen to all qualified Moose members and their guests. No ticket\, no hassle\, just good vibes and loud pipes.So polish your antlers\, shine your boots\, and ride on over.Let’s party like the road never ends.
URL:https://www.bataviamoose682.org/event/moose-riders-birthday-party-w-beaver-moon-band/
LOCATION:Batavia Moose Lodge
CATEGORIES:Special Event
ATTACH;FMTTYPE=image/jpeg:https://www.bataviamoose682.org/wp-content/uploads/2025/10/555032625_10241435394758940_4499925840552296197_n.jpg
END:VEVENT
BEGIN:VEVENT
DTSTART;TZID=UTC:20251011T170000
DTEND;TZID=UTC:20251011T200000
DTSTAMP:20260421T231248
CREATED:20250507T071313Z
LAST-MODIFIED:20260303T184129Z
UID:10003595-1760202000-1760212800@www.bataviamoose682.org
SUMMARY:Saturday Dinner
DESCRIPTION:
URL:https://www.bataviamoose682.org/event/saturday-dinner/2025-10-11/
END:VEVENT
BEGIN:VEVENT
DTSTART;TZID=UTC:20251011T120000
DTEND;TZID=UTC:20251011T150000
DTSTAMP:20260421T231248
CREATED:20250507T071224Z
LAST-MODIFIED:20260303T184004Z
UID:10003333-1760184000-1760194800@www.bataviamoose682.org
SUMMARY:Family Lunch
DESCRIPTION:
URL:https://www.bataviamoose682.org/event/family-lunch/2025-10-11/
END:VEVENT
BEGIN:VEVENT
DTSTART;TZID=UTC:20251010T190000
DTEND;TZID=UTC:20251010T210000
DTSTAMP:20260421T231248
CREATED:20250306T034946Z
LAST-MODIFIED:20260211T013111Z
UID:10004206-1760122800-1760130000@www.bataviamoose682.org
SUMMARY:Trivia
DESCRIPTION:Get your team together and join us for a fun evening of TRIVIA!
URL:https://www.bataviamoose682.org/event/trivia/2025-10-10/
ATTACH;FMTTYPE=image/png:https://www.bataviamoose682.org/wp-content/uploads/2025/03/Kitchen-Open-1.png
END:VEVENT
BEGIN:VEVENT
DTSTART;TZID=UTC:20251010T170000
DTEND;TZID=UTC:20251010T203000
DTSTAMP:20260421T231248
CREATED:20250507T070846Z
LAST-MODIFIED:20250507T070846Z
UID:10002024-1760115600-1760128200@www.bataviamoose682.org
SUMMARY:Fish Fry
DESCRIPTION:
URL:https://www.bataviamoose682.org/event/fish-fry/2025-10-10/
END:VEVENT
END:VCALENDAR