BEGIN:VCALENDAR
VERSION:2.0
PRODID:-//Batavia Moose #682 - ECPv6.15.20//NONSGML v1.0//EN
CALSCALE:GREGORIAN
METHOD:PUBLISH
X-WR-CALNAME:Batavia Moose #682
X-ORIGINAL-URL:https://www.bataviamoose682.org
X-WR-CALDESC:Events for Batavia Moose #682
REFRESH-INTERVAL;VALUE=DURATION:PT1H
X-Robots-Tag:noindex
X-PUBLISHED-TTL:PT1H
BEGIN:VTIMEZONE
TZID:UTC
BEGIN:STANDARD
TZOFFSETFROM:+0000
TZOFFSETTO:+0000
TZNAME:UTC
DTSTART:20240101T000000
END:STANDARD
END:VTIMEZONE
BEGIN:VEVENT
DTSTART;TZID=UTC:20250503T120000
DTEND;TZID=UTC:20250503T150000
DTSTAMP:20260424T025215
CREATED:20250507T071224Z
LAST-MODIFIED:20260303T184004Z
UID:10003310-1746273600-1746284400@www.bataviamoose682.org
SUMMARY:Family Lunch
DESCRIPTION:
URL:https://www.bataviamoose682.org/event/family-lunch/2025-05-03/
END:VEVENT
BEGIN:VEVENT
DTSTART;TZID=UTC:20250502T170000
DTEND;TZID=UTC:20250502T203000
DTSTAMP:20260424T025215
CREATED:20250507T070846Z
LAST-MODIFIED:20250507T070846Z
UID:10002001-1746205200-1746217800@www.bataviamoose682.org
SUMMARY:Fish Fry
DESCRIPTION:
URL:https://www.bataviamoose682.org/event/fish-fry/2025-05-02/
END:VEVENT
BEGIN:VEVENT
DTSTART;TZID=UTC:20250502T120000
DTEND;TZID=UTC:20250502T150000
DTSTAMP:20260424T025215
CREATED:20250507T070730Z
LAST-MODIFIED:20250507T070800Z
UID:10001739-1746187200-1746198000@www.bataviamoose682.org
SUMMARY:Family Fish Fry Lunch
DESCRIPTION:
URL:https://www.bataviamoose682.org/event/friday-fish-fry-lunch/2025-05-02/
END:VEVENT
BEGIN:VEVENT
DTSTART;TZID=UTC:20250501T184500
DTEND;TZID=UTC:20250501T194500
DTSTAMP:20260424T025215
CREATED:20240220T230013Z
LAST-MODIFIED:20250306T022809Z
UID:10000011-1746125100-1746128700@www.bataviamoose682.org
SUMMARY:Moose Rider's Monthly Meeting
DESCRIPTION:Join us for our monthly Batavia Moose Rider’s Meeting. \nThe Moose Riders are consistently among the fastest growing and most “active” of all Moose Lodge Activity Groups. $20 annual dues. \nMoose Riders is open to any current Moose member. No motorcycle required to join.
URL:https://www.bataviamoose682.org/event/moose-riders-monthly-meeting/2025-05-01/
LOCATION:Batavia Moose Lodge
CATEGORIES:Monthly Meeting
ATTACH;FMTTYPE=image/png:https://www.bataviamoose682.org/wp-content/uploads/2024/02/Untitled-design-21-e1708489780661.png
END:VEVENT
BEGIN:VEVENT
DTSTART;TZID=UTC:20250501T170000
DTEND;TZID=UTC:20250501T200000
DTSTAMP:20260424T025215
CREATED:20250507T071042Z
LAST-MODIFIED:20250507T071042Z
UID:10002263-1746118800-1746129600@www.bataviamoose682.org
SUMMARY:Kitchen Open
DESCRIPTION:
URL:https://www.bataviamoose682.org/event/kitchen-open/2025-05-01/
END:VEVENT
BEGIN:VEVENT
DTSTART;TZID=UTC:20250429T193000
DTEND;TZID=UTC:20250429T194500
DTSTAMP:20260424T025215
CREATED:20250317T052710Z
LAST-MODIFIED:20250317T052734Z
UID:10001132-1745955000-1745955900@www.bataviamoose682.org
SUMMARY:Queen of Hearts
DESCRIPTION:QUEEN OF  HEARTS WEEKLY DRAWING \n\nMust be a Current Loyal order of the Moose member in good standing to play and will be asked to present membership card to claim prize.\ndrawings will be held on Tuesday evenings at 7:30 pm\nyou may purchase tickets as many tickets as you like\, any day of the week up until 7:00pm the night of the drawing\nplease sign your tickets as your name appears on your membership card\, include your phone number on ticket\nIf you will not be present for the drawing\, please indicate your envelope number selection on the ticket. if no number is indicated the next available number will be chosen for you by the board member present.\nall non-winning tickets will be disposed of after the drawing & tickets will begin to be sold for the next week’s drawing\nif the 2nd joker is drawn\, the game will restart and all monies remaining in the prize pool.\n\nWINNING PAYMENTS: \n\ngrand prize winner need not be present for full payout\nweekly winner must be present for cash payout\n\nPayout as follows \n\n70% of pot to the winner\n20% to the Moose Lodge\n10% to start the next game
URL:https://www.bataviamoose682.org/event/queen-of-hearts/2025-04-29/
LOCATION:Batavia Moose Lodge
END:VEVENT
BEGIN:VEVENT
DTSTART;TZID=UTC:20250429T180000
DTEND;TZID=UTC:20250429T200000
DTSTAMP:20260424T025215
CREATED:20250317T045829Z
LAST-MODIFIED:20250317T045829Z
UID:10000599-1745949600-1745956800@www.bataviamoose682.org
SUMMARY:Kubb
DESCRIPTION:Come out and learn the hottest new outdoor game…KUBB! \nPlease check out our Facebook group for changes in date due to bad weather. \nCurrent Moose members and their qualified guests are welcome to join in on the fun!
URL:https://www.bataviamoose682.org/event/kubb/2025-04-29/
END:VEVENT
BEGIN:VEVENT
DTSTART;TZID=UTC:20250429T180000
DTEND;TZID=UTC:20250429T193000
DTSTAMP:20260424T025215
CREATED:20250306T035452Z
LAST-MODIFIED:20250306T035629Z
UID:10000349-1745949600-1745955000@www.bataviamoose682.org
SUMMARY:Lightning & Moose Races
DESCRIPTION:
URL:https://www.bataviamoose682.org/event/lightning-moose-races/2025-04-29/
END:VEVENT
BEGIN:VEVENT
DTSTART;TZID=UTC:20250426T200000
DTEND;TZID=UTC:20250426T230000
DTSTAMP:20260424T025215
CREATED:20250317T053215Z
LAST-MODIFIED:20250317T053215Z
UID:10001388-1745697600-1745708400@www.bataviamoose682.org
SUMMARY:Live Music: New Vintage Strings
DESCRIPTION:New Vintage Strings is a contemporary string quartet known for its distinctive blend of jazz\, classic rock\, pop & alternative instrumental covers with a Classical touch. NVS presents the songs you love like you’ve never heard them before – modern takes on timeless classics. Their unique instrumentation (two violins\, viola\, double bass)\, blend of diverse genres and rotation of outstanding musicians sets NVS apart from the traditional string quartet. \nThis event is for Lodge members and their qualified guests.
URL:https://www.bataviamoose682.org/event/live-music-new-vintage-strings/
LOCATION:Batavia Moose Lodge
CATEGORIES:Live Music Event
ATTACH;FMTTYPE=image/jpeg:https://www.bataviamoose682.org/wp-content/uploads/2025/03/New-Vintage-Strings.jpg
END:VEVENT
BEGIN:VEVENT
DTSTART;TZID=UTC:20250425T180000
DTEND;TZID=UTC:20250425T200000
DTSTAMP:20260424T025215
CREATED:20250317T053038Z
LAST-MODIFIED:20250317T053038Z
UID:10001387-1745604000-1745611200@www.bataviamoose682.org
SUMMARY:Live Music: Rachael Miller (Professional Violinist)
DESCRIPTION:Don’t miss this unique experience and memorable performance.\n\nThe violin has been Rachael’s passion and joy for more than 20 years. Her ability to play by ear and read with precision began when she was 4 years old. She focused on classical works yet quickly learned other genres of music. Her musical equipment includes acoustic and electric violins along with sound pedals paired with an amplifier.\nCheck out this video: https://www.youtube.com/watch?v=oLu7GiqThqQ\n\nThis event is for Lodge members and their qualified guests
URL:https://www.bataviamoose682.org/event/live-music-rachael-miller-professional-violinist/
LOCATION:Batavia Moose Lodge
CATEGORIES:Live Music Event
ATTACH;FMTTYPE=image/jpeg:https://www.bataviamoose682.org/wp-content/uploads/2025/03/Racheal-Miller.jpg
END:VEVENT
BEGIN:VEVENT
DTSTART;TZID=UTC:20250423T190000
DTEND;TZID=UTC:20250423T200000
DTSTAMP:20260424T025215
CREATED:20250317T043719Z
LAST-MODIFIED:20251209T071623Z
UID:10000464-1745434800-1745438400@www.bataviamoose682.org
SUMMARY:Line Dancing - Beginner/Intermediate Lesson
DESCRIPTION:
URL:https://www.bataviamoose682.org/event/line-dancing-beginner-intermediate-lesson/2025-04-23/
END:VEVENT
BEGIN:VEVENT
DTSTART;TZID=UTC:20250422T193000
DTEND;TZID=UTC:20250422T194500
DTSTAMP:20260424T025215
CREATED:20250317T052710Z
LAST-MODIFIED:20250317T052734Z
UID:10001131-1745350200-1745351100@www.bataviamoose682.org
SUMMARY:Queen of Hearts
DESCRIPTION:QUEEN OF  HEARTS WEEKLY DRAWING \n\nMust be a Current Loyal order of the Moose member in good standing to play and will be asked to present membership card to claim prize.\ndrawings will be held on Tuesday evenings at 7:30 pm\nyou may purchase tickets as many tickets as you like\, any day of the week up until 7:00pm the night of the drawing\nplease sign your tickets as your name appears on your membership card\, include your phone number on ticket\nIf you will not be present for the drawing\, please indicate your envelope number selection on the ticket. if no number is indicated the next available number will be chosen for you by the board member present.\nall non-winning tickets will be disposed of after the drawing & tickets will begin to be sold for the next week’s drawing\nif the 2nd joker is drawn\, the game will restart and all monies remaining in the prize pool.\n\nWINNING PAYMENTS: \n\ngrand prize winner need not be present for full payout\nweekly winner must be present for cash payout\n\nPayout as follows \n\n70% of pot to the winner\n20% to the Moose Lodge\n10% to start the next game
URL:https://www.bataviamoose682.org/event/queen-of-hearts/2025-04-22/
LOCATION:Batavia Moose Lodge
END:VEVENT
BEGIN:VEVENT
DTSTART;TZID=UTC:20250422T180000
DTEND;TZID=UTC:20250422T200000
DTSTAMP:20260424T025215
CREATED:20250317T045829Z
LAST-MODIFIED:20250317T045829Z
UID:10000598-1745344800-1745352000@www.bataviamoose682.org
SUMMARY:Kubb
DESCRIPTION:Come out and learn the hottest new outdoor game…KUBB! \nPlease check out our Facebook group for changes in date due to bad weather. \nCurrent Moose members and their qualified guests are welcome to join in on the fun!
URL:https://www.bataviamoose682.org/event/kubb/2025-04-22/
END:VEVENT
BEGIN:VEVENT
DTSTART;TZID=UTC:20250422T180000
DTEND;TZID=UTC:20250422T193000
DTSTAMP:20260424T025215
CREATED:20250306T035452Z
LAST-MODIFIED:20250306T035629Z
UID:10000348-1745344800-1745350200@www.bataviamoose682.org
SUMMARY:Lightning & Moose Races
DESCRIPTION:
URL:https://www.bataviamoose682.org/event/lightning-moose-races/2025-04-22/
END:VEVENT
BEGIN:VEVENT
DTSTART;TZID=UTC:20250421T190000
DTEND;TZID=UTC:20250421T200000
DTSTAMP:20260424T025215
CREATED:20250306T033105Z
LAST-MODIFIED:20250306T033306Z
UID:10000131-1745262000-1745265600@www.bataviamoose682.org
SUMMARY:Lodge General Meeting
DESCRIPTION:1st & 3rd Monday of each month @ 7:00 p.m. \n\nAll current members are welcome to attend.\nWe recommend each member attend a few meetings a year\nMeetings may include discussions regarding:\n\nBusiness conducted in the lodge\nRegional business\nUpcoming events & volunteer opportunities\nFundraiser ideas or proposals \n\n\nProper conduct & dress…\n\nNo alcohol allowed in meetings\nWhen in doubt\, don’t wear it
URL:https://www.bataviamoose682.org/event/lodge-general-meeting-2/2025-04-21/
CATEGORIES:Monthly Meeting
END:VEVENT
BEGIN:VEVENT
DTSTART;TZID=UTC:20250419T200000
DTEND;TZID=UTC:20250419T233000
DTSTAMP:20260424T025215
CREATED:20250305T043436Z
LAST-MODIFIED:20250306T034656Z
UID:10000250-1745092800-1745105400@www.bataviamoose682.org
SUMMARY:Karaoke
DESCRIPTION:
URL:https://www.bataviamoose682.org/event/karaoke/
LOCATION:Batavia Moose Lodge
CATEGORIES:Special Event
END:VEVENT
BEGIN:VEVENT
DTSTART;TZID=UTC:20250419T173000
DTEND;TZID=UTC:20250419T203000
DTSTAMP:20260424T025215
CREATED:20250317T045057Z
LAST-MODIFIED:20250317T045057Z
UID:10000587-1745083800-1745094600@www.bataviamoose682.org
SUMMARY:Steak Fry
DESCRIPTION:Steak Fry Saturday!\n\nSteak served with fries or baked potato and veggies.\nGrilled Chicken served with fries or baked potato and veggies\n\n5:30-8:30pm or until sold out\n\nHave a great dinner and stay for Karaoke!\n\nOpen to current members & their qualified guests.
URL:https://www.bataviamoose682.org/event/steak-fry/2025-04-19/
LOCATION:Batavia Moose Lodge
CATEGORIES:Special Event
END:VEVENT
BEGIN:VEVENT
DTSTART;TZID=UTC:20250417T183000
DTEND;TZID=UTC:20250417T190000
DTSTAMP:20260424T025215
CREATED:20250317T044339Z
LAST-MODIFIED:20250317T044339Z
UID:10000525-1744914600-1744916400@www.bataviamoose682.org
SUMMARY:Women of the Moose Monthly Meeting
DESCRIPTION:Women of the Moose unite for our monthly meeting.\nNot a WOTM? Ask us and we can get you more information.
URL:https://www.bataviamoose682.org/event/women-of-the-moose-monthly-meeting/2025-04-17/
LOCATION:Batavia Moose Lodge
CATEGORIES:Monthly Meeting
ATTACH;FMTTYPE=image/png:https://www.bataviamoose682.org/wp-content/uploads/2022/03/KLKE52091.png
END:VEVENT
BEGIN:VEVENT
DTSTART;TZID=UTC:20250416T190000
DTEND;TZID=UTC:20250416T210000
DTSTAMP:20260424T025215
CREATED:20250317T051933Z
LAST-MODIFIED:20250317T051933Z
UID:10000859-1744830000-1744837200@www.bataviamoose682.org
SUMMARY:Local Artist Spotlight: Jimmy Nick
DESCRIPTION:Jimmy Nick solo at the Lodge and bringing back his high energy blues and rock and roll. He and his band\, Don’t Tell Mama\, will once again be back at Moose-a-Palooza on August 23rd.\nJimmy is an old-fashioned guitar slinging blues prodigy. His mission is to expose the next generation to the blues. Jimmy excites crowds with his electrifying guitar work\, clever lyrics and animated stage theatrics. His high energy blues and rock-n-roll captivate audiences\, and forge instant fans.\n\nThis event is for Lodge members and their qualified guests.
URL:https://www.bataviamoose682.org/event/local-artist-spotlight-jimmy-nick/
LOCATION:Batavia Moose Lodge
CATEGORIES:Live Music Event
ATTACH;FMTTYPE=image/jpeg:https://www.bataviamoose682.org/wp-content/uploads/2025/03/Jimmy-Nick.jpg
END:VEVENT
BEGIN:VEVENT
DTSTART;TZID=UTC:20250415T193000
DTEND;TZID=UTC:20250415T194500
DTSTAMP:20260424T025215
CREATED:20250317T052710Z
LAST-MODIFIED:20250317T052734Z
UID:10001130-1744745400-1744746300@www.bataviamoose682.org
SUMMARY:Queen of Hearts
DESCRIPTION:QUEEN OF  HEARTS WEEKLY DRAWING \n\nMust be a Current Loyal order of the Moose member in good standing to play and will be asked to present membership card to claim prize.\ndrawings will be held on Tuesday evenings at 7:30 pm\nyou may purchase tickets as many tickets as you like\, any day of the week up until 7:00pm the night of the drawing\nplease sign your tickets as your name appears on your membership card\, include your phone number on ticket\nIf you will not be present for the drawing\, please indicate your envelope number selection on the ticket. if no number is indicated the next available number will be chosen for you by the board member present.\nall non-winning tickets will be disposed of after the drawing & tickets will begin to be sold for the next week’s drawing\nif the 2nd joker is drawn\, the game will restart and all monies remaining in the prize pool.\n\nWINNING PAYMENTS: \n\ngrand prize winner need not be present for full payout\nweekly winner must be present for cash payout\n\nPayout as follows \n\n70% of pot to the winner\n20% to the Moose Lodge\n10% to start the next game
URL:https://www.bataviamoose682.org/event/queen-of-hearts/2025-04-15/
LOCATION:Batavia Moose Lodge
END:VEVENT
BEGIN:VEVENT
DTSTART;TZID=UTC:20250415T180000
DTEND;TZID=UTC:20250415T200000
DTSTAMP:20260424T025215
CREATED:20250317T045829Z
LAST-MODIFIED:20250317T045829Z
UID:10000597-1744740000-1744747200@www.bataviamoose682.org
SUMMARY:Kubb
DESCRIPTION:Come out and learn the hottest new outdoor game…KUBB! \nPlease check out our Facebook group for changes in date due to bad weather. \nCurrent Moose members and their qualified guests are welcome to join in on the fun!
URL:https://www.bataviamoose682.org/event/kubb/2025-04-15/
END:VEVENT
BEGIN:VEVENT
DTSTART;TZID=UTC:20250415T180000
DTEND;TZID=UTC:20250415T193000
DTSTAMP:20260424T025215
CREATED:20250306T035452Z
LAST-MODIFIED:20250306T035629Z
UID:10000347-1744740000-1744745400@www.bataviamoose682.org
SUMMARY:Lightning & Moose Races
DESCRIPTION:
URL:https://www.bataviamoose682.org/event/lightning-moose-races/2025-04-15/
END:VEVENT
BEGIN:VEVENT
DTSTART;TZID=UTC:20250414T190000
DTEND;TZID=UTC:20250414T200000
DTSTAMP:20260424T025215
CREATED:20250306T033232Z
LAST-MODIFIED:20250306T033232Z
UID:10000191-1744657200-1744660800@www.bataviamoose682.org
SUMMARY:Moose Legion Meeting
DESCRIPTION:MOOSE LEGION\nTHE MEN WHO GET THINGS DONE \n\nAlso known as the Degree of Service. The purpose of this degree is to band together the loyal and devoted Moose members who desire to make further contributions to the humanitarian objectives of our Order while providing fun and entertaining activities for members and their families.  The official colors of the Moose Legion are red\, white and purple with purple being predominant. You will also see Moose Legionnaires sporting maroon blazers and informal vests. \n\nMeetings are the 2nd Monday of each month at 7:00pm \n$20 annual dues \nFellowship Degree of Honor  \n\nHonorary degree of the Loyal Order of Moose conferred only upon Moose Legionnaires who are recommended by the Fellows of their Lodge and approved by the Pilgrim Council. The official regalia of a Fellow is a French-blue blazer featuring the Fellowship logo\, coordinated necktie\, white shirt and black trousers. \n\nPilgrim Degree of Merit  \nHighest honor that can be bestowed upon a member of the Loyal Order of Moose. This Degree is conferred only in the House of God at Mooseheart and comes as a reward for extraordinary service to the Order. The official regalia of a Pilgrim is a gold blazer featuring the Pilgrim logo\, coordinated necktie\, white shirt and black trousers!
URL:https://www.bataviamoose682.org/event/moose-legion-meeting/2025-04-14/
CATEGORIES:Monthly Meeting
END:VEVENT
BEGIN:VEVENT
DTSTART;TZID=UTC:20250413T150000
DTEND;TZID=UTC:20250413T180000
DTSTAMP:20260424T025215
CREATED:20250317T051450Z
LAST-MODIFIED:20250317T051450Z
UID:10000858-1744556400-1744567200@www.bataviamoose682.org
SUMMARY:Live Music: Jack Whittle Trio
DESCRIPTION:The band is a “treat” to witness and a fitting way to end the pizza Sunday season. Jack Whittle is a blues and roots singer\, guitarist\, and songwriter with a staggering depth of talent. HIs love of American roots music old and new from dirty\, relentless blues shuffles to infectious country dance tunes and the underlying grooves are shared by this talented and “playful” trio.\n\nThis event is for Lodge members and their qualified guests
URL:https://www.bataviamoose682.org/event/live-music-jack-whittle-trio/
LOCATION:Batavia Moose Lodge
CATEGORIES:Live Music Event
ATTACH;FMTTYPE=image/jpeg:https://www.bataviamoose682.org/wp-content/uploads/2025/03/Jack-Whittle-Trio.jpg
END:VEVENT
BEGIN:VEVENT
DTSTART;TZID=UTC:20250413T150000
DTEND;TZID=UTC:20250413T180000
DTSTAMP:20260424T025215
CREATED:20250306T034822Z
LAST-MODIFIED:20250401T215142Z
UID:10000266-1744556400-1744567200@www.bataviamoose682.org
SUMMARY:Pizza Sunday
DESCRIPTION:
URL:https://www.bataviamoose682.org/event/pizza-sunday/2025-04-13/
CATEGORIES:Monthly Special
END:VEVENT
BEGIN:VEVENT
DTSTART;TZID=UTC:20250413T130000
DTEND;TZID=UTC:20250413T140000
DTSTAMP:20260424T025215
CREATED:20250317T051023Z
LAST-MODIFIED:20250317T051023Z
UID:10000857-1744549200-1744552800@www.bataviamoose682.org
SUMMARY:District 2 Meeting @ St. Charles Lodge
DESCRIPTION:
URL:https://www.bataviamoose682.org/event/district-2-meeting-st-charles-lodge/
CATEGORIES:Monthly Meeting
END:VEVENT
BEGIN:VEVENT
DTSTART;TZID=UTC:20250411T200000
DTEND;TZID=UTC:20250411T230000
DTSTAMP:20260424T025215
CREATED:20250317T050709Z
LAST-MODIFIED:20250317T050709Z
UID:10000855-1744401600-1744412400@www.bataviamoose682.org
SUMMARY:Live Music: Head Honchos
DESCRIPTION:THE HEAD HONCHOS BAND”\nEvent for members and their qualified guests.\n\nAmerican Music From It’s Heart and Soul\n\nThe “HEAD HONCHOS BAND” brings to both the live music scene and recording experience\, music based on intense body moving rhythms and emotionally charged guitar expressions.\nGrounded on the foundations of American blues\, rock\, soul\, and funk the “HEAD HONCHOS BAND” launches every tune with an irresistible invitaion to kick back\, let go\, and enthusiastically ENJOY!!!\nRocco Calipari’s Detroit schooled vocals will leave no doubt of the unapologetic American identity we all experience. In an artistic celebration of our shared pride and joy. the “HEAD HONCHOS BAND” covers some of our most loved standards\, while introducing to an appreciative audience roots inspired new songs
URL:https://www.bataviamoose682.org/event/live-music-head-honchos/
LOCATION:Batavia Moose Lodge
CATEGORIES:Live Music Event
ATTACH;FMTTYPE=image/png:https://www.bataviamoose682.org/wp-content/uploads/2025/03/Band-Event-Template-1.png
END:VEVENT
BEGIN:VEVENT
DTSTART;TZID=UTC:20250411T190000
DTEND;TZID=UTC:20250411T210000
DTSTAMP:20260424T025215
CREATED:20250306T034946Z
LAST-MODIFIED:20260211T013111Z
UID:10004200-1744398000-1744405200@www.bataviamoose682.org
SUMMARY:Trivia
DESCRIPTION:Get your team together and join us for a fun evening of TRIVIA!
URL:https://www.bataviamoose682.org/event/trivia/2025-04-11/
ATTACH;FMTTYPE=image/png:https://www.bataviamoose682.org/wp-content/uploads/2025/03/Kitchen-Open-1.png
END:VEVENT
BEGIN:VEVENT
DTSTART;TZID=UTC:20250409T190000
DTEND;TZID=UTC:20250409T203000
DTSTAMP:20260424T025215
CREATED:20250317T043634Z
LAST-MODIFIED:20250317T043634Z
UID:10000403-1744225200-1744230600@www.bataviamoose682.org
SUMMARY:Line Dancing - Beginners Lesson
DESCRIPTION:
URL:https://www.bataviamoose682.org/event/line-dancing-beginners-lesson/2025-04-09/
END:VEVENT
BEGIN:VEVENT
DTSTART;TZID=UTC:20250408T193000
DTEND;TZID=UTC:20250408T194500
DTSTAMP:20260424T025215
CREATED:20250317T052710Z
LAST-MODIFIED:20250317T052734Z
UID:10001129-1744140600-1744141500@www.bataviamoose682.org
SUMMARY:Queen of Hearts
DESCRIPTION:QUEEN OF  HEARTS WEEKLY DRAWING \n\nMust be a Current Loyal order of the Moose member in good standing to play and will be asked to present membership card to claim prize.\ndrawings will be held on Tuesday evenings at 7:30 pm\nyou may purchase tickets as many tickets as you like\, any day of the week up until 7:00pm the night of the drawing\nplease sign your tickets as your name appears on your membership card\, include your phone number on ticket\nIf you will not be present for the drawing\, please indicate your envelope number selection on the ticket. if no number is indicated the next available number will be chosen for you by the board member present.\nall non-winning tickets will be disposed of after the drawing & tickets will begin to be sold for the next week’s drawing\nif the 2nd joker is drawn\, the game will restart and all monies remaining in the prize pool.\n\nWINNING PAYMENTS: \n\ngrand prize winner need not be present for full payout\nweekly winner must be present for cash payout\n\nPayout as follows \n\n70% of pot to the winner\n20% to the Moose Lodge\n10% to start the next game
URL:https://www.bataviamoose682.org/event/queen-of-hearts/2025-04-08/
LOCATION:Batavia Moose Lodge
END:VEVENT
END:VCALENDAR