BEGIN:VCALENDAR
VERSION:2.0
PRODID:-//Batavia Moose #682 - ECPv6.15.20//NONSGML v1.0//EN
CALSCALE:GREGORIAN
METHOD:PUBLISH
X-WR-CALNAME:Batavia Moose #682
X-ORIGINAL-URL:https://www.bataviamoose682.org
X-WR-CALDESC:Events for Batavia Moose #682
REFRESH-INTERVAL;VALUE=DURATION:PT1H
X-Robots-Tag:noindex
X-PUBLISHED-TTL:PT1H
BEGIN:VTIMEZONE
TZID:UTC
BEGIN:STANDARD
TZOFFSETFROM:+0000
TZOFFSETTO:+0000
TZNAME:UTC
DTSTART:20240101T000000
END:STANDARD
END:VTIMEZONE
BEGIN:VEVENT
DTSTART;TZID=UTC:20250519T190000
DTEND;TZID=UTC:20250519T200000
DTSTAMP:20260423T230038
CREATED:20250306T033105Z
LAST-MODIFIED:20250306T033306Z
UID:10000132-1747681200-1747684800@www.bataviamoose682.org
SUMMARY:Lodge General Meeting
DESCRIPTION:1st & 3rd Monday of each month @ 7:00 p.m. \n\nAll current members are welcome to attend.\nWe recommend each member attend a few meetings a year\nMeetings may include discussions regarding:\n\nBusiness conducted in the lodge\nRegional business\nUpcoming events & volunteer opportunities\nFundraiser ideas or proposals \n\n\nProper conduct & dress…\n\nNo alcohol allowed in meetings\nWhen in doubt\, don’t wear it
URL:https://www.bataviamoose682.org/event/lodge-general-meeting-2/2025-05-19/
CATEGORIES:Monthly Meeting
END:VEVENT
BEGIN:VEVENT
DTSTART;TZID=UTC:20250519T170000
DTEND;TZID=UTC:20250519T200000
DTSTAMP:20260423T230038
CREATED:20250507T071124Z
LAST-MODIFIED:20250507T071540Z
UID:10003050-1747674000-1747684800@www.bataviamoose682.org
SUMMARY:Comfort Food Monday
DESCRIPTION:
URL:https://www.bataviamoose682.org/event/comfort-food-monday/2025-05-19/
END:VEVENT
BEGIN:VEVENT
DTSTART;TZID=UTC:20250517T120000
DTEND;TZID=UTC:20250517T210000
DTSTAMP:20260423T230038
CREATED:20250507T065008Z
LAST-MODIFIED:20250507T065656Z
UID:10001735-1747483200-1747515600@www.bataviamoose682.org
SUMMARY:2nd Annual Moosic Festival & BBQ - OPEN TO THE PUBLIC
DESCRIPTION:Our first outdoor Music Fest of the Year in our awesome outdoor venue behind the Lodge. Great Music! Great Food! Great Drink! Great Fun! Open to the Public! $15 charitable cover. $20 includes BBQ Pork dinner. Bring your lawn chairs. All net proceeds help the Batavia Moose Lodge support Mooseheart Child City and School.\nMusic Line-up:1:00 pm The Sociables – A 6-piece acoustic/electric rock band. Their unique brand of entertainment fuses tight vocal harmonies\, stellar guitar tones\, a rock solid rhythm section and keys\, with a focus on performing songs that you love\, but maybe haven’t heard a band attempt to perform.\n3:30 pm Magoo and the Intention: An Americana power trio blending rock\, folk and blues. Mike “Magoo” McGohan has shared the stage with artists such as Kid Rock\, Blues Traveler\, Lynyrd Skynyrd\, and more.\n6:00 pm The Beaver Moon Band: Led by the soulful voice of lead singer Amy\, this group of established musicians bond over their shared passion for sound\, rhythm and beats. Each member brings a diverse and unique musical aesthetic to the band and over the years\, have grown comfortable jumping genres and mashing up influences.\n\nSponsored by the Batavia Moose Riders.\nThank you to our local Sponsors:Tully Electric https://www.tully-electric.com/Exteriors R-Us https://exteriorsrus.com/about-us/Stud Cycles https://www.facebook.com/studscycles/aboutMasus Financial https://www.masusfinancial.com/
URL:https://www.bataviamoose682.org/event/2nd-annual-moosic-festival-bbq/
LOCATION:Batavia Moose Lodge
CATEGORIES:Live Music Event
ATTACH;FMTTYPE=image/png:https://www.bataviamoose682.org/wp-content/uploads/2025/05/Moosic-Fest-2025.png
END:VEVENT
BEGIN:VEVENT
DTSTART;TZID=UTC:20250517T120000
DTEND;TZID=UTC:20250517T123000
DTSTAMP:20260423T230038
CREATED:20250507T064529Z
LAST-MODIFIED:20250507T065726Z
UID:10001733-1747483200-1747485000@www.bataviamoose682.org
SUMMARY:Blessing of the Bikes @ Mooseheart - OPEN TO THE PUBLIC
DESCRIPTION:21th Annual Blessing of the Bikes. Sponsored by the Northern Illinois Moose Riders.\n\nAdvanced registration for this event is preferred!\nAdvanced Registration: $20.00 per bikeDay of Registration: $30.00 per bike\nRegister at: http://support.moosecharities.org/site/TR/Event/General…
URL:https://www.bataviamoose682.org/event/blessing-of-the-bikes-mooseheart/
CATEGORIES:Special Event
ATTACH;FMTTYPE=image/png:https://www.bataviamoose682.org/wp-content/uploads/2025/05/Copy-of-Pink-and-Blue-Picnic-Adoption-Party-Facebook-Event-Cover-1.png
END:VEVENT
BEGIN:VEVENT
DTSTART;TZID=UTC:20250517T090000
DTEND;TZID=UTC:20250517T103000
DTSTAMP:20260423T230038
CREATED:20250507T064706Z
LAST-MODIFIED:20250507T064706Z
UID:10001734-1747472400-1747477800@www.bataviamoose682.org
SUMMARY:Pre-Blessing Tailgate @ Lodge
DESCRIPTION:For Moose members attending the 2025 Blessing of the Bikes\, we invite you to the Batavia Lodge prior to the ceremony at Mooseheart. \nFrench Toast Casserole (small donation of your giving)\, $5 Bloody Marys & $1 Beers
URL:https://www.bataviamoose682.org/event/pre-blessing-tailgate-lodge/
LOCATION:Batavia Moose Lodge
CATEGORIES:Special Event
END:VEVENT
BEGIN:VEVENT
DTSTART;TZID=UTC:20250516T170000
DTEND;TZID=UTC:20250516T203000
DTSTAMP:20260423T230038
CREATED:20250507T070846Z
LAST-MODIFIED:20250507T070846Z
UID:10002003-1747414800-1747427400@www.bataviamoose682.org
SUMMARY:Fish Fry
DESCRIPTION:
URL:https://www.bataviamoose682.org/event/fish-fry/2025-05-16/
END:VEVENT
BEGIN:VEVENT
DTSTART;TZID=UTC:20250516T120000
DTEND;TZID=UTC:20250516T150000
DTSTAMP:20260423T230038
CREATED:20250507T070730Z
LAST-MODIFIED:20250507T070800Z
UID:10001741-1747396800-1747407600@www.bataviamoose682.org
SUMMARY:Family Fish Fry Lunch
DESCRIPTION:
URL:https://www.bataviamoose682.org/event/friday-fish-fry-lunch/2025-05-16/
END:VEVENT
BEGIN:VEVENT
DTSTART;TZID=UTC:20250515T183000
DTEND;TZID=UTC:20250515T190000
DTSTAMP:20260423T230039
CREATED:20250317T044339Z
LAST-MODIFIED:20250317T044339Z
UID:10000526-1747333800-1747335600@www.bataviamoose682.org
SUMMARY:Women of the Moose Monthly Meeting
DESCRIPTION:Women of the Moose unite for our monthly meeting.\nNot a WOTM? Ask us and we can get you more information.
URL:https://www.bataviamoose682.org/event/women-of-the-moose-monthly-meeting/2025-05-15/
LOCATION:Batavia Moose Lodge
CATEGORIES:Monthly Meeting
ATTACH;FMTTYPE=image/png:https://www.bataviamoose682.org/wp-content/uploads/2022/03/KLKE52091.png
END:VEVENT
BEGIN:VEVENT
DTSTART;TZID=UTC:20250515T170000
DTEND;TZID=UTC:20250515T200000
DTSTAMP:20260423T230039
CREATED:20250507T071042Z
LAST-MODIFIED:20250507T071042Z
UID:10002269-1747328400-1747339200@www.bataviamoose682.org
SUMMARY:Kitchen Open
DESCRIPTION:
URL:https://www.bataviamoose682.org/event/kitchen-open/2025-05-15/
END:VEVENT
BEGIN:VEVENT
DTSTART;TZID=UTC:20250514T190000
DTEND;TZID=UTC:20250514T203000
DTSTAMP:20260423T230039
CREATED:20250317T043634Z
LAST-MODIFIED:20250317T043634Z
UID:10000404-1747249200-1747254600@www.bataviamoose682.org
SUMMARY:Line Dancing - Beginners Lesson
DESCRIPTION:
URL:https://www.bataviamoose682.org/event/line-dancing-beginners-lesson/2025-05-14/
END:VEVENT
BEGIN:VEVENT
DTSTART;TZID=UTC:20250514T170000
DTEND;TZID=UTC:20250514T200000
DTSTAMP:20260423T230039
CREATED:20250507T071042Z
LAST-MODIFIED:20250507T071042Z
UID:10002268-1747242000-1747252800@www.bataviamoose682.org
SUMMARY:Kitchen Open
DESCRIPTION:
URL:https://www.bataviamoose682.org/event/kitchen-open/2025-05-14/
END:VEVENT
BEGIN:VEVENT
DTSTART;TZID=UTC:20250513T193000
DTEND;TZID=UTC:20250513T194500
DTSTAMP:20260423T230039
CREATED:20250317T052710Z
LAST-MODIFIED:20250317T052734Z
UID:10001134-1747164600-1747165500@www.bataviamoose682.org
SUMMARY:Queen of Hearts
DESCRIPTION:QUEEN OF  HEARTS WEEKLY DRAWING \n\nMust be a Current Loyal order of the Moose member in good standing to play and will be asked to present membership card to claim prize.\ndrawings will be held on Tuesday evenings at 7:30 pm\nyou may purchase tickets as many tickets as you like\, any day of the week up until 7:00pm the night of the drawing\nplease sign your tickets as your name appears on your membership card\, include your phone number on ticket\nIf you will not be present for the drawing\, please indicate your envelope number selection on the ticket. if no number is indicated the next available number will be chosen for you by the board member present.\nall non-winning tickets will be disposed of after the drawing & tickets will begin to be sold for the next week’s drawing\nif the 2nd joker is drawn\, the game will restart and all monies remaining in the prize pool.\n\nWINNING PAYMENTS: \n\ngrand prize winner need not be present for full payout\nweekly winner must be present for cash payout\n\nPayout as follows \n\n70% of pot to the winner\n20% to the Moose Lodge\n10% to start the next game
URL:https://www.bataviamoose682.org/event/queen-of-hearts/2025-05-13/
LOCATION:Batavia Moose Lodge
END:VEVENT
BEGIN:VEVENT
DTSTART;TZID=UTC:20250513T180000
DTEND;TZID=UTC:20250513T200000
DTSTAMP:20260423T230039
CREATED:20250317T045829Z
LAST-MODIFIED:20250317T045829Z
UID:10000601-1747159200-1747166400@www.bataviamoose682.org
SUMMARY:Kubb
DESCRIPTION:Come out and learn the hottest new outdoor game…KUBB! \nPlease check out our Facebook group for changes in date due to bad weather. \nCurrent Moose members and their qualified guests are welcome to join in on the fun!
URL:https://www.bataviamoose682.org/event/kubb/2025-05-13/
END:VEVENT
BEGIN:VEVENT
DTSTART;TZID=UTC:20250513T180000
DTEND;TZID=UTC:20250513T193000
DTSTAMP:20260423T230039
CREATED:20250507T063832Z
LAST-MODIFIED:20250507T063832Z
UID:10001391-1747159200-1747164600@www.bataviamoose682.org
SUMMARY:Lighting - Summer Edition!
DESCRIPTION:
URL:https://www.bataviamoose682.org/event/lighting-summer-edition/2025-05-13/
END:VEVENT
BEGIN:VEVENT
DTSTART;TZID=UTC:20250513T170000
DTEND;TZID=UTC:20250513T200000
DTSTAMP:20260423T230039
CREATED:20250507T071042Z
LAST-MODIFIED:20250507T071042Z
UID:10002267-1747155600-1747166400@www.bataviamoose682.org
SUMMARY:Kitchen Open
DESCRIPTION:
URL:https://www.bataviamoose682.org/event/kitchen-open/2025-05-13/
END:VEVENT
BEGIN:VEVENT
DTSTART;TZID=UTC:20250512T190000
DTEND;TZID=UTC:20250512T200000
DTSTAMP:20260423T230039
CREATED:20250306T033232Z
LAST-MODIFIED:20250306T033232Z
UID:10000192-1747076400-1747080000@www.bataviamoose682.org
SUMMARY:Moose Legion Meeting
DESCRIPTION:MOOSE LEGION\nTHE MEN WHO GET THINGS DONE \n\nAlso known as the Degree of Service. The purpose of this degree is to band together the loyal and devoted Moose members who desire to make further contributions to the humanitarian objectives of our Order while providing fun and entertaining activities for members and their families.  The official colors of the Moose Legion are red\, white and purple with purple being predominant. You will also see Moose Legionnaires sporting maroon blazers and informal vests. \n\nMeetings are the 2nd Monday of each month at 7:00pm \n$20 annual dues \nFellowship Degree of Honor  \n\nHonorary degree of the Loyal Order of Moose conferred only upon Moose Legionnaires who are recommended by the Fellows of their Lodge and approved by the Pilgrim Council. The official regalia of a Fellow is a French-blue blazer featuring the Fellowship logo\, coordinated necktie\, white shirt and black trousers. \n\nPilgrim Degree of Merit  \nHighest honor that can be bestowed upon a member of the Loyal Order of Moose. This Degree is conferred only in the House of God at Mooseheart and comes as a reward for extraordinary service to the Order. The official regalia of a Pilgrim is a gold blazer featuring the Pilgrim logo\, coordinated necktie\, white shirt and black trousers!
URL:https://www.bataviamoose682.org/event/moose-legion-meeting/2025-05-12/
CATEGORIES:Monthly Meeting
END:VEVENT
BEGIN:VEVENT
DTSTART;TZID=UTC:20250512T170000
DTEND;TZID=UTC:20250512T200000
DTSTAMP:20260423T230039
CREATED:20250507T071124Z
LAST-MODIFIED:20250507T071540Z
UID:10003049-1747069200-1747080000@www.bataviamoose682.org
SUMMARY:Comfort Food Monday
DESCRIPTION:
URL:https://www.bataviamoose682.org/event/comfort-food-monday/2025-05-12/
END:VEVENT
BEGIN:VEVENT
DTSTART;TZID=UTC:20250511T080000
DTEND;TZID=UTC:20250511T120000
DTSTAMP:20260423T230039
CREATED:20250401T211136Z
LAST-MODIFIED:20250423T202954Z
UID:10001389-1746950400-1746964800@www.bataviamoose682.org
SUMMARY:Mother's Day Brunch 2025
DESCRIPTION:Mother’s Day Brunch8am – 12pm\nReservations will be taken at 30min intervals. We ask that attendees be conscience of their timeframe and absolute max at 2 hours. \nWe will do our best to seat all reservations AT the time of their RSVP seating. \nWe will accept walk-ins BUT reservations take priority\, so there may be a wait to get a table if you chose to not rsvp. We will also use the Social Quarters for overflow if needed. \nPayment due upon arrival to brunch* – cash or credit card accepted. \n$22 Adult – $9 Kids (12 and under) – Free (Kids 5 and under) \n\nCurrent Moose Members & their qualified guests.\n*Moose ID will be checked at the door\, only current Moose members may make payment for the party.
URL:https://www.bataviamoose682.org/event/mothers-day-brunch-2025/
LOCATION:Batavia Moose Lodge
CATEGORIES:Special Event
END:VEVENT
BEGIN:VEVENT
DTSTART;TZID=UTC:20250510T170000
DTEND;TZID=UTC:20250510T200000
DTSTAMP:20260423T230039
CREATED:20250507T071313Z
LAST-MODIFIED:20260303T184129Z
UID:10003573-1746896400-1746907200@www.bataviamoose682.org
SUMMARY:Saturday Dinner
DESCRIPTION:
URL:https://www.bataviamoose682.org/event/saturday-dinner/2025-05-10/
END:VEVENT
BEGIN:VEVENT
DTSTART;TZID=UTC:20250510T120000
DTEND;TZID=UTC:20250510T150000
DTSTAMP:20260423T230039
CREATED:20250507T071224Z
LAST-MODIFIED:20260303T184004Z
UID:10003311-1746878400-1746889200@www.bataviamoose682.org
SUMMARY:Family Lunch
DESCRIPTION:
URL:https://www.bataviamoose682.org/event/family-lunch/2025-05-10/
END:VEVENT
BEGIN:VEVENT
DTSTART;TZID=UTC:20250510T093000
DTEND;TZID=UTC:20250510T193000
DTSTAMP:20260423T230039
CREATED:20250306T023740Z
LAST-MODIFIED:20260209T210121Z
UID:10000008-1746869400-1746905400@www.bataviamoose682.org
SUMMARY:John Freedlund Memorial Golf Tournament 2025
DESCRIPTION:John Freedlund Memorial Golf Tournament \nNearly $10\,000 in Batavia boys’ basketball scholarships have been awarded since 2022 through the John Freedlund Memorial Scholarship. The Batavia Moose Legion is committed to keeping his memory alive. A lifelong resident of Batavia\, John was a member of the famous 1960’s Batavia HS basketball teams\, and an extraordinary husband\, father\, and grandfather. He was an active member of Batavia Moose 682\, TheMoose Legion\, and The Turners. John had a passion for sports\, especially Batavia Basketball. \nSaturday\, May 10th\, 2025Check-in @ 9:30amTee off @ 11:00am \nSteak dinner\, raffles and prizes to follow \nBliss Creek Golf Club1 Golfview LaneSugar Grove\, IL 60554 \nFORMAT: Four-person team ScrambleCOST: $135 per person: Includes golf\, steak dinner\, and contribution to scholarship. Dinner Only $35. Cash bar. \nSPONSORSHIPS*: $125 Hole sponsorships. Social Hour\, Lunch and Beverage Cart sponsorships also available. Great business recognition! \n*If you would like to be a sponsor for this great event\, please email craig.burgess@sbcglobal.net your company logo by May 1st\, 2025\, to be used along with your name so a sign can be made to recognize your contribution. \nPROCEEDS: This event is open to the public. Net proceeds will fund a Batavia High School Boys Basketball Scholarship in John’s name to be awarded at the annual Senior Awards Night in May 2025.
URL:https://www.bataviamoose682.org/event/johnfreedlundmemorialgolftournament2025/
LOCATION:Bliss Creak Golf Course\, 1 Golfview Lane\, Sugar Grove\, IL\, 60544\, United States
CATEGORIES:Open to the Public
END:VEVENT
BEGIN:VEVENT
DTSTART;TZID=UTC:20250509T190000
DTEND;TZID=UTC:20250509T220000
DTSTAMP:20260423T230039
CREATED:20250507T065305Z
LAST-MODIFIED:20250507T065336Z
UID:10001736-1746817200-1746828000@www.bataviamoose682.org
SUMMARY:Live Music: Comstock Lode
DESCRIPTION:Singer/songwriter/guitarist Greg Wright along with lead guitarist Sean Missey will bring their unique repertoire of country classics to Batavia Moose Lodge 5/9/25. For an outstanding evening of great entertainment mark you calendar’s… No Cover! \nOpen to current Moose Members & their Qualified guests
URL:https://www.bataviamoose682.org/event/live-music-comstock-lode/
LOCATION:Batavia Moose Lodge
CATEGORIES:Live Music Event
ATTACH;FMTTYPE=image/jpeg:https://www.bataviamoose682.org/wp-content/uploads/2025/05/Comstock-Lode.jpg
END:VEVENT
BEGIN:VEVENT
DTSTART;TZID=UTC:20250509T190000
DTEND;TZID=UTC:20250509T210000
DTSTAMP:20260423T230039
CREATED:20250306T034946Z
LAST-MODIFIED:20260211T013111Z
UID:10004201-1746817200-1746824400@www.bataviamoose682.org
SUMMARY:Trivia
DESCRIPTION:Get your team together and join us for a fun evening of TRIVIA!
URL:https://www.bataviamoose682.org/event/trivia/2025-05-09/
ATTACH;FMTTYPE=image/png:https://www.bataviamoose682.org/wp-content/uploads/2025/03/Kitchen-Open-1.png
END:VEVENT
BEGIN:VEVENT
DTSTART;TZID=UTC:20250509T170000
DTEND;TZID=UTC:20250509T203000
DTSTAMP:20260423T230039
CREATED:20250507T070846Z
LAST-MODIFIED:20250507T070846Z
UID:10002002-1746810000-1746822600@www.bataviamoose682.org
SUMMARY:Fish Fry
DESCRIPTION:
URL:https://www.bataviamoose682.org/event/fish-fry/2025-05-09/
END:VEVENT
BEGIN:VEVENT
DTSTART;TZID=UTC:20250509T120000
DTEND;TZID=UTC:20250509T150000
DTSTAMP:20260423T230039
CREATED:20250507T070730Z
LAST-MODIFIED:20250507T070800Z
UID:10001740-1746792000-1746802800@www.bataviamoose682.org
SUMMARY:Family Fish Fry Lunch
DESCRIPTION:
URL:https://www.bataviamoose682.org/event/friday-fish-fry-lunch/2025-05-09/
END:VEVENT
BEGIN:VEVENT
DTSTART;TZID=UTC:20250508T180000
DTEND;TZID=UTC:20250508T190000
DTSTAMP:20260423T230039
CREATED:20250507T064303Z
LAST-MODIFIED:20250507T064303Z
UID:10001673-1746727200-1746730800@www.bataviamoose682.org
SUMMARY:Rod & Gun Monthly Meeting
DESCRIPTION:
URL:https://www.bataviamoose682.org/event/rod-gun-monthly-meeting/2025-05-08/
CATEGORIES:Monthly Meeting
END:VEVENT
BEGIN:VEVENT
DTSTART;TZID=UTC:20250508T170000
DTEND;TZID=UTC:20250508T200000
DTSTAMP:20260423T230039
CREATED:20250507T071042Z
LAST-MODIFIED:20250507T071042Z
UID:10002266-1746723600-1746734400@www.bataviamoose682.org
SUMMARY:Kitchen Open
DESCRIPTION:
URL:https://www.bataviamoose682.org/event/kitchen-open/2025-05-08/
END:VEVENT
BEGIN:VEVENT
DTSTART;TZID=UTC:20250507T190000
DTEND;TZID=UTC:20250507T213000
DTSTAMP:20260423T230039
CREATED:20250507T064132Z
LAST-MODIFIED:20250507T065553Z
UID:10001412-1746644400-1746653400@www.bataviamoose682.org
SUMMARY:Open Jam Night!
DESCRIPTION:Open Jam is a great night to highlight our musicians and provide some great music for our members!\n\nWe invite our member musicians/bands to pop in and take over the back hall. Sign up at the lodge AT 6:30pm. Performance/Jam time starts at 7pm.\n\nCheck out our group @bataviamooseopenjam\n\nPlease connect with Joe Poidomani with questions.\n\nOpen to current Moose members and their qualified guest. Please remember qualified guest must follow the rules put in place. Thank you.
URL:https://www.bataviamoose682.org/event/open-jam-night/2025-05-07/
END:VEVENT
BEGIN:VEVENT
DTSTART;TZID=UTC:20250507T170000
DTEND;TZID=UTC:20250507T200000
DTSTAMP:20260423T230039
CREATED:20250507T071042Z
LAST-MODIFIED:20250507T071042Z
UID:10002265-1746637200-1746648000@www.bataviamoose682.org
SUMMARY:Kitchen Open
DESCRIPTION:
URL:https://www.bataviamoose682.org/event/kitchen-open/2025-05-07/
END:VEVENT
BEGIN:VEVENT
DTSTART;TZID=UTC:20250506T193000
DTEND;TZID=UTC:20250506T194500
DTSTAMP:20260423T230039
CREATED:20250317T052710Z
LAST-MODIFIED:20250317T052734Z
UID:10001133-1746559800-1746560700@www.bataviamoose682.org
SUMMARY:Queen of Hearts
DESCRIPTION:QUEEN OF  HEARTS WEEKLY DRAWING \n\nMust be a Current Loyal order of the Moose member in good standing to play and will be asked to present membership card to claim prize.\ndrawings will be held on Tuesday evenings at 7:30 pm\nyou may purchase tickets as many tickets as you like\, any day of the week up until 7:00pm the night of the drawing\nplease sign your tickets as your name appears on your membership card\, include your phone number on ticket\nIf you will not be present for the drawing\, please indicate your envelope number selection on the ticket. if no number is indicated the next available number will be chosen for you by the board member present.\nall non-winning tickets will be disposed of after the drawing & tickets will begin to be sold for the next week’s drawing\nif the 2nd joker is drawn\, the game will restart and all monies remaining in the prize pool.\n\nWINNING PAYMENTS: \n\ngrand prize winner need not be present for full payout\nweekly winner must be present for cash payout\n\nPayout as follows \n\n70% of pot to the winner\n20% to the Moose Lodge\n10% to start the next game
URL:https://www.bataviamoose682.org/event/queen-of-hearts/2025-05-06/
LOCATION:Batavia Moose Lodge
END:VEVENT
END:VCALENDAR