BEGIN:VCALENDAR
VERSION:2.0
PRODID:-//Batavia Moose #682 - ECPv6.15.20//NONSGML v1.0//EN
CALSCALE:GREGORIAN
METHOD:PUBLISH
X-ORIGINAL-URL:https://www.bataviamoose682.org
X-WR-CALDESC:Events for Batavia Moose #682
REFRESH-INTERVAL;VALUE=DURATION:PT1H
X-Robots-Tag:noindex
X-PUBLISHED-TTL:PT1H
BEGIN:VTIMEZONE
TZID:UTC
BEGIN:STANDARD
TZOFFSETFROM:+0000
TZOFFSETTO:+0000
TZNAME:UTC
DTSTART:20260101T000000
END:STANDARD
END:VTIMEZONE
BEGIN:VEVENT
DTSTART;TZID=UTC:20270116T170000
DTEND;TZID=UTC:20270116T200000
DTSTAMP:20260424T001334
CREATED:20250507T071313Z
LAST-MODIFIED:20260303T184129Z
UID:10003661-1800118800-1800129600@www.bataviamoose682.org
SUMMARY:Saturday Dinner
DESCRIPTION:
URL:https://www.bataviamoose682.org/event/saturday-dinner/2027-01-16/
END:VEVENT
BEGIN:VEVENT
DTSTART;TZID=UTC:20270116T173000
DTEND;TZID=UTC:20270116T200000
DTSTAMP:20260424T001334
CREATED:20250821T064936Z
LAST-MODIFIED:20250821T065109Z
UID:10004096-1800120600-1800129600@www.bataviamoose682.org
SUMMARY:Grilled Steak Night & Rockstar Bingo
DESCRIPTION:Seriously Fun Saturday Evening!\nGrilled Steak Dinner 5:30 pm – 8:00 pm\nRockstar Bingo 7 pm \nRockstar Bingo is like regular Bingo except with groovy music instead of numbers. Guaranteed you will be singing along.\nNo cost to play. Great prizes for winners. \nThis event is sponsored by the Batavia Moose Legion and is intended for Lodge members and their qualified guests. \nThis particular event will be in the social quarters only due to a private event scheduled in the back hall. \nRockstar Bingo is run by Seriously Fun Events.
URL:https://www.bataviamoose682.org/event/grilled-steak-night-rockstar-bingo/2027-01-16/
CATEGORIES:Monthly Special
ATTACH;FMTTYPE=image/png:https://www.bataviamoose682.org/wp-content/uploads/2025/03/Steak-Bingo.png
END:VEVENT
BEGIN:VEVENT
DTSTART;TZID=UTC:20270118T170000
DTEND;TZID=UTC:20270118T200000
DTSTAMP:20260424T001334
CREATED:20250821T051442Z
LAST-MODIFIED:20250821T051444Z
UID:10003137-1800291600-1800302400@www.bataviamoose682.org
SUMMARY:Comfort Food Monday
DESCRIPTION:
URL:https://www.bataviamoose682.org/event/comfort-food-monday-2/2027-01-18/
CATEGORIES:Monthly Meeting
END:VEVENT
BEGIN:VEVENT
DTSTART;TZID=UTC:20270118T190000
DTEND;TZID=UTC:20270118T200000
DTSTAMP:20260424T001334
CREATED:20250306T033105Z
LAST-MODIFIED:20250306T033306Z
UID:10000152-1800298800-1800302400@www.bataviamoose682.org
SUMMARY:Lodge General Meeting
DESCRIPTION:1st & 3rd Monday of each month @ 7:00 p.m. \n\nAll current members are welcome to attend.\nWe recommend each member attend a few meetings a year\nMeetings may include discussions regarding:\n\nBusiness conducted in the lodge\nRegional business\nUpcoming events & volunteer opportunities\nFundraiser ideas or proposals \n\n\nProper conduct & dress…\n\nNo alcohol allowed in meetings\nWhen in doubt\, don’t wear it
URL:https://www.bataviamoose682.org/event/lodge-general-meeting-2/2027-01-18/
CATEGORIES:Monthly Meeting
END:VEVENT
BEGIN:VEVENT
DTSTART;TZID=UTC:20270119T170000
DTEND;TZID=UTC:20270119T200000
DTSTAMP:20260424T001334
CREATED:20250507T071042Z
LAST-MODIFIED:20250507T071042Z
UID:10002531-1800378000-1800388800@www.bataviamoose682.org
SUMMARY:Kitchen Open
DESCRIPTION:
URL:https://www.bataviamoose682.org/event/kitchen-open/2027-01-19/
END:VEVENT
BEGIN:VEVENT
DTSTART;TZID=UTC:20270119T180000
DTEND;TZID=UTC:20270119T200000
DTSTAMP:20260424T001334
CREATED:20250317T045829Z
LAST-MODIFIED:20250317T045829Z
UID:10000689-1800381600-1800388800@www.bataviamoose682.org
SUMMARY:Kubb
DESCRIPTION:Come out and learn the hottest new outdoor game…KUBB! \nPlease check out our Facebook group for changes in date due to bad weather. \nCurrent Moose members and their qualified guests are welcome to join in on the fun!
URL:https://www.bataviamoose682.org/event/kubb/2027-01-19/
END:VEVENT
BEGIN:VEVENT
DTSTART;TZID=UTC:20270119T193000
DTEND;TZID=UTC:20270119T194500
DTSTAMP:20260424T001334
CREATED:20250317T052710Z
LAST-MODIFIED:20250317T052734Z
UID:10001222-1800387000-1800387900@www.bataviamoose682.org
SUMMARY:Queen of Hearts
DESCRIPTION:QUEEN OF  HEARTS WEEKLY DRAWING \n\nMust be a Current Loyal order of the Moose member in good standing to play and will be asked to present membership card to claim prize.\ndrawings will be held on Tuesday evenings at 7:30 pm\nyou may purchase tickets as many tickets as you like\, any day of the week up until 7:00pm the night of the drawing\nplease sign your tickets as your name appears on your membership card\, include your phone number on ticket\nIf you will not be present for the drawing\, please indicate your envelope number selection on the ticket. if no number is indicated the next available number will be chosen for you by the board member present.\nall non-winning tickets will be disposed of after the drawing & tickets will begin to be sold for the next week’s drawing\nif the 2nd joker is drawn\, the game will restart and all monies remaining in the prize pool.\n\nWINNING PAYMENTS: \n\ngrand prize winner need not be present for full payout\nweekly winner must be present for cash payout\n\nPayout as follows \n\n70% of pot to the winner\n20% to the Moose Lodge\n10% to start the next game
URL:https://www.bataviamoose682.org/event/queen-of-hearts/2027-01-19/
LOCATION:Batavia Moose Lodge
END:VEVENT
BEGIN:VEVENT
DTSTART;TZID=UTC:20270120T170000
DTEND;TZID=UTC:20270120T200000
DTSTAMP:20260424T001334
CREATED:20250507T071042Z
LAST-MODIFIED:20250507T071042Z
UID:10002532-1800464400-1800475200@www.bataviamoose682.org
SUMMARY:Kitchen Open
DESCRIPTION:
URL:https://www.bataviamoose682.org/event/kitchen-open/2027-01-20/
END:VEVENT
BEGIN:VEVENT
DTSTART;TZID=UTC:20270121T170000
DTEND;TZID=UTC:20270121T200000
DTSTAMP:20260424T001334
CREATED:20250507T071042Z
LAST-MODIFIED:20250507T071042Z
UID:10002533-1800550800-1800561600@www.bataviamoose682.org
SUMMARY:Kitchen Open
DESCRIPTION:
URL:https://www.bataviamoose682.org/event/kitchen-open/2027-01-21/
END:VEVENT
BEGIN:VEVENT
DTSTART;TZID=UTC:20270121T183000
DTEND;TZID=UTC:20270121T190000
DTSTAMP:20260424T001334
CREATED:20250317T044339Z
LAST-MODIFIED:20250317T044339Z
UID:10000546-1800556200-1800558000@www.bataviamoose682.org
SUMMARY:Women of the Moose Monthly Meeting
DESCRIPTION:Women of the Moose unite for our monthly meeting.\nNot a WOTM? Ask us and we can get you more information.
URL:https://www.bataviamoose682.org/event/women-of-the-moose-monthly-meeting/2027-01-21/
LOCATION:Batavia Moose Lodge
CATEGORIES:Monthly Meeting
ATTACH;FMTTYPE=image/png:https://www.bataviamoose682.org/wp-content/uploads/2022/03/KLKE52091.png
END:VEVENT
BEGIN:VEVENT
DTSTART;TZID=UTC:20270122T120000
DTEND;TZID=UTC:20270122T150000
DTSTAMP:20260424T001334
CREATED:20250507T070730Z
LAST-MODIFIED:20250507T070800Z
UID:10001829-1800619200-1800630000@www.bataviamoose682.org
SUMMARY:Family Fish Fry Lunch
DESCRIPTION:
URL:https://www.bataviamoose682.org/event/friday-fish-fry-lunch/2027-01-22/
END:VEVENT
BEGIN:VEVENT
DTSTART;TZID=UTC:20270122T170000
DTEND;TZID=UTC:20270122T203000
DTSTAMP:20260424T001334
CREATED:20250507T070846Z
LAST-MODIFIED:20250507T070846Z
UID:10002091-1800637200-1800649800@www.bataviamoose682.org
SUMMARY:Fish Fry
DESCRIPTION:
URL:https://www.bataviamoose682.org/event/fish-fry/2027-01-22/
END:VEVENT
BEGIN:VEVENT
DTSTART;TZID=UTC:20270123T120000
DTEND;TZID=UTC:20270123T150000
DTSTAMP:20260424T001334
CREATED:20250507T071224Z
LAST-MODIFIED:20260303T184004Z
UID:10003400-1800705600-1800716400@www.bataviamoose682.org
SUMMARY:Family Lunch
DESCRIPTION:
URL:https://www.bataviamoose682.org/event/family-lunch/2027-01-23/
END:VEVENT
BEGIN:VEVENT
DTSTART;TZID=UTC:20270123T170000
DTEND;TZID=UTC:20270123T200000
DTSTAMP:20260424T001334
CREATED:20250507T071313Z
LAST-MODIFIED:20260303T184129Z
UID:10003662-1800723600-1800734400@www.bataviamoose682.org
SUMMARY:Saturday Dinner
DESCRIPTION:
URL:https://www.bataviamoose682.org/event/saturday-dinner/2027-01-23/
END:VEVENT
BEGIN:VEVENT
DTSTART;TZID=UTC:20270125T170000
DTEND;TZID=UTC:20270125T200000
DTSTAMP:20260424T001334
CREATED:20250821T051442Z
LAST-MODIFIED:20250821T051444Z
UID:10003138-1800896400-1800907200@www.bataviamoose682.org
SUMMARY:Comfort Food Monday
DESCRIPTION:
URL:https://www.bataviamoose682.org/event/comfort-food-monday-2/2027-01-25/
CATEGORIES:Monthly Meeting
END:VEVENT
BEGIN:VEVENT
DTSTART;TZID=UTC:20270126T170000
DTEND;TZID=UTC:20270126T200000
DTSTAMP:20260424T001334
CREATED:20250507T071042Z
LAST-MODIFIED:20250507T071042Z
UID:10002534-1800982800-1800993600@www.bataviamoose682.org
SUMMARY:Kitchen Open
DESCRIPTION:
URL:https://www.bataviamoose682.org/event/kitchen-open/2027-01-26/
END:VEVENT
BEGIN:VEVENT
DTSTART;TZID=UTC:20270126T180000
DTEND;TZID=UTC:20270126T200000
DTSTAMP:20260424T001334
CREATED:20250317T045829Z
LAST-MODIFIED:20250317T045829Z
UID:10000690-1800986400-1800993600@www.bataviamoose682.org
SUMMARY:Kubb
DESCRIPTION:Come out and learn the hottest new outdoor game…KUBB! \nPlease check out our Facebook group for changes in date due to bad weather. \nCurrent Moose members and their qualified guests are welcome to join in on the fun!
URL:https://www.bataviamoose682.org/event/kubb/2027-01-26/
END:VEVENT
BEGIN:VEVENT
DTSTART;TZID=UTC:20270126T193000
DTEND;TZID=UTC:20270126T194500
DTSTAMP:20260424T001334
CREATED:20250317T052710Z
LAST-MODIFIED:20250317T052734Z
UID:10001223-1800991800-1800992700@www.bataviamoose682.org
SUMMARY:Queen of Hearts
DESCRIPTION:QUEEN OF  HEARTS WEEKLY DRAWING \n\nMust be a Current Loyal order of the Moose member in good standing to play and will be asked to present membership card to claim prize.\ndrawings will be held on Tuesday evenings at 7:30 pm\nyou may purchase tickets as many tickets as you like\, any day of the week up until 7:00pm the night of the drawing\nplease sign your tickets as your name appears on your membership card\, include your phone number on ticket\nIf you will not be present for the drawing\, please indicate your envelope number selection on the ticket. if no number is indicated the next available number will be chosen for you by the board member present.\nall non-winning tickets will be disposed of after the drawing & tickets will begin to be sold for the next week’s drawing\nif the 2nd joker is drawn\, the game will restart and all monies remaining in the prize pool.\n\nWINNING PAYMENTS: \n\ngrand prize winner need not be present for full payout\nweekly winner must be present for cash payout\n\nPayout as follows \n\n70% of pot to the winner\n20% to the Moose Lodge\n10% to start the next game
URL:https://www.bataviamoose682.org/event/queen-of-hearts/2027-01-26/
LOCATION:Batavia Moose Lodge
END:VEVENT
BEGIN:VEVENT
DTSTART;TZID=UTC:20270127T170000
DTEND;TZID=UTC:20270127T200000
DTSTAMP:20260424T001334
CREATED:20250507T071042Z
LAST-MODIFIED:20250507T071042Z
UID:10002535-1801069200-1801080000@www.bataviamoose682.org
SUMMARY:Kitchen Open
DESCRIPTION:
URL:https://www.bataviamoose682.org/event/kitchen-open/2027-01-27/
END:VEVENT
BEGIN:VEVENT
DTSTART;TZID=UTC:20270127T190000
DTEND;TZID=UTC:20270127T200000
DTSTAMP:20260424T001334
CREATED:20250317T043719Z
LAST-MODIFIED:20251209T071623Z
UID:10000485-1801076400-1801080000@www.bataviamoose682.org
SUMMARY:Line Dancing - Beginner/Intermediate Lesson
DESCRIPTION:
URL:https://www.bataviamoose682.org/event/line-dancing-beginner-intermediate-lesson/2027-01-27/
END:VEVENT
BEGIN:VEVENT
DTSTART;TZID=UTC:20270128T170000
DTEND;TZID=UTC:20270128T200000
DTSTAMP:20260424T001334
CREATED:20250507T071042Z
LAST-MODIFIED:20250507T071042Z
UID:10002536-1801155600-1801166400@www.bataviamoose682.org
SUMMARY:Kitchen Open
DESCRIPTION:
URL:https://www.bataviamoose682.org/event/kitchen-open/2027-01-28/
END:VEVENT
BEGIN:VEVENT
DTSTART;TZID=UTC:20270128T173000
DTEND;TZID=UTC:20270128T203000
DTSTAMP:20260424T001334
CREATED:20250821T052812Z
LAST-MODIFIED:20250821T052814Z
UID:10004076-1801157400-1801168200@www.bataviamoose682.org
SUMMARY:Famous Fried Chicken Dinner
DESCRIPTION:Join us for our Famous Fried Chicken Dinner. \n5:30-8:30pm or sold out \nopen to current Moose members & their qualified guests
URL:https://www.bataviamoose682.org/event/famous-fried-chicken-dinner-2-2-2/2027-01-28/
LOCATION:Batavia Moose Lodge
CATEGORIES:Monthly Special
ATTACH;FMTTYPE=image/png:https://www.bataviamoose682.org/wp-content/uploads/2025/03/Untitled-design-14.png
END:VEVENT
BEGIN:VEVENT
DTSTART;TZID=UTC:20270129T120000
DTEND;TZID=UTC:20270129T150000
DTSTAMP:20260424T001334
CREATED:20250507T070730Z
LAST-MODIFIED:20250507T070800Z
UID:10001830-1801224000-1801234800@www.bataviamoose682.org
SUMMARY:Family Fish Fry Lunch
DESCRIPTION:
URL:https://www.bataviamoose682.org/event/friday-fish-fry-lunch/2027-01-29/
END:VEVENT
BEGIN:VEVENT
DTSTART;TZID=UTC:20270129T170000
DTEND;TZID=UTC:20270129T203000
DTSTAMP:20260424T001334
CREATED:20250507T070846Z
LAST-MODIFIED:20250507T070846Z
UID:10002092-1801242000-1801254600@www.bataviamoose682.org
SUMMARY:Fish Fry
DESCRIPTION:
URL:https://www.bataviamoose682.org/event/fish-fry/2027-01-29/
END:VEVENT
BEGIN:VEVENT
DTSTART;TZID=UTC:20270130T120000
DTEND;TZID=UTC:20270130T150000
DTSTAMP:20260424T001334
CREATED:20250507T071224Z
LAST-MODIFIED:20260303T184004Z
UID:10003401-1801310400-1801321200@www.bataviamoose682.org
SUMMARY:Family Lunch
DESCRIPTION:
URL:https://www.bataviamoose682.org/event/family-lunch/2027-01-30/
END:VEVENT
BEGIN:VEVENT
DTSTART;TZID=UTC:20270130T170000
DTEND;TZID=UTC:20270130T200000
DTSTAMP:20260424T001334
CREATED:20250507T071313Z
LAST-MODIFIED:20260303T184129Z
UID:10003663-1801328400-1801339200@www.bataviamoose682.org
SUMMARY:Saturday Dinner
DESCRIPTION:
URL:https://www.bataviamoose682.org/event/saturday-dinner/2027-01-30/
END:VEVENT
BEGIN:VEVENT
DTSTART;TZID=UTC:20270201T170000
DTEND;TZID=UTC:20270201T200000
DTSTAMP:20260424T001334
CREATED:20250821T051442Z
LAST-MODIFIED:20250821T051444Z
UID:10003139-1801501200-1801512000@www.bataviamoose682.org
SUMMARY:Comfort Food Monday
DESCRIPTION:
URL:https://www.bataviamoose682.org/event/comfort-food-monday-2/2027-02-01/
CATEGORIES:Monthly Meeting
END:VEVENT
BEGIN:VEVENT
DTSTART;TZID=UTC:20270201T190000
DTEND;TZID=UTC:20270201T200000
DTSTAMP:20260424T001334
CREATED:20250821T051547Z
LAST-MODIFIED:20250821T051549Z
UID:10003958-1801508400-1801512000@www.bataviamoose682.org
SUMMARY:Lodge General Meeting
DESCRIPTION:1st & 3rd Monday of each month @ 7:00 p.m. \n\nAll current members are welcome to attend.\nWe recommend each member attend a few meetings a year\nMeetings may include discussions regarding:\n\nBusiness conducted in the lodge\nRegional business\nUpcoming events & volunteer opportunities\nFundraiser ideas or proposals \n\n\nProper conduct & dress…\n\nNo alcohol allowed in meetings\nWhen in doubt\, don’t wear it\n\n\n\n 
URL:https://www.bataviamoose682.org/event/lodge-general-meeting-3-2/2027-02-01/
CATEGORIES:Monthly Meeting
END:VEVENT
BEGIN:VEVENT
DTSTART;TZID=UTC:20270202T170000
DTEND;TZID=UTC:20270202T200000
DTSTAMP:20260424T001334
CREATED:20250507T071042Z
LAST-MODIFIED:20250507T071042Z
UID:10002537-1801587600-1801598400@www.bataviamoose682.org
SUMMARY:Kitchen Open
DESCRIPTION:
URL:https://www.bataviamoose682.org/event/kitchen-open/2027-02-02/
END:VEVENT
BEGIN:VEVENT
DTSTART;TZID=UTC:20270202T180000
DTEND;TZID=UTC:20270202T200000
DTSTAMP:20260424T001334
CREATED:20250317T045829Z
LAST-MODIFIED:20250317T045829Z
UID:10000691-1801591200-1801598400@www.bataviamoose682.org
SUMMARY:Kubb
DESCRIPTION:Come out and learn the hottest new outdoor game…KUBB! \nPlease check out our Facebook group for changes in date due to bad weather. \nCurrent Moose members and their qualified guests are welcome to join in on the fun!
URL:https://www.bataviamoose682.org/event/kubb/2027-02-02/
END:VEVENT
END:VCALENDAR