BEGIN:VCALENDAR
VERSION:2.0
PRODID:-//Batavia Moose #682 - ECPv6.15.20//NONSGML v1.0//EN
CALSCALE:GREGORIAN
METHOD:PUBLISH
X-WR-CALNAME:Batavia Moose #682
X-ORIGINAL-URL:https://www.bataviamoose682.org
X-WR-CALDESC:Events for Batavia Moose #682
REFRESH-INTERVAL;VALUE=DURATION:PT1H
X-Robots-Tag:noindex
X-PUBLISHED-TTL:PT1H
BEGIN:VTIMEZONE
TZID:UTC
BEGIN:STANDARD
TZOFFSETFROM:+0000
TZOFFSETTO:+0000
TZNAME:UTC
DTSTART:20240101T000000
END:STANDARD
END:VTIMEZONE
BEGIN:VEVENT
DTSTART;TZID=UTC:20250531T170000
DTEND;TZID=UTC:20250531T200000
DTSTAMP:20260423T195842
CREATED:20250507T071313Z
LAST-MODIFIED:20260303T184129Z
UID:10003576-1748710800-1748721600@www.bataviamoose682.org
SUMMARY:Saturday Dinner
DESCRIPTION:
URL:https://www.bataviamoose682.org/event/saturday-dinner/2025-05-31/
END:VEVENT
BEGIN:VEVENT
DTSTART;TZID=UTC:20250531T120000
DTEND;TZID=UTC:20250531T150000
DTSTAMP:20260423T195842
CREATED:20250507T071224Z
LAST-MODIFIED:20260303T184004Z
UID:10003314-1748692800-1748703600@www.bataviamoose682.org
SUMMARY:Family Lunch
DESCRIPTION:
URL:https://www.bataviamoose682.org/event/family-lunch/2025-05-31/
END:VEVENT
BEGIN:VEVENT
DTSTART;TZID=UTC:20250530T170000
DTEND;TZID=UTC:20250530T203000
DTSTAMP:20260423T195842
CREATED:20250507T070846Z
LAST-MODIFIED:20250507T070846Z
UID:10002005-1748624400-1748637000@www.bataviamoose682.org
SUMMARY:Fish Fry
DESCRIPTION:
URL:https://www.bataviamoose682.org/event/fish-fry/2025-05-30/
END:VEVENT
BEGIN:VEVENT
DTSTART;TZID=UTC:20250530T120000
DTEND;TZID=UTC:20250530T150000
DTSTAMP:20260423T195842
CREATED:20250507T070730Z
LAST-MODIFIED:20250507T070800Z
UID:10001743-1748606400-1748617200@www.bataviamoose682.org
SUMMARY:Family Fish Fry Lunch
DESCRIPTION:
URL:https://www.bataviamoose682.org/event/friday-fish-fry-lunch/2025-05-30/
END:VEVENT
BEGIN:VEVENT
DTSTART;TZID=UTC:20250529T183000
DTEND;TZID=UTC:20250529T210000
DTSTAMP:20260423T195842
CREATED:20250507T071735Z
LAST-MODIFIED:20250507T071832Z
UID:10003834-1748543400-1748552400@www.bataviamoose682.org
SUMMARY:Horseshoe League
DESCRIPTION:
URL:https://www.bataviamoose682.org/event/horseshoe-league/2025-05-29/
LOCATION:Batavia Moose Lodge
ATTACH;FMTTYPE=image/png:https://www.bataviamoose682.org/wp-content/uploads/2025/05/Horseshoe-League-Flyer-_20250422_111559_0000.png
END:VEVENT
BEGIN:VEVENT
DTSTART;TZID=UTC:20250529T170000
DTEND;TZID=UTC:20250529T200000
DTSTAMP:20260423T195842
CREATED:20250507T071042Z
LAST-MODIFIED:20250507T071042Z
UID:10002275-1748538000-1748548800@www.bataviamoose682.org
SUMMARY:Kitchen Open
DESCRIPTION:
URL:https://www.bataviamoose682.org/event/kitchen-open/2025-05-29/
END:VEVENT
BEGIN:VEVENT
DTSTART;TZID=UTC:20250528T190000
DTEND;TZID=UTC:20250528T200000
DTSTAMP:20260423T195842
CREATED:20250317T043719Z
LAST-MODIFIED:20251209T071623Z
UID:10000465-1748458800-1748462400@www.bataviamoose682.org
SUMMARY:Line Dancing - Beginner/Intermediate Lesson
DESCRIPTION:
URL:https://www.bataviamoose682.org/event/line-dancing-beginner-intermediate-lesson/2025-05-28/
END:VEVENT
BEGIN:VEVENT
DTSTART;TZID=UTC:20250528T170000
DTEND;TZID=UTC:20250528T200000
DTSTAMP:20260423T195842
CREATED:20250507T071042Z
LAST-MODIFIED:20250507T071042Z
UID:10002274-1748451600-1748462400@www.bataviamoose682.org
SUMMARY:Kitchen Open
DESCRIPTION:
URL:https://www.bataviamoose682.org/event/kitchen-open/2025-05-28/
END:VEVENT
BEGIN:VEVENT
DTSTART;TZID=UTC:20250527T193000
DTEND;TZID=UTC:20250527T194500
DTSTAMP:20260423T195842
CREATED:20250317T052710Z
LAST-MODIFIED:20250317T052734Z
UID:10001136-1748374200-1748375100@www.bataviamoose682.org
SUMMARY:Queen of Hearts
DESCRIPTION:QUEEN OF  HEARTS WEEKLY DRAWING \n\nMust be a Current Loyal order of the Moose member in good standing to play and will be asked to present membership card to claim prize.\ndrawings will be held on Tuesday evenings at 7:30 pm\nyou may purchase tickets as many tickets as you like\, any day of the week up until 7:00pm the night of the drawing\nplease sign your tickets as your name appears on your membership card\, include your phone number on ticket\nIf you will not be present for the drawing\, please indicate your envelope number selection on the ticket. if no number is indicated the next available number will be chosen for you by the board member present.\nall non-winning tickets will be disposed of after the drawing & tickets will begin to be sold for the next week’s drawing\nif the 2nd joker is drawn\, the game will restart and all monies remaining in the prize pool.\n\nWINNING PAYMENTS: \n\ngrand prize winner need not be present for full payout\nweekly winner must be present for cash payout\n\nPayout as follows \n\n70% of pot to the winner\n20% to the Moose Lodge\n10% to start the next game
URL:https://www.bataviamoose682.org/event/queen-of-hearts/2025-05-27/
LOCATION:Batavia Moose Lodge
END:VEVENT
BEGIN:VEVENT
DTSTART;TZID=UTC:20250527T180000
DTEND;TZID=UTC:20250527T200000
DTSTAMP:20260423T195842
CREATED:20250317T045829Z
LAST-MODIFIED:20250317T045829Z
UID:10000603-1748368800-1748376000@www.bataviamoose682.org
SUMMARY:Kubb
DESCRIPTION:Come out and learn the hottest new outdoor game…KUBB! \nPlease check out our Facebook group for changes in date due to bad weather. \nCurrent Moose members and their qualified guests are welcome to join in on the fun!
URL:https://www.bataviamoose682.org/event/kubb/2025-05-27/
END:VEVENT
BEGIN:VEVENT
DTSTART;TZID=UTC:20250527T180000
DTEND;TZID=UTC:20250527T193000
DTSTAMP:20260423T195842
CREATED:20250507T063832Z
LAST-MODIFIED:20250507T063832Z
UID:10001393-1748368800-1748374200@www.bataviamoose682.org
SUMMARY:Lighting - Summer Edition!
DESCRIPTION:
URL:https://www.bataviamoose682.org/event/lighting-summer-edition/2025-05-27/
END:VEVENT
BEGIN:VEVENT
DTSTART;TZID=UTC:20250527T170000
DTEND;TZID=UTC:20250527T200000
DTSTAMP:20260423T195842
CREATED:20250507T071042Z
LAST-MODIFIED:20250507T071042Z
UID:10002273-1748365200-1748376000@www.bataviamoose682.org
SUMMARY:Kitchen Open
DESCRIPTION:
URL:https://www.bataviamoose682.org/event/kitchen-open/2025-05-27/
END:VEVENT
BEGIN:VEVENT
DTSTART;VALUE=DATE:20250526
DTEND;VALUE=DATE:20250527
DTSTAMP:20260423T195842
CREATED:20250507T065443Z
LAST-MODIFIED:20250507T065443Z
UID:10001737-1748217600-1748303999@www.bataviamoose682.org
SUMMARY:Memorial Day - LODGE CLOSED
DESCRIPTION:
URL:https://www.bataviamoose682.org/event/memorial-day-lodge-closed/
END:VEVENT
BEGIN:VEVENT
DTSTART;TZID=UTC:20250524T170000
DTEND;TZID=UTC:20250524T200000
DTSTAMP:20260423T195842
CREATED:20250507T071313Z
LAST-MODIFIED:20260303T184129Z
UID:10003575-1748106000-1748116800@www.bataviamoose682.org
SUMMARY:Saturday Dinner
DESCRIPTION:
URL:https://www.bataviamoose682.org/event/saturday-dinner/2025-05-24/
END:VEVENT
BEGIN:VEVENT
DTSTART;TZID=UTC:20250524T120000
DTEND;TZID=UTC:20250524T150000
DTSTAMP:20260423T195842
CREATED:20250507T071224Z
LAST-MODIFIED:20260303T184004Z
UID:10003313-1748088000-1748098800@www.bataviamoose682.org
SUMMARY:Family Lunch
DESCRIPTION:
URL:https://www.bataviamoose682.org/event/family-lunch/2025-05-24/
END:VEVENT
BEGIN:VEVENT
DTSTART;TZID=UTC:20250523T170000
DTEND;TZID=UTC:20250523T203000
DTSTAMP:20260423T195842
CREATED:20250507T070846Z
LAST-MODIFIED:20250507T070846Z
UID:10002004-1748019600-1748032200@www.bataviamoose682.org
SUMMARY:Fish Fry
DESCRIPTION:
URL:https://www.bataviamoose682.org/event/fish-fry/2025-05-23/
END:VEVENT
BEGIN:VEVENT
DTSTART;TZID=UTC:20250523T120000
DTEND;TZID=UTC:20250523T150000
DTSTAMP:20260423T195842
CREATED:20250507T070730Z
LAST-MODIFIED:20250507T070800Z
UID:10001742-1748001600-1748012400@www.bataviamoose682.org
SUMMARY:Family Fish Fry Lunch
DESCRIPTION:
URL:https://www.bataviamoose682.org/event/friday-fish-fry-lunch/2025-05-23/
END:VEVENT
BEGIN:VEVENT
DTSTART;TZID=UTC:20250522T170000
DTEND;TZID=UTC:20250522T200000
DTSTAMP:20260423T195842
CREATED:20250507T071042Z
LAST-MODIFIED:20250507T071042Z
UID:10002272-1747933200-1747944000@www.bataviamoose682.org
SUMMARY:Kitchen Open
DESCRIPTION:
URL:https://www.bataviamoose682.org/event/kitchen-open/2025-05-22/
END:VEVENT
BEGIN:VEVENT
DTSTART;TZID=UTC:20250521T190000
DTEND;TZID=UTC:20250521T210000
DTSTAMP:20260423T195842
CREATED:20250507T065928Z
LAST-MODIFIED:20250507T065928Z
UID:10001738-1747854000-1747861200@www.bataviamoose682.org
SUMMARY:Local Artist Spotlight: Jonny Lyons
DESCRIPTION:Combining Influences of Rock and Roll\, Country\, Blues\, Soul\, Surf\, and Rockabilly\, Jonny Lyons celebrates a musical style that will take you on a journey back in time to the golden era of music and showmanship!\n\nDon’t miss this show in our social quarters! Jonny and his band the Pride will also be on stage again at Moose-a-Palooza 2025.\n\nOpen to current members & their qualified guests
URL:https://www.bataviamoose682.org/event/local-artist-spotlight-jonny-lyons/
LOCATION:Batavia Moose Lodge
CATEGORIES:Live Music Event
ATTACH;FMTTYPE=image/jpeg:https://www.bataviamoose682.org/wp-content/uploads/2025/05/Johnny-Lyons.jpg
END:VEVENT
BEGIN:VEVENT
DTSTART;TZID=UTC:20250521T170000
DTEND;TZID=UTC:20250521T200000
DTSTAMP:20260423T195842
CREATED:20250507T071042Z
LAST-MODIFIED:20250507T071042Z
UID:10002271-1747846800-1747857600@www.bataviamoose682.org
SUMMARY:Kitchen Open
DESCRIPTION:
URL:https://www.bataviamoose682.org/event/kitchen-open/2025-05-21/
END:VEVENT
BEGIN:VEVENT
DTSTART;TZID=UTC:20250520T193000
DTEND;TZID=UTC:20250520T194500
DTSTAMP:20260423T195842
CREATED:20250317T052710Z
LAST-MODIFIED:20250317T052734Z
UID:10001135-1747769400-1747770300@www.bataviamoose682.org
SUMMARY:Queen of Hearts
DESCRIPTION:QUEEN OF  HEARTS WEEKLY DRAWING \n\nMust be a Current Loyal order of the Moose member in good standing to play and will be asked to present membership card to claim prize.\ndrawings will be held on Tuesday evenings at 7:30 pm\nyou may purchase tickets as many tickets as you like\, any day of the week up until 7:00pm the night of the drawing\nplease sign your tickets as your name appears on your membership card\, include your phone number on ticket\nIf you will not be present for the drawing\, please indicate your envelope number selection on the ticket. if no number is indicated the next available number will be chosen for you by the board member present.\nall non-winning tickets will be disposed of after the drawing & tickets will begin to be sold for the next week’s drawing\nif the 2nd joker is drawn\, the game will restart and all monies remaining in the prize pool.\n\nWINNING PAYMENTS: \n\ngrand prize winner need not be present for full payout\nweekly winner must be present for cash payout\n\nPayout as follows \n\n70% of pot to the winner\n20% to the Moose Lodge\n10% to start the next game
URL:https://www.bataviamoose682.org/event/queen-of-hearts/2025-05-20/
LOCATION:Batavia Moose Lodge
END:VEVENT
BEGIN:VEVENT
DTSTART;TZID=UTC:20250520T180000
DTEND;TZID=UTC:20250520T200000
DTSTAMP:20260423T195842
CREATED:20250317T045829Z
LAST-MODIFIED:20250317T045829Z
UID:10000602-1747764000-1747771200@www.bataviamoose682.org
SUMMARY:Kubb
DESCRIPTION:Come out and learn the hottest new outdoor game…KUBB! \nPlease check out our Facebook group for changes in date due to bad weather. \nCurrent Moose members and their qualified guests are welcome to join in on the fun!
URL:https://www.bataviamoose682.org/event/kubb/2025-05-20/
END:VEVENT
BEGIN:VEVENT
DTSTART;TZID=UTC:20250520T180000
DTEND;TZID=UTC:20250520T193000
DTSTAMP:20260423T195842
CREATED:20250507T063832Z
LAST-MODIFIED:20250507T063832Z
UID:10001392-1747764000-1747769400@www.bataviamoose682.org
SUMMARY:Lighting - Summer Edition!
DESCRIPTION:
URL:https://www.bataviamoose682.org/event/lighting-summer-edition/2025-05-20/
END:VEVENT
BEGIN:VEVENT
DTSTART;TZID=UTC:20250520T170000
DTEND;TZID=UTC:20250520T200000
DTSTAMP:20260423T195842
CREATED:20250507T071042Z
LAST-MODIFIED:20250507T071042Z
UID:10002270-1747760400-1747771200@www.bataviamoose682.org
SUMMARY:Kitchen Open
DESCRIPTION:
URL:https://www.bataviamoose682.org/event/kitchen-open/2025-05-20/
END:VEVENT
BEGIN:VEVENT
DTSTART;TZID=UTC:20250519T190000
DTEND;TZID=UTC:20250519T200000
DTSTAMP:20260423T195842
CREATED:20250306T033105Z
LAST-MODIFIED:20250306T033306Z
UID:10000132-1747681200-1747684800@www.bataviamoose682.org
SUMMARY:Lodge General Meeting
DESCRIPTION:1st & 3rd Monday of each month @ 7:00 p.m. \n\nAll current members are welcome to attend.\nWe recommend each member attend a few meetings a year\nMeetings may include discussions regarding:\n\nBusiness conducted in the lodge\nRegional business\nUpcoming events & volunteer opportunities\nFundraiser ideas or proposals \n\n\nProper conduct & dress…\n\nNo alcohol allowed in meetings\nWhen in doubt\, don’t wear it
URL:https://www.bataviamoose682.org/event/lodge-general-meeting-2/2025-05-19/
CATEGORIES:Monthly Meeting
END:VEVENT
BEGIN:VEVENT
DTSTART;TZID=UTC:20250519T170000
DTEND;TZID=UTC:20250519T200000
DTSTAMP:20260423T195842
CREATED:20250507T071124Z
LAST-MODIFIED:20250507T071540Z
UID:10003050-1747674000-1747684800@www.bataviamoose682.org
SUMMARY:Comfort Food Monday
DESCRIPTION:
URL:https://www.bataviamoose682.org/event/comfort-food-monday/2025-05-19/
END:VEVENT
BEGIN:VEVENT
DTSTART;TZID=UTC:20250517T120000
DTEND;TZID=UTC:20250517T210000
DTSTAMP:20260423T195842
CREATED:20250507T065008Z
LAST-MODIFIED:20250507T065656Z
UID:10001735-1747483200-1747515600@www.bataviamoose682.org
SUMMARY:2nd Annual Moosic Festival & BBQ - OPEN TO THE PUBLIC
DESCRIPTION:Our first outdoor Music Fest of the Year in our awesome outdoor venue behind the Lodge. Great Music! Great Food! Great Drink! Great Fun! Open to the Public! $15 charitable cover. $20 includes BBQ Pork dinner. Bring your lawn chairs. All net proceeds help the Batavia Moose Lodge support Mooseheart Child City and School.\nMusic Line-up:1:00 pm The Sociables – A 6-piece acoustic/electric rock band. Their unique brand of entertainment fuses tight vocal harmonies\, stellar guitar tones\, a rock solid rhythm section and keys\, with a focus on performing songs that you love\, but maybe haven’t heard a band attempt to perform.\n3:30 pm Magoo and the Intention: An Americana power trio blending rock\, folk and blues. Mike “Magoo” McGohan has shared the stage with artists such as Kid Rock\, Blues Traveler\, Lynyrd Skynyrd\, and more.\n6:00 pm The Beaver Moon Band: Led by the soulful voice of lead singer Amy\, this group of established musicians bond over their shared passion for sound\, rhythm and beats. Each member brings a diverse and unique musical aesthetic to the band and over the years\, have grown comfortable jumping genres and mashing up influences.\n\nSponsored by the Batavia Moose Riders.\nThank you to our local Sponsors:Tully Electric https://www.tully-electric.com/Exteriors R-Us https://exteriorsrus.com/about-us/Stud Cycles https://www.facebook.com/studscycles/aboutMasus Financial https://www.masusfinancial.com/
URL:https://www.bataviamoose682.org/event/2nd-annual-moosic-festival-bbq/
LOCATION:Batavia Moose Lodge
CATEGORIES:Live Music Event
ATTACH;FMTTYPE=image/png:https://www.bataviamoose682.org/wp-content/uploads/2025/05/Moosic-Fest-2025.png
END:VEVENT
BEGIN:VEVENT
DTSTART;TZID=UTC:20250517T120000
DTEND;TZID=UTC:20250517T123000
DTSTAMP:20260423T195842
CREATED:20250507T064529Z
LAST-MODIFIED:20250507T065726Z
UID:10001733-1747483200-1747485000@www.bataviamoose682.org
SUMMARY:Blessing of the Bikes @ Mooseheart - OPEN TO THE PUBLIC
DESCRIPTION:21th Annual Blessing of the Bikes. Sponsored by the Northern Illinois Moose Riders.\n\nAdvanced registration for this event is preferred!\nAdvanced Registration: $20.00 per bikeDay of Registration: $30.00 per bike\nRegister at: http://support.moosecharities.org/site/TR/Event/General…
URL:https://www.bataviamoose682.org/event/blessing-of-the-bikes-mooseheart/
CATEGORIES:Special Event
ATTACH;FMTTYPE=image/png:https://www.bataviamoose682.org/wp-content/uploads/2025/05/Copy-of-Pink-and-Blue-Picnic-Adoption-Party-Facebook-Event-Cover-1.png
END:VEVENT
BEGIN:VEVENT
DTSTART;TZID=UTC:20250517T090000
DTEND;TZID=UTC:20250517T103000
DTSTAMP:20260423T195842
CREATED:20250507T064706Z
LAST-MODIFIED:20250507T064706Z
UID:10001734-1747472400-1747477800@www.bataviamoose682.org
SUMMARY:Pre-Blessing Tailgate @ Lodge
DESCRIPTION:For Moose members attending the 2025 Blessing of the Bikes\, we invite you to the Batavia Lodge prior to the ceremony at Mooseheart. \nFrench Toast Casserole (small donation of your giving)\, $5 Bloody Marys & $1 Beers
URL:https://www.bataviamoose682.org/event/pre-blessing-tailgate-lodge/
LOCATION:Batavia Moose Lodge
CATEGORIES:Special Event
END:VEVENT
BEGIN:VEVENT
DTSTART;TZID=UTC:20250516T170000
DTEND;TZID=UTC:20250516T203000
DTSTAMP:20260423T195842
CREATED:20250507T070846Z
LAST-MODIFIED:20250507T070846Z
UID:10002003-1747414800-1747427400@www.bataviamoose682.org
SUMMARY:Fish Fry
DESCRIPTION:
URL:https://www.bataviamoose682.org/event/fish-fry/2025-05-16/
END:VEVENT
END:VCALENDAR