BEGIN:VCALENDAR
VERSION:2.0
PRODID:-//Batavia Moose #682 - ECPv6.15.20//NONSGML v1.0//EN
CALSCALE:GREGORIAN
METHOD:PUBLISH
X-WR-CALNAME:Batavia Moose #682
X-ORIGINAL-URL:https://www.bataviamoose682.org
X-WR-CALDESC:Events for Batavia Moose #682
REFRESH-INTERVAL;VALUE=DURATION:PT1H
X-Robots-Tag:noindex
X-PUBLISHED-TTL:PT1H
BEGIN:VTIMEZONE
TZID:UTC
BEGIN:STANDARD
TZOFFSETFROM:+0000
TZOFFSETTO:+0000
TZNAME:UTC
DTSTART:20240101T000000
END:STANDARD
END:VTIMEZONE
BEGIN:VEVENT
DTSTART;TZID=UTC:20251107T120000
DTEND;TZID=UTC:20251107T150000
DTSTAMP:20260421T212113
CREATED:20250507T070730Z
LAST-MODIFIED:20250507T070800Z
UID:10001766-1762516800-1762527600@www.bataviamoose682.org
SUMMARY:Family Fish Fry Lunch
DESCRIPTION:
URL:https://www.bataviamoose682.org/event/friday-fish-fry-lunch/2025-11-07/
END:VEVENT
BEGIN:VEVENT
DTSTART;TZID=UTC:20251106T184500
DTEND;TZID=UTC:20251106T194500
DTSTAMP:20260421T212113
CREATED:20240220T230013Z
LAST-MODIFIED:20250306T022809Z
UID:10000017-1762454700-1762458300@www.bataviamoose682.org
SUMMARY:Moose Rider's Monthly Meeting
DESCRIPTION:Join us for our monthly Batavia Moose Rider’s Meeting. \nThe Moose Riders are consistently among the fastest growing and most “active” of all Moose Lodge Activity Groups. $20 annual dues. \nMoose Riders is open to any current Moose member. No motorcycle required to join.
URL:https://www.bataviamoose682.org/event/moose-riders-monthly-meeting/2025-11-06/
LOCATION:Batavia Moose Lodge
CATEGORIES:Monthly Meeting
ATTACH;FMTTYPE=image/png:https://www.bataviamoose682.org/wp-content/uploads/2024/02/Untitled-design-21-e1708489780661.png
END:VEVENT
BEGIN:VEVENT
DTSTART;TZID=UTC:20251106T170000
DTEND;TZID=UTC:20251106T200000
DTSTAMP:20260421T212113
CREATED:20250507T071042Z
LAST-MODIFIED:20250507T071042Z
UID:10002344-1762448400-1762459200@www.bataviamoose682.org
SUMMARY:Kitchen Open
DESCRIPTION:
URL:https://www.bataviamoose682.org/event/kitchen-open/2025-11-06/
END:VEVENT
BEGIN:VEVENT
DTSTART;TZID=UTC:20251105T190000
DTEND;TZID=UTC:20251105T213000
DTSTAMP:20260421T212113
CREATED:20250507T064132Z
LAST-MODIFIED:20250507T065553Z
UID:10001438-1762369200-1762378200@www.bataviamoose682.org
SUMMARY:Open Jam Night!
DESCRIPTION:Open Jam is a great night to highlight our musicians and provide some great music for our members!\n\nWe invite our member musicians/bands to pop in and take over the back hall. Sign up at the lodge AT 6:30pm. Performance/Jam time starts at 7pm.\n\nCheck out our group @bataviamooseopenjam\n\nPlease connect with Joe Poidomani with questions.\n\nOpen to current Moose members and their qualified guest. Please remember qualified guest must follow the rules put in place. Thank you.
URL:https://www.bataviamoose682.org/event/open-jam-night/2025-11-05/
END:VEVENT
BEGIN:VEVENT
DTSTART;TZID=UTC:20251105T170000
DTEND;TZID=UTC:20251105T200000
DTSTAMP:20260421T212113
CREATED:20250507T071042Z
LAST-MODIFIED:20250507T071042Z
UID:10002343-1762362000-1762372800@www.bataviamoose682.org
SUMMARY:Kitchen Open
DESCRIPTION:
URL:https://www.bataviamoose682.org/event/kitchen-open/2025-11-05/
END:VEVENT
BEGIN:VEVENT
DTSTART;TZID=UTC:20251104T193000
DTEND;TZID=UTC:20251104T194500
DTSTAMP:20260421T212113
CREATED:20250317T052710Z
LAST-MODIFIED:20250317T052734Z
UID:10001159-1762284600-1762285500@www.bataviamoose682.org
SUMMARY:Queen of Hearts
DESCRIPTION:QUEEN OF  HEARTS WEEKLY DRAWING \n\nMust be a Current Loyal order of the Moose member in good standing to play and will be asked to present membership card to claim prize.\ndrawings will be held on Tuesday evenings at 7:30 pm\nyou may purchase tickets as many tickets as you like\, any day of the week up until 7:00pm the night of the drawing\nplease sign your tickets as your name appears on your membership card\, include your phone number on ticket\nIf you will not be present for the drawing\, please indicate your envelope number selection on the ticket. if no number is indicated the next available number will be chosen for you by the board member present.\nall non-winning tickets will be disposed of after the drawing & tickets will begin to be sold for the next week’s drawing\nif the 2nd joker is drawn\, the game will restart and all monies remaining in the prize pool.\n\nWINNING PAYMENTS: \n\ngrand prize winner need not be present for full payout\nweekly winner must be present for cash payout\n\nPayout as follows \n\n70% of pot to the winner\n20% to the Moose Lodge\n10% to start the next game
URL:https://www.bataviamoose682.org/event/queen-of-hearts/2025-11-04/
LOCATION:Batavia Moose Lodge
END:VEVENT
BEGIN:VEVENT
DTSTART;TZID=UTC:20251104T180000
DTEND;TZID=UTC:20251104T200000
DTSTAMP:20260421T212113
CREATED:20250317T045829Z
LAST-MODIFIED:20250317T045829Z
UID:10000626-1762279200-1762286400@www.bataviamoose682.org
SUMMARY:Kubb
DESCRIPTION:Come out and learn the hottest new outdoor game…KUBB! \nPlease check out our Facebook group for changes in date due to bad weather. \nCurrent Moose members and their qualified guests are welcome to join in on the fun!
URL:https://www.bataviamoose682.org/event/kubb/2025-11-04/
END:VEVENT
BEGIN:VEVENT
DTSTART;TZID=UTC:20251104T170000
DTEND;TZID=UTC:20251104T200000
DTSTAMP:20260421T212113
CREATED:20250507T071042Z
LAST-MODIFIED:20250507T071042Z
UID:10002342-1762275600-1762286400@www.bataviamoose682.org
SUMMARY:Kitchen Open
DESCRIPTION:
URL:https://www.bataviamoose682.org/event/kitchen-open/2025-11-04/
END:VEVENT
BEGIN:VEVENT
DTSTART;TZID=UTC:20251103T190000
DTEND;TZID=UTC:20251103T200000
DTSTAMP:20260421T212113
CREATED:20250821T051547Z
LAST-MODIFIED:20250821T051549Z
UID:10003943-1762196400-1762200000@www.bataviamoose682.org
SUMMARY:Lodge General Meeting
DESCRIPTION:1st & 3rd Monday of each month @ 7:00 p.m. \n\nAll current members are welcome to attend.\nWe recommend each member attend a few meetings a year\nMeetings may include discussions regarding:\n\nBusiness conducted in the lodge\nRegional business\nUpcoming events & volunteer opportunities\nFundraiser ideas or proposals \n\n\nProper conduct & dress…\n\nNo alcohol allowed in meetings\nWhen in doubt\, don’t wear it\n\n\n\n 
URL:https://www.bataviamoose682.org/event/lodge-general-meeting-3-2/2025-11-03/
CATEGORIES:Monthly Meeting
END:VEVENT
BEGIN:VEVENT
DTSTART;TZID=UTC:20251103T170000
DTEND;TZID=UTC:20251103T200000
DTSTAMP:20260421T212113
CREATED:20250821T051442Z
LAST-MODIFIED:20250821T051444Z
UID:10003074-1762189200-1762200000@www.bataviamoose682.org
SUMMARY:Comfort Food Monday
DESCRIPTION:
URL:https://www.bataviamoose682.org/event/comfort-food-monday-2/2025-11-03/
CATEGORIES:Monthly Meeting
END:VEVENT
BEGIN:VEVENT
DTSTART;TZID=UTC:20251101T200000
DTEND;TZID=UTC:20251101T230000
DTSTAMP:20260421T212113
CREATED:20251004T200029Z
LAST-MODIFIED:20251004T200029Z
UID:10004161-1762027200-1762038000@www.bataviamoose682.org
SUMMARY:Halloween Party w/The Otter Limits
DESCRIPTION:Halloween party in our social quarters. Put on your costume and dancing shows for a fun evening.\nRockin’ the Lodge Halloween party at 8pm will be The Otter Limits. They will be covering 60’s-90’s classic rock/pop/alternative songs plus top 40 hits from 2000-today\, so be ready to move your feet and sing along. The band includes Batavia Moose member Michael Tassi.\nThis event is for members and their qualified guests.
URL:https://www.bataviamoose682.org/event/halloween-party-w-the-otter-limits/
LOCATION:Batavia Moose Lodge
CATEGORIES:Live Music Event,Special Event
ATTACH;FMTTYPE=image/jpeg:https://www.bataviamoose682.org/wp-content/uploads/2025/10/otter-limits.jpg
END:VEVENT
BEGIN:VEVENT
DTSTART;TZID=UTC:20251101T170000
DTEND;TZID=UTC:20251101T200000
DTSTAMP:20260421T212113
CREATED:20250507T071313Z
LAST-MODIFIED:20260303T184129Z
UID:10003598-1762016400-1762027200@www.bataviamoose682.org
SUMMARY:Saturday Dinner
DESCRIPTION:
URL:https://www.bataviamoose682.org/event/saturday-dinner/2025-11-01/
END:VEVENT
BEGIN:VEVENT
DTSTART;TZID=UTC:20251101T120000
DTEND;TZID=UTC:20251101T150000
DTSTAMP:20260421T212113
CREATED:20250507T071224Z
LAST-MODIFIED:20260303T184004Z
UID:10003336-1761998400-1762009200@www.bataviamoose682.org
SUMMARY:Family Lunch
DESCRIPTION:
URL:https://www.bataviamoose682.org/event/family-lunch/2025-11-01/
END:VEVENT
BEGIN:VEVENT
DTSTART;TZID=UTC:20251031T170000
DTEND;TZID=UTC:20251031T203000
DTSTAMP:20260421T212113
CREATED:20250507T070846Z
LAST-MODIFIED:20250507T070846Z
UID:10002027-1761930000-1761942600@www.bataviamoose682.org
SUMMARY:Fish Fry
DESCRIPTION:
URL:https://www.bataviamoose682.org/event/fish-fry/2025-10-31/
END:VEVENT
BEGIN:VEVENT
DTSTART;TZID=UTC:20251031T120000
DTEND;TZID=UTC:20251031T150000
DTSTAMP:20260421T212113
CREATED:20250507T070730Z
LAST-MODIFIED:20250507T070800Z
UID:10001765-1761912000-1761922800@www.bataviamoose682.org
SUMMARY:Family Fish Fry Lunch
DESCRIPTION:
URL:https://www.bataviamoose682.org/event/friday-fish-fry-lunch/2025-10-31/
END:VEVENT
BEGIN:VEVENT
DTSTART;TZID=UTC:20251030T170000
DTEND;TZID=UTC:20251030T200000
DTSTAMP:20260421T212113
CREATED:20250507T071042Z
LAST-MODIFIED:20250507T071042Z
UID:10002341-1761843600-1761854400@www.bataviamoose682.org
SUMMARY:Kitchen Open
DESCRIPTION:
URL:https://www.bataviamoose682.org/event/kitchen-open/2025-10-30/
END:VEVENT
BEGIN:VEVENT
DTSTART;TZID=UTC:20251029T170000
DTEND;TZID=UTC:20251029T200000
DTSTAMP:20260421T212113
CREATED:20250507T071042Z
LAST-MODIFIED:20250507T071042Z
UID:10002340-1761757200-1761768000@www.bataviamoose682.org
SUMMARY:Kitchen Open
DESCRIPTION:
URL:https://www.bataviamoose682.org/event/kitchen-open/2025-10-29/
END:VEVENT
BEGIN:VEVENT
DTSTART;TZID=UTC:20251028T193000
DTEND;TZID=UTC:20251028T194500
DTSTAMP:20260421T212113
CREATED:20250317T052710Z
LAST-MODIFIED:20250317T052734Z
UID:10001158-1761679800-1761680700@www.bataviamoose682.org
SUMMARY:Queen of Hearts
DESCRIPTION:QUEEN OF  HEARTS WEEKLY DRAWING \n\nMust be a Current Loyal order of the Moose member in good standing to play and will be asked to present membership card to claim prize.\ndrawings will be held on Tuesday evenings at 7:30 pm\nyou may purchase tickets as many tickets as you like\, any day of the week up until 7:00pm the night of the drawing\nplease sign your tickets as your name appears on your membership card\, include your phone number on ticket\nIf you will not be present for the drawing\, please indicate your envelope number selection on the ticket. if no number is indicated the next available number will be chosen for you by the board member present.\nall non-winning tickets will be disposed of after the drawing & tickets will begin to be sold for the next week’s drawing\nif the 2nd joker is drawn\, the game will restart and all monies remaining in the prize pool.\n\nWINNING PAYMENTS: \n\ngrand prize winner need not be present for full payout\nweekly winner must be present for cash payout\n\nPayout as follows \n\n70% of pot to the winner\n20% to the Moose Lodge\n10% to start the next game
URL:https://www.bataviamoose682.org/event/queen-of-hearts/2025-10-28/
LOCATION:Batavia Moose Lodge
END:VEVENT
BEGIN:VEVENT
DTSTART;TZID=UTC:20251028T180000
DTEND;TZID=UTC:20251028T200000
DTSTAMP:20260421T212113
CREATED:20250317T045829Z
LAST-MODIFIED:20250317T045829Z
UID:10000625-1761674400-1761681600@www.bataviamoose682.org
SUMMARY:Kubb
DESCRIPTION:Come out and learn the hottest new outdoor game…KUBB! \nPlease check out our Facebook group for changes in date due to bad weather. \nCurrent Moose members and their qualified guests are welcome to join in on the fun!
URL:https://www.bataviamoose682.org/event/kubb/2025-10-28/
END:VEVENT
BEGIN:VEVENT
DTSTART;TZID=UTC:20251028T170000
DTEND;TZID=UTC:20251028T200000
DTSTAMP:20260421T212113
CREATED:20250507T071042Z
LAST-MODIFIED:20250507T071042Z
UID:10002339-1761670800-1761681600@www.bataviamoose682.org
SUMMARY:Kitchen Open
DESCRIPTION:
URL:https://www.bataviamoose682.org/event/kitchen-open/2025-10-28/
END:VEVENT
BEGIN:VEVENT
DTSTART;TZID=UTC:20251027T170000
DTEND;TZID=UTC:20251027T200000
DTSTAMP:20260421T212113
CREATED:20250821T051442Z
LAST-MODIFIED:20250821T051444Z
UID:10003073-1761584400-1761595200@www.bataviamoose682.org
SUMMARY:Comfort Food Monday
DESCRIPTION:
URL:https://www.bataviamoose682.org/event/comfort-food-monday-2/2025-10-27/
CATEGORIES:Monthly Meeting
END:VEVENT
BEGIN:VEVENT
DTSTART;TZID=UTC:20251026T100000
DTEND;TZID=UTC:20251026T120000
DTSTAMP:20260421T212113
CREATED:20251004T195826Z
LAST-MODIFIED:20251004T195826Z
UID:10004160-1761472800-1761480000@www.bataviamoose682.org
SUMMARY:Tailgate - Trunk or Treat Event
DESCRIPTION:
URL:https://www.bataviamoose682.org/event/tailgate-trunk-or-treat-event/
LOCATION:Batavia Moose Lodge
CATEGORIES:Special Event
END:VEVENT
BEGIN:VEVENT
DTSTART;TZID=UTC:20251025T200000
DTEND;TZID=UTC:20251025T233000
DTSTAMP:20260421T212113
CREATED:20251004T195737Z
LAST-MODIFIED:20251004T195737Z
UID:10004159-1761422400-1761435000@www.bataviamoose682.org
SUMMARY:Lovett at the Lodge: The DBs play Lyle Lovett - OPEN TO THE PUBLIC
DESCRIPTION:Whether you are a Lyle Lovett fanatic or just a casual fan of his songwriting and music\, you will absolutely love this show. The band Desperate Bastards and special guests bring their amazing talents to the stage at the Batavia Moose Lodge. A “don’t miss” event.\n\n$10 cash cover charge per person (12 and under free). This event would cost you $30 at any other music venue.\n\nDinner Available 5:30 – 8:00. Show starts at 8:00.
URL:https://www.bataviamoose682.org/event/lovett-at-the-lodge-the-dbs-play-lyle-lovett-open-to-the-public/
LOCATION:Batavia Moose Lodge
CATEGORIES:Live Music Event
ATTACH;FMTTYPE=image/jpeg:https://www.bataviamoose682.org/wp-content/uploads/2025/10/DB-Lyle-lovet.jpg
END:VEVENT
BEGIN:VEVENT
DTSTART;TZID=UTC:20251025T170000
DTEND;TZID=UTC:20251025T200000
DTSTAMP:20260421T212113
CREATED:20250507T071313Z
LAST-MODIFIED:20260303T184129Z
UID:10003597-1761411600-1761422400@www.bataviamoose682.org
SUMMARY:Saturday Dinner
DESCRIPTION:
URL:https://www.bataviamoose682.org/event/saturday-dinner/2025-10-25/
END:VEVENT
BEGIN:VEVENT
DTSTART;TZID=UTC:20251025T120000
DTEND;TZID=UTC:20251025T150000
DTSTAMP:20260421T212113
CREATED:20250507T071224Z
LAST-MODIFIED:20260303T184004Z
UID:10003335-1761393600-1761404400@www.bataviamoose682.org
SUMMARY:Family Lunch
DESCRIPTION:
URL:https://www.bataviamoose682.org/event/family-lunch/2025-10-25/
END:VEVENT
BEGIN:VEVENT
DTSTART;TZID=UTC:20251024T200000
DTEND;TZID=UTC:20251024T230000
DTSTAMP:20260421T212113
CREATED:20251004T195538Z
LAST-MODIFIED:20251004T195538Z
UID:10004158-1761336000-1761346800@www.bataviamoose682.org
SUMMARY:Live Music: Michael Charles - 2025 International Tour
DESCRIPTION:“Australia’s answer to Stevie Ray Vaughan” D. Kening Chicago Tribune\nOriginally from Australia\, Michael is a Chicago Blues Hall of Famer and ten-time Grammy elected artist. The Guitars\, Music and Miles 2025 tour drives the power trio of Michael Charles straight to you for a non-stop concert explosion of music and guitars\, contemporary blues\, high energy rock\, and soulful ballads from the forty-one release discography. He has added the Batavia Moose Lodge as a stop on his 2025 international tour across the US\, Canada and Australia.\nCheck out this awesome video:https://www.facebook.com/watch/?mibextid=wwXIfr&v=442339910909949&rdid=6ckoQHrVyzxA91qD
URL:https://www.bataviamoose682.org/event/live-music-michael-charles-2025-international-tour/
LOCATION:Batavia Moose Lodge
CATEGORIES:Live Music Event
ATTACH;FMTTYPE=image/jpeg:https://www.bataviamoose682.org/wp-content/uploads/2025/10/michael-charles.jpg
END:VEVENT
BEGIN:VEVENT
DTSTART;TZID=UTC:20251024T170000
DTEND;TZID=UTC:20251024T203000
DTSTAMP:20260421T212113
CREATED:20250507T070846Z
LAST-MODIFIED:20250507T070846Z
UID:10002026-1761325200-1761337800@www.bataviamoose682.org
SUMMARY:Fish Fry
DESCRIPTION:
URL:https://www.bataviamoose682.org/event/fish-fry/2025-10-24/
END:VEVENT
BEGIN:VEVENT
DTSTART;TZID=UTC:20251024T120000
DTEND;TZID=UTC:20251024T150000
DTSTAMP:20260421T212113
CREATED:20250507T070730Z
LAST-MODIFIED:20250507T070800Z
UID:10001764-1761307200-1761318000@www.bataviamoose682.org
SUMMARY:Family Fish Fry Lunch
DESCRIPTION:
URL:https://www.bataviamoose682.org/event/friday-fish-fry-lunch/2025-10-24/
END:VEVENT
BEGIN:VEVENT
DTSTART;TZID=UTC:20251023T173000
DTEND;TZID=UTC:20251023T203000
DTSTAMP:20260421T212113
CREATED:20250820T045514Z
LAST-MODIFIED:20250821T051140Z
UID:10003850-1761240600-1761251400@www.bataviamoose682.org
SUMMARY:Famous Fried Chicken Dinner
DESCRIPTION:Join us for our Famous Fried Chicken Dinner. \n5:30-8:30pm or sold out \nopen to current Moose members & their qualified guests
URL:https://www.bataviamoose682.org/event/famous-fried-chicken-dinner-2/2025-10-23/
LOCATION:Batavia Moose Lodge
CATEGORIES:Monthly Special
ATTACH;FMTTYPE=image/png:https://www.bataviamoose682.org/wp-content/uploads/2025/03/Untitled-design-14.png
END:VEVENT
BEGIN:VEVENT
DTSTART;TZID=UTC:20251022T190000
DTEND;TZID=UTC:20251022T200000
DTSTAMP:20260421T212113
CREATED:20250317T043719Z
LAST-MODIFIED:20251209T071623Z
UID:10000470-1761159600-1761163200@www.bataviamoose682.org
SUMMARY:Line Dancing - Beginner/Intermediate Lesson
DESCRIPTION:
URL:https://www.bataviamoose682.org/event/line-dancing-beginner-intermediate-lesson/2025-10-22/
END:VEVENT
END:VCALENDAR