BEGIN:VCALENDAR
VERSION:2.0
PRODID:-//Batavia Moose #682 - ECPv6.15.20//NONSGML v1.0//EN
CALSCALE:GREGORIAN
METHOD:PUBLISH
X-WR-CALNAME:Batavia Moose #682
X-ORIGINAL-URL:https://www.bataviamoose682.org
X-WR-CALDESC:Events for Batavia Moose #682
REFRESH-INTERVAL;VALUE=DURATION:PT1H
X-Robots-Tag:noindex
X-PUBLISHED-TTL:PT1H
BEGIN:VTIMEZONE
TZID:UTC
BEGIN:STANDARD
TZOFFSETFROM:+0000
TZOFFSETTO:+0000
TZNAME:UTC
DTSTART:20240101T000000
END:STANDARD
END:VTIMEZONE
BEGIN:VEVENT
DTSTART;TZID=UTC:20250705T120000
DTEND;TZID=UTC:20250705T150000
DTSTAMP:20260423T113218
CREATED:20250507T071224Z
LAST-MODIFIED:20260303T184004Z
UID:10003319-1751716800-1751727600@www.bataviamoose682.org
SUMMARY:Family Lunch
DESCRIPTION:
URL:https://www.bataviamoose682.org/event/family-lunch/2025-07-05/
END:VEVENT
BEGIN:VEVENT
DTSTART;TZID=UTC:20250704T170000
DTEND;TZID=UTC:20250704T203000
DTSTAMP:20260423T113218
CREATED:20250507T070846Z
LAST-MODIFIED:20250507T070846Z
UID:10002010-1751648400-1751661000@www.bataviamoose682.org
SUMMARY:Fish Fry
DESCRIPTION:
URL:https://www.bataviamoose682.org/event/fish-fry/2025-07-04/
END:VEVENT
BEGIN:VEVENT
DTSTART;TZID=UTC:20250704T120000
DTEND;TZID=UTC:20250704T150000
DTSTAMP:20260423T113218
CREATED:20250507T070730Z
LAST-MODIFIED:20250507T070800Z
UID:10001748-1751630400-1751641200@www.bataviamoose682.org
SUMMARY:Family Fish Fry Lunch
DESCRIPTION:
URL:https://www.bataviamoose682.org/event/friday-fish-fry-lunch/2025-07-04/
END:VEVENT
BEGIN:VEVENT
DTSTART;TZID=UTC:20250703T184500
DTEND;TZID=UTC:20250703T194500
DTSTAMP:20260423T113218
CREATED:20240220T230013Z
LAST-MODIFIED:20250306T022809Z
UID:10000013-1751568300-1751571900@www.bataviamoose682.org
SUMMARY:Moose Rider's Monthly Meeting
DESCRIPTION:Join us for our monthly Batavia Moose Rider’s Meeting. \nThe Moose Riders are consistently among the fastest growing and most “active” of all Moose Lodge Activity Groups. $20 annual dues. \nMoose Riders is open to any current Moose member. No motorcycle required to join.
URL:https://www.bataviamoose682.org/event/moose-riders-monthly-meeting/2025-07-03/
LOCATION:Batavia Moose Lodge
CATEGORIES:Monthly Meeting
ATTACH;FMTTYPE=image/png:https://www.bataviamoose682.org/wp-content/uploads/2024/02/Untitled-design-21-e1708489780661.png
END:VEVENT
BEGIN:VEVENT
DTSTART;TZID=UTC:20250703T183000
DTEND;TZID=UTC:20250703T210000
DTSTAMP:20260423T113218
CREATED:20250507T071735Z
LAST-MODIFIED:20250507T071832Z
UID:10003839-1751567400-1751576400@www.bataviamoose682.org
SUMMARY:Horseshoe League
DESCRIPTION:
URL:https://www.bataviamoose682.org/event/horseshoe-league/2025-07-03/
LOCATION:Batavia Moose Lodge
ATTACH;FMTTYPE=image/png:https://www.bataviamoose682.org/wp-content/uploads/2025/05/Horseshoe-League-Flyer-_20250422_111559_0000.png
END:VEVENT
BEGIN:VEVENT
DTSTART;TZID=UTC:20250703T170000
DTEND;TZID=UTC:20250703T200000
DTSTAMP:20260423T113218
CREATED:20250507T071042Z
LAST-MODIFIED:20250507T071042Z
UID:10002290-1751562000-1751572800@www.bataviamoose682.org
SUMMARY:Kitchen Open
DESCRIPTION:
URL:https://www.bataviamoose682.org/event/kitchen-open/2025-07-03/
END:VEVENT
BEGIN:VEVENT
DTSTART;TZID=UTC:20250702T190000
DTEND;TZID=UTC:20250702T213000
DTSTAMP:20260423T113218
CREATED:20250507T064132Z
LAST-MODIFIED:20250507T065553Z
UID:10001420-1751482800-1751491800@www.bataviamoose682.org
SUMMARY:Open Jam Night!
DESCRIPTION:Open Jam is a great night to highlight our musicians and provide some great music for our members!\n\nWe invite our member musicians/bands to pop in and take over the back hall. Sign up at the lodge AT 6:30pm. Performance/Jam time starts at 7pm.\n\nCheck out our group @bataviamooseopenjam\n\nPlease connect with Joe Poidomani with questions.\n\nOpen to current Moose members and their qualified guest. Please remember qualified guest must follow the rules put in place. Thank you.
URL:https://www.bataviamoose682.org/event/open-jam-night/2025-07-02/
END:VEVENT
BEGIN:VEVENT
DTSTART;TZID=UTC:20250702T170000
DTEND;TZID=UTC:20250702T200000
DTSTAMP:20260423T113218
CREATED:20250507T071042Z
LAST-MODIFIED:20250507T071042Z
UID:10002289-1751475600-1751486400@www.bataviamoose682.org
SUMMARY:Kitchen Open
DESCRIPTION:
URL:https://www.bataviamoose682.org/event/kitchen-open/2025-07-02/
END:VEVENT
BEGIN:VEVENT
DTSTART;TZID=UTC:20250701T193000
DTEND;TZID=UTC:20250701T194500
DTSTAMP:20260423T113218
CREATED:20250317T052710Z
LAST-MODIFIED:20250317T052734Z
UID:10001141-1751398200-1751399100@www.bataviamoose682.org
SUMMARY:Queen of Hearts
DESCRIPTION:QUEEN OF  HEARTS WEEKLY DRAWING \n\nMust be a Current Loyal order of the Moose member in good standing to play and will be asked to present membership card to claim prize.\ndrawings will be held on Tuesday evenings at 7:30 pm\nyou may purchase tickets as many tickets as you like\, any day of the week up until 7:00pm the night of the drawing\nplease sign your tickets as your name appears on your membership card\, include your phone number on ticket\nIf you will not be present for the drawing\, please indicate your envelope number selection on the ticket. if no number is indicated the next available number will be chosen for you by the board member present.\nall non-winning tickets will be disposed of after the drawing & tickets will begin to be sold for the next week’s drawing\nif the 2nd joker is drawn\, the game will restart and all monies remaining in the prize pool.\n\nWINNING PAYMENTS: \n\ngrand prize winner need not be present for full payout\nweekly winner must be present for cash payout\n\nPayout as follows \n\n70% of pot to the winner\n20% to the Moose Lodge\n10% to start the next game
URL:https://www.bataviamoose682.org/event/queen-of-hearts/2025-07-01/
LOCATION:Batavia Moose Lodge
END:VEVENT
BEGIN:VEVENT
DTSTART;TZID=UTC:20250701T180000
DTEND;TZID=UTC:20250701T200000
DTSTAMP:20260423T113218
CREATED:20250317T045829Z
LAST-MODIFIED:20250317T045829Z
UID:10000608-1751392800-1751400000@www.bataviamoose682.org
SUMMARY:Kubb
DESCRIPTION:Come out and learn the hottest new outdoor game…KUBB! \nPlease check out our Facebook group for changes in date due to bad weather. \nCurrent Moose members and their qualified guests are welcome to join in on the fun!
URL:https://www.bataviamoose682.org/event/kubb/2025-07-01/
END:VEVENT
BEGIN:VEVENT
DTSTART;TZID=UTC:20250701T180000
DTEND;TZID=UTC:20250701T193000
DTSTAMP:20260423T113218
CREATED:20250507T063832Z
LAST-MODIFIED:20250507T063832Z
UID:10001398-1751392800-1751398200@www.bataviamoose682.org
SUMMARY:Lighting - Summer Edition!
DESCRIPTION:
URL:https://www.bataviamoose682.org/event/lighting-summer-edition/2025-07-01/
END:VEVENT
BEGIN:VEVENT
DTSTART;TZID=UTC:20250701T170000
DTEND;TZID=UTC:20250701T200000
DTSTAMP:20260423T113218
CREATED:20250507T071042Z
LAST-MODIFIED:20250507T071042Z
UID:10002288-1751389200-1751400000@www.bataviamoose682.org
SUMMARY:Kitchen Open
DESCRIPTION:
URL:https://www.bataviamoose682.org/event/kitchen-open/2025-07-01/
END:VEVENT
BEGIN:VEVENT
DTSTART;TZID=UTC:20250630T170000
DTEND;TZID=UTC:20250630T200000
DTSTAMP:20260423T113218
CREATED:20250507T071124Z
LAST-MODIFIED:20250507T071540Z
UID:10003056-1751302800-1751313600@www.bataviamoose682.org
SUMMARY:Comfort Food Monday
DESCRIPTION:
URL:https://www.bataviamoose682.org/event/comfort-food-monday/2025-06-30/
END:VEVENT
BEGIN:VEVENT
DTSTART;TZID=UTC:20250628T170000
DTEND;TZID=UTC:20250628T200000
DTSTAMP:20260423T113218
CREATED:20250507T071313Z
LAST-MODIFIED:20260303T184129Z
UID:10003580-1751130000-1751140800@www.bataviamoose682.org
SUMMARY:Saturday Dinner
DESCRIPTION:
URL:https://www.bataviamoose682.org/event/saturday-dinner/2025-06-28/
END:VEVENT
BEGIN:VEVENT
DTSTART;TZID=UTC:20250628T120000
DTEND;TZID=UTC:20250628T150000
DTSTAMP:20260423T113218
CREATED:20250507T071224Z
LAST-MODIFIED:20260303T184004Z
UID:10003318-1751112000-1751122800@www.bataviamoose682.org
SUMMARY:Family Lunch
DESCRIPTION:
URL:https://www.bataviamoose682.org/event/family-lunch/2025-06-28/
END:VEVENT
BEGIN:VEVENT
DTSTART;TZID=UTC:20250627T170000
DTEND;TZID=UTC:20250627T203000
DTSTAMP:20260423T113218
CREATED:20250507T070846Z
LAST-MODIFIED:20250507T070846Z
UID:10002009-1751043600-1751056200@www.bataviamoose682.org
SUMMARY:Fish Fry
DESCRIPTION:
URL:https://www.bataviamoose682.org/event/fish-fry/2025-06-27/
END:VEVENT
BEGIN:VEVENT
DTSTART;TZID=UTC:20250627T120000
DTEND;TZID=UTC:20250627T150000
DTSTAMP:20260423T113218
CREATED:20250507T070730Z
LAST-MODIFIED:20250507T070800Z
UID:10001747-1751025600-1751036400@www.bataviamoose682.org
SUMMARY:Family Fish Fry Lunch
DESCRIPTION:
URL:https://www.bataviamoose682.org/event/friday-fish-fry-lunch/2025-06-27/
END:VEVENT
BEGIN:VEVENT
DTSTART;TZID=UTC:20250626T183000
DTEND;TZID=UTC:20250626T210000
DTSTAMP:20260423T113218
CREATED:20250507T071735Z
LAST-MODIFIED:20250507T071832Z
UID:10003838-1750962600-1750971600@www.bataviamoose682.org
SUMMARY:Horseshoe League
DESCRIPTION:
URL:https://www.bataviamoose682.org/event/horseshoe-league/2025-06-26/
LOCATION:Batavia Moose Lodge
ATTACH;FMTTYPE=image/png:https://www.bataviamoose682.org/wp-content/uploads/2025/05/Horseshoe-League-Flyer-_20250422_111559_0000.png
END:VEVENT
BEGIN:VEVENT
DTSTART;TZID=UTC:20250626T170000
DTEND;TZID=UTC:20250626T200000
DTSTAMP:20260423T113218
CREATED:20250507T071042Z
LAST-MODIFIED:20250507T071042Z
UID:10002287-1750957200-1750968000@www.bataviamoose682.org
SUMMARY:Kitchen Open
DESCRIPTION:
URL:https://www.bataviamoose682.org/event/kitchen-open/2025-06-26/
END:VEVENT
BEGIN:VEVENT
DTSTART;TZID=UTC:20250625T190000
DTEND;TZID=UTC:20250625T200000
DTSTAMP:20260423T113218
CREATED:20250317T043719Z
LAST-MODIFIED:20251209T071623Z
UID:10000466-1750878000-1750881600@www.bataviamoose682.org
SUMMARY:Line Dancing - Beginner/Intermediate Lesson
DESCRIPTION:
URL:https://www.bataviamoose682.org/event/line-dancing-beginner-intermediate-lesson/2025-06-25/
END:VEVENT
BEGIN:VEVENT
DTSTART;TZID=UTC:20250625T170000
DTEND;TZID=UTC:20250625T200000
DTSTAMP:20260423T113218
CREATED:20250507T071042Z
LAST-MODIFIED:20250507T071042Z
UID:10002286-1750870800-1750881600@www.bataviamoose682.org
SUMMARY:Kitchen Open
DESCRIPTION:
URL:https://www.bataviamoose682.org/event/kitchen-open/2025-06-25/
END:VEVENT
BEGIN:VEVENT
DTSTART;TZID=UTC:20250624T193000
DTEND;TZID=UTC:20250624T194500
DTSTAMP:20260423T113218
CREATED:20250317T052710Z
LAST-MODIFIED:20250317T052734Z
UID:10001140-1750793400-1750794300@www.bataviamoose682.org
SUMMARY:Queen of Hearts
DESCRIPTION:QUEEN OF  HEARTS WEEKLY DRAWING \n\nMust be a Current Loyal order of the Moose member in good standing to play and will be asked to present membership card to claim prize.\ndrawings will be held on Tuesday evenings at 7:30 pm\nyou may purchase tickets as many tickets as you like\, any day of the week up until 7:00pm the night of the drawing\nplease sign your tickets as your name appears on your membership card\, include your phone number on ticket\nIf you will not be present for the drawing\, please indicate your envelope number selection on the ticket. if no number is indicated the next available number will be chosen for you by the board member present.\nall non-winning tickets will be disposed of after the drawing & tickets will begin to be sold for the next week’s drawing\nif the 2nd joker is drawn\, the game will restart and all monies remaining in the prize pool.\n\nWINNING PAYMENTS: \n\ngrand prize winner need not be present for full payout\nweekly winner must be present for cash payout\n\nPayout as follows \n\n70% of pot to the winner\n20% to the Moose Lodge\n10% to start the next game
URL:https://www.bataviamoose682.org/event/queen-of-hearts/2025-06-24/
LOCATION:Batavia Moose Lodge
END:VEVENT
BEGIN:VEVENT
DTSTART;TZID=UTC:20250624T180000
DTEND;TZID=UTC:20250624T200000
DTSTAMP:20260423T113218
CREATED:20250317T045829Z
LAST-MODIFIED:20250317T045829Z
UID:10000607-1750788000-1750795200@www.bataviamoose682.org
SUMMARY:Kubb
DESCRIPTION:Come out and learn the hottest new outdoor game…KUBB! \nPlease check out our Facebook group for changes in date due to bad weather. \nCurrent Moose members and their qualified guests are welcome to join in on the fun!
URL:https://www.bataviamoose682.org/event/kubb/2025-06-24/
END:VEVENT
BEGIN:VEVENT
DTSTART;TZID=UTC:20250624T180000
DTEND;TZID=UTC:20250624T193000
DTSTAMP:20260423T113218
CREATED:20250507T063832Z
LAST-MODIFIED:20250507T063832Z
UID:10001397-1750788000-1750793400@www.bataviamoose682.org
SUMMARY:Lighting - Summer Edition!
DESCRIPTION:
URL:https://www.bataviamoose682.org/event/lighting-summer-edition/2025-06-24/
END:VEVENT
BEGIN:VEVENT
DTSTART;TZID=UTC:20250624T170000
DTEND;TZID=UTC:20250624T200000
DTSTAMP:20260423T113218
CREATED:20250507T071042Z
LAST-MODIFIED:20250507T071042Z
UID:10002285-1750784400-1750795200@www.bataviamoose682.org
SUMMARY:Kitchen Open
DESCRIPTION:
URL:https://www.bataviamoose682.org/event/kitchen-open/2025-06-24/
END:VEVENT
BEGIN:VEVENT
DTSTART;TZID=UTC:20250623T170000
DTEND;TZID=UTC:20250623T200000
DTSTAMP:20260423T113218
CREATED:20250507T071124Z
LAST-MODIFIED:20250507T071540Z
UID:10003055-1750698000-1750708800@www.bataviamoose682.org
SUMMARY:Comfort Food Monday
DESCRIPTION:
URL:https://www.bataviamoose682.org/event/comfort-food-monday/2025-06-23/
END:VEVENT
BEGIN:VEVENT
DTSTART;TZID=UTC:20250621T170000
DTEND;TZID=UTC:20250621T200000
DTSTAMP:20260423T113218
CREATED:20250507T071313Z
LAST-MODIFIED:20260303T184129Z
UID:10003579-1750525200-1750536000@www.bataviamoose682.org
SUMMARY:Saturday Dinner
DESCRIPTION:
URL:https://www.bataviamoose682.org/event/saturday-dinner/2025-06-21/
END:VEVENT
BEGIN:VEVENT
DTSTART;TZID=UTC:20250621T140000
DTEND;TZID=UTC:20250621T180000
DTSTAMP:20260423T113218
CREATED:20250618T062648Z
LAST-MODIFIED:20250618T062710Z
UID:10003848-1750514400-1750528800@www.bataviamoose682.org
SUMMARY:Rock da Fox - OPEN TO THE PUBLIC
DESCRIPTION:2nd Annual Outdoor Music Fest and Fundraiser. Open to the Public. All net proceeds go to assist the kids at Mooseheart Child City and School. $10 cash donation cover charge at the Gate.\nGrab your lawn chair and come out for an afternoon of music\, food and beverage in our shady outdoor venue (we will move indoors if weather requires it).\nThis year’s line-up:\nJay Goeppner and Friends:Jay has performed in 20 countries (including Liverpool\, England during “International Beatles Week”) with his John Lennon tribute band – “Backdated.” During normal times\, “Backdated” performs as a classic rock band in bars and at festivals all over the Chicagoland area. Jay is also a member of the legendary Chicago “Beatle Brothers” who were prominent features on the Jonathon Brandmeier Show. Videos can still be found on You Tube.\nCox’s Army:Formed locally in 1969 with original members: John Feiza\, Larry Zimmer\, Ken Clark\, Dave Johnson\, and Dick Strohmenger. The band played clubs\, high schools\, colleges\, concert halls\, and festivals across the United States. Dan Moulton replaced Dave Johnson on drums and soon after Ken Clark left. The band recorded an album with Chapparrel records in 1971. George Millspaugh joined the band on guitar and vocals after the album was released and in 1972 the band went its separate ways.\nEmanon II (featuring Joe Cuttone of The Hounds):Formed out of St. Charles High School in the early 1980’s Emanon II was touted as one of the “up and coming bands” in the Chicago area. Emanon headlined all over Chicagoland\, Wisconsin\, and Indiana plus the Fox River Valley with weekly performances at Malo’s in Aurora and Master Jack’s in St Charles. Emanon shared stages with Survivor\, Off Broadway\, The Hounds\, Moonlight Drive\, The Boyzz. Joining Emanon will be legendary Chicago bass player: Joe Cuttone of The Hounds with who he recorded the albums for Columbia Records in Los Angeles\, California. The members have will be coming back to Batavia to perform together live for the first time in over 40 years!\nRob Post Band:Formed in 2012\, ROB POST BAND is a diverse\, high-energy\, fun\, party band\, playing the truest in classic rock music with a nice mix of current favorites. The Elk Grove based band includes singer Jim Cunningham\, bassist Marty Barlow\, Batavia’s very own guitarist Jason Dodd and drummer Joe Smith. Original drummer and founder Rob Post retired and moved away in 2017. The quartet has quickly become one of the most popular bar and fest bands in the suburbs. Their set list changes significantly for each show. “Shout outs” and requests are always encouraged\, as this band can play it all. Currently performing songs by Cheap Trick\, Aerosmith\, Clapton\, Tom Petty\, Bob Seger\, The Monkees\, Ramones\, Beatles & Stones.
URL:https://www.bataviamoose682.org/event/rock-da-fox/
CATEGORIES:Live Music Event,Open to the Public,Special Event
ATTACH;FMTTYPE=image/jpeg:https://www.bataviamoose682.org/wp-content/uploads/2024/04/Rock-da-fox-event.jpg
END:VEVENT
BEGIN:VEVENT
DTSTART;TZID=UTC:20250621T120000
DTEND;TZID=UTC:20250621T150000
DTSTAMP:20260423T113218
CREATED:20250507T071224Z
LAST-MODIFIED:20260303T184004Z
UID:10003317-1750507200-1750518000@www.bataviamoose682.org
SUMMARY:Family Lunch
DESCRIPTION:
URL:https://www.bataviamoose682.org/event/family-lunch/2025-06-21/
END:VEVENT
BEGIN:VEVENT
DTSTART;TZID=UTC:20250620T170000
DTEND;TZID=UTC:20250620T203000
DTSTAMP:20260423T113218
CREATED:20250507T070846Z
LAST-MODIFIED:20250507T070846Z
UID:10002008-1750438800-1750451400@www.bataviamoose682.org
SUMMARY:Fish Fry
DESCRIPTION:
URL:https://www.bataviamoose682.org/event/fish-fry/2025-06-20/
END:VEVENT
END:VCALENDAR