BEGIN:VCALENDAR
VERSION:2.0
PRODID:-//Batavia Moose #682 - ECPv6.15.20//NONSGML v1.0//EN
CALSCALE:GREGORIAN
METHOD:PUBLISH
X-ORIGINAL-URL:https://www.bataviamoose682.org
X-WR-CALDESC:Events for Batavia Moose #682
REFRESH-INTERVAL;VALUE=DURATION:PT1H
X-Robots-Tag:noindex
X-PUBLISHED-TTL:PT1H
BEGIN:VTIMEZONE
TZID:UTC
BEGIN:STANDARD
TZOFFSETFROM:+0000
TZOFFSETTO:+0000
TZNAME:UTC
DTSTART:20250101T000000
END:STANDARD
END:VTIMEZONE
BEGIN:VEVENT
DTSTART;TZID=UTC:20260911T170000
DTEND;TZID=UTC:20260911T203000
DTSTAMP:20260422T223122
CREATED:20250507T070846Z
LAST-MODIFIED:20250507T070846Z
UID:10002072-1789146000-1789158600@www.bataviamoose682.org
SUMMARY:Fish Fry
DESCRIPTION:
URL:https://www.bataviamoose682.org/event/fish-fry/2026-09-11/
END:VEVENT
BEGIN:VEVENT
DTSTART;TZID=UTC:20260912T120000
DTEND;TZID=UTC:20260912T150000
DTSTAMP:20260422T223122
CREATED:20250507T071224Z
LAST-MODIFIED:20260303T184004Z
UID:10003381-1789214400-1789225200@www.bataviamoose682.org
SUMMARY:Family Lunch
DESCRIPTION:
URL:https://www.bataviamoose682.org/event/family-lunch/2026-09-12/
END:VEVENT
BEGIN:VEVENT
DTSTART;TZID=UTC:20260912T170000
DTEND;TZID=UTC:20260912T200000
DTSTAMP:20260422T223122
CREATED:20250507T071313Z
LAST-MODIFIED:20260303T184129Z
UID:10003643-1789232400-1789243200@www.bataviamoose682.org
SUMMARY:Saturday Dinner
DESCRIPTION:
URL:https://www.bataviamoose682.org/event/saturday-dinner/2026-09-12/
END:VEVENT
BEGIN:VEVENT
DTSTART;TZID=UTC:20260913T150000
DTEND;TZID=UTC:20260913T180000
DTSTAMP:20260422T223122
CREATED:20250821T073041Z
LAST-MODIFIED:20250821T073229Z
UID:10004112-1789311600-1789322400@www.bataviamoose682.org
SUMMARY:Pizza Sunday
DESCRIPTION:
URL:https://www.bataviamoose682.org/event/pizza-sunday-2/2026-09-13/
LOCATION:Batavia Moose Lodge
CATEGORIES:Monthly Special
ATTACH;FMTTYPE=image/png:https://www.bataviamoose682.org/wp-content/uploads/2025/08/Pizza-Sunday.png
END:VEVENT
BEGIN:VEVENT
DTSTART;TZID=UTC:20260914T170000
DTEND;TZID=UTC:20260914T200000
DTSTAMP:20260422T223122
CREATED:20250821T051442Z
LAST-MODIFIED:20250821T051444Z
UID:10003119-1789405200-1789416000@www.bataviamoose682.org
SUMMARY:Comfort Food Monday
DESCRIPTION:
URL:https://www.bataviamoose682.org/event/comfort-food-monday-2/2026-09-14/
CATEGORIES:Monthly Meeting
END:VEVENT
BEGIN:VEVENT
DTSTART;TZID=UTC:20260914T190000
DTEND;TZID=UTC:20260914T200000
DTSTAMP:20260422T223122
CREATED:20250306T033232Z
LAST-MODIFIED:20250306T033232Z
UID:10000208-1789412400-1789416000@www.bataviamoose682.org
SUMMARY:Moose Legion Meeting
DESCRIPTION:MOOSE LEGION\nTHE MEN WHO GET THINGS DONE \n\nAlso known as the Degree of Service. The purpose of this degree is to band together the loyal and devoted Moose members who desire to make further contributions to the humanitarian objectives of our Order while providing fun and entertaining activities for members and their families.  The official colors of the Moose Legion are red\, white and purple with purple being predominant. You will also see Moose Legionnaires sporting maroon blazers and informal vests. \n\nMeetings are the 2nd Monday of each month at 7:00pm \n$20 annual dues \nFellowship Degree of Honor  \n\nHonorary degree of the Loyal Order of Moose conferred only upon Moose Legionnaires who are recommended by the Fellows of their Lodge and approved by the Pilgrim Council. The official regalia of a Fellow is a French-blue blazer featuring the Fellowship logo\, coordinated necktie\, white shirt and black trousers. \n\nPilgrim Degree of Merit  \nHighest honor that can be bestowed upon a member of the Loyal Order of Moose. This Degree is conferred only in the House of God at Mooseheart and comes as a reward for extraordinary service to the Order. The official regalia of a Pilgrim is a gold blazer featuring the Pilgrim logo\, coordinated necktie\, white shirt and black trousers!
URL:https://www.bataviamoose682.org/event/moose-legion-meeting/2026-09-14/
CATEGORIES:Monthly Meeting
END:VEVENT
BEGIN:VEVENT
DTSTART;TZID=UTC:20260915T170000
DTEND;TZID=UTC:20260915T200000
DTSTAMP:20260422T223122
CREATED:20250507T071042Z
LAST-MODIFIED:20250507T071042Z
UID:10002477-1789491600-1789502400@www.bataviamoose682.org
SUMMARY:Kitchen Open
DESCRIPTION:
URL:https://www.bataviamoose682.org/event/kitchen-open/2026-09-15/
END:VEVENT
BEGIN:VEVENT
DTSTART;TZID=UTC:20260915T180000
DTEND;TZID=UTC:20260915T200000
DTSTAMP:20260422T223122
CREATED:20250317T045829Z
LAST-MODIFIED:20250317T045829Z
UID:10000671-1789495200-1789502400@www.bataviamoose682.org
SUMMARY:Kubb
DESCRIPTION:Come out and learn the hottest new outdoor game…KUBB! \nPlease check out our Facebook group for changes in date due to bad weather. \nCurrent Moose members and their qualified guests are welcome to join in on the fun!
URL:https://www.bataviamoose682.org/event/kubb/2026-09-15/
END:VEVENT
BEGIN:VEVENT
DTSTART;TZID=UTC:20260915T193000
DTEND;TZID=UTC:20260915T194500
DTSTAMP:20260422T223122
CREATED:20250317T052710Z
LAST-MODIFIED:20250317T052734Z
UID:10001204-1789500600-1789501500@www.bataviamoose682.org
SUMMARY:Queen of Hearts
DESCRIPTION:QUEEN OF  HEARTS WEEKLY DRAWING \n\nMust be a Current Loyal order of the Moose member in good standing to play and will be asked to present membership card to claim prize.\ndrawings will be held on Tuesday evenings at 7:30 pm\nyou may purchase tickets as many tickets as you like\, any day of the week up until 7:00pm the night of the drawing\nplease sign your tickets as your name appears on your membership card\, include your phone number on ticket\nIf you will not be present for the drawing\, please indicate your envelope number selection on the ticket. if no number is indicated the next available number will be chosen for you by the board member present.\nall non-winning tickets will be disposed of after the drawing & tickets will begin to be sold for the next week’s drawing\nif the 2nd joker is drawn\, the game will restart and all monies remaining in the prize pool.\n\nWINNING PAYMENTS: \n\ngrand prize winner need not be present for full payout\nweekly winner must be present for cash payout\n\nPayout as follows \n\n70% of pot to the winner\n20% to the Moose Lodge\n10% to start the next game
URL:https://www.bataviamoose682.org/event/queen-of-hearts/2026-09-15/
LOCATION:Batavia Moose Lodge
END:VEVENT
BEGIN:VEVENT
DTSTART;TZID=UTC:20260916T170000
DTEND;TZID=UTC:20260916T200000
DTSTAMP:20260422T223122
CREATED:20250507T071042Z
LAST-MODIFIED:20250507T071042Z
UID:10002478-1789578000-1789588800@www.bataviamoose682.org
SUMMARY:Kitchen Open
DESCRIPTION:
URL:https://www.bataviamoose682.org/event/kitchen-open/2026-09-16/
END:VEVENT
BEGIN:VEVENT
DTSTART;TZID=UTC:20260917T170000
DTEND;TZID=UTC:20260917T200000
DTSTAMP:20260422T223122
CREATED:20250507T071042Z
LAST-MODIFIED:20250507T071042Z
UID:10002479-1789664400-1789675200@www.bataviamoose682.org
SUMMARY:Kitchen Open
DESCRIPTION:
URL:https://www.bataviamoose682.org/event/kitchen-open/2026-09-17/
END:VEVENT
BEGIN:VEVENT
DTSTART;TZID=UTC:20260917T183000
DTEND;TZID=UTC:20260917T190000
DTSTAMP:20260422T223122
CREATED:20250317T044339Z
LAST-MODIFIED:20250317T044339Z
UID:10000542-1789669800-1789671600@www.bataviamoose682.org
SUMMARY:Women of the Moose Monthly Meeting
DESCRIPTION:Women of the Moose unite for our monthly meeting.\nNot a WOTM? Ask us and we can get you more information.
URL:https://www.bataviamoose682.org/event/women-of-the-moose-monthly-meeting/2026-09-17/
LOCATION:Batavia Moose Lodge
CATEGORIES:Monthly Meeting
ATTACH;FMTTYPE=image/png:https://www.bataviamoose682.org/wp-content/uploads/2022/03/KLKE52091.png
END:VEVENT
BEGIN:VEVENT
DTSTART;TZID=UTC:20260918T120000
DTEND;TZID=UTC:20260918T150000
DTSTAMP:20260422T223122
CREATED:20250507T070730Z
LAST-MODIFIED:20250507T070800Z
UID:10001811-1789732800-1789743600@www.bataviamoose682.org
SUMMARY:Family Fish Fry Lunch
DESCRIPTION:
URL:https://www.bataviamoose682.org/event/friday-fish-fry-lunch/2026-09-18/
END:VEVENT
BEGIN:VEVENT
DTSTART;TZID=UTC:20260918T170000
DTEND;TZID=UTC:20260918T203000
DTSTAMP:20260422T223122
CREATED:20250507T070846Z
LAST-MODIFIED:20250507T070846Z
UID:10002073-1789750800-1789763400@www.bataviamoose682.org
SUMMARY:Fish Fry
DESCRIPTION:
URL:https://www.bataviamoose682.org/event/fish-fry/2026-09-18/
END:VEVENT
BEGIN:VEVENT
DTSTART;TZID=UTC:20260919T120000
DTEND;TZID=UTC:20260919T150000
DTSTAMP:20260422T223122
CREATED:20250507T071224Z
LAST-MODIFIED:20260303T184004Z
UID:10003382-1789819200-1789830000@www.bataviamoose682.org
SUMMARY:Family Lunch
DESCRIPTION:
URL:https://www.bataviamoose682.org/event/family-lunch/2026-09-19/
END:VEVENT
BEGIN:VEVENT
DTSTART;TZID=UTC:20260919T170000
DTEND;TZID=UTC:20260919T200000
DTSTAMP:20260422T223122
CREATED:20250507T071313Z
LAST-MODIFIED:20260303T184129Z
UID:10003644-1789837200-1789848000@www.bataviamoose682.org
SUMMARY:Saturday Dinner
DESCRIPTION:
URL:https://www.bataviamoose682.org/event/saturday-dinner/2026-09-19/
END:VEVENT
BEGIN:VEVENT
DTSTART;TZID=UTC:20260919T173000
DTEND;TZID=UTC:20260919T200000
DTSTAMP:20260422T223122
CREATED:20250821T064936Z
LAST-MODIFIED:20250821T065109Z
UID:10004092-1789839000-1789848000@www.bataviamoose682.org
SUMMARY:Grilled Steak Night & Rockstar Bingo
DESCRIPTION:Seriously Fun Saturday Evening!\nGrilled Steak Dinner 5:30 pm – 8:00 pm\nRockstar Bingo 7 pm \nRockstar Bingo is like regular Bingo except with groovy music instead of numbers. Guaranteed you will be singing along.\nNo cost to play. Great prizes for winners. \nThis event is sponsored by the Batavia Moose Legion and is intended for Lodge members and their qualified guests. \nThis particular event will be in the social quarters only due to a private event scheduled in the back hall. \nRockstar Bingo is run by Seriously Fun Events.
URL:https://www.bataviamoose682.org/event/grilled-steak-night-rockstar-bingo/2026-09-19/
CATEGORIES:Monthly Special
ATTACH;FMTTYPE=image/png:https://www.bataviamoose682.org/wp-content/uploads/2025/03/Steak-Bingo.png
END:VEVENT
BEGIN:VEVENT
DTSTART;TZID=UTC:20260921T170000
DTEND;TZID=UTC:20260921T200000
DTSTAMP:20260422T223122
CREATED:20250821T051442Z
LAST-MODIFIED:20250821T051444Z
UID:10003120-1790010000-1790020800@www.bataviamoose682.org
SUMMARY:Comfort Food Monday
DESCRIPTION:
URL:https://www.bataviamoose682.org/event/comfort-food-monday-2/2026-09-21/
CATEGORIES:Monthly Meeting
END:VEVENT
BEGIN:VEVENT
DTSTART;TZID=UTC:20260921T190000
DTEND;TZID=UTC:20260921T200000
DTSTAMP:20260422T223122
CREATED:20250306T033105Z
LAST-MODIFIED:20250306T033306Z
UID:10000148-1790017200-1790020800@www.bataviamoose682.org
SUMMARY:Lodge General Meeting
DESCRIPTION:1st & 3rd Monday of each month @ 7:00 p.m. \n\nAll current members are welcome to attend.\nWe recommend each member attend a few meetings a year\nMeetings may include discussions regarding:\n\nBusiness conducted in the lodge\nRegional business\nUpcoming events & volunteer opportunities\nFundraiser ideas or proposals \n\n\nProper conduct & dress…\n\nNo alcohol allowed in meetings\nWhen in doubt\, don’t wear it
URL:https://www.bataviamoose682.org/event/lodge-general-meeting-2/2026-09-21/
CATEGORIES:Monthly Meeting
END:VEVENT
BEGIN:VEVENT
DTSTART;TZID=UTC:20260922T170000
DTEND;TZID=UTC:20260922T200000
DTSTAMP:20260422T223122
CREATED:20250507T071042Z
LAST-MODIFIED:20250507T071042Z
UID:10002480-1790096400-1790107200@www.bataviamoose682.org
SUMMARY:Kitchen Open
DESCRIPTION:
URL:https://www.bataviamoose682.org/event/kitchen-open/2026-09-22/
END:VEVENT
BEGIN:VEVENT
DTSTART;TZID=UTC:20260922T180000
DTEND;TZID=UTC:20260922T200000
DTSTAMP:20260422T223122
CREATED:20250317T045829Z
LAST-MODIFIED:20250317T045829Z
UID:10000672-1790100000-1790107200@www.bataviamoose682.org
SUMMARY:Kubb
DESCRIPTION:Come out and learn the hottest new outdoor game…KUBB! \nPlease check out our Facebook group for changes in date due to bad weather. \nCurrent Moose members and their qualified guests are welcome to join in on the fun!
URL:https://www.bataviamoose682.org/event/kubb/2026-09-22/
END:VEVENT
BEGIN:VEVENT
DTSTART;TZID=UTC:20260922T193000
DTEND;TZID=UTC:20260922T194500
DTSTAMP:20260422T223122
CREATED:20250317T052710Z
LAST-MODIFIED:20250317T052734Z
UID:10001205-1790105400-1790106300@www.bataviamoose682.org
SUMMARY:Queen of Hearts
DESCRIPTION:QUEEN OF  HEARTS WEEKLY DRAWING \n\nMust be a Current Loyal order of the Moose member in good standing to play and will be asked to present membership card to claim prize.\ndrawings will be held on Tuesday evenings at 7:30 pm\nyou may purchase tickets as many tickets as you like\, any day of the week up until 7:00pm the night of the drawing\nplease sign your tickets as your name appears on your membership card\, include your phone number on ticket\nIf you will not be present for the drawing\, please indicate your envelope number selection on the ticket. if no number is indicated the next available number will be chosen for you by the board member present.\nall non-winning tickets will be disposed of after the drawing & tickets will begin to be sold for the next week’s drawing\nif the 2nd joker is drawn\, the game will restart and all monies remaining in the prize pool.\n\nWINNING PAYMENTS: \n\ngrand prize winner need not be present for full payout\nweekly winner must be present for cash payout\n\nPayout as follows \n\n70% of pot to the winner\n20% to the Moose Lodge\n10% to start the next game
URL:https://www.bataviamoose682.org/event/queen-of-hearts/2026-09-22/
LOCATION:Batavia Moose Lodge
END:VEVENT
BEGIN:VEVENT
DTSTART;TZID=UTC:20260923T170000
DTEND;TZID=UTC:20260923T200000
DTSTAMP:20260422T223122
CREATED:20250507T071042Z
LAST-MODIFIED:20250507T071042Z
UID:10002481-1790182800-1790193600@www.bataviamoose682.org
SUMMARY:Kitchen Open
DESCRIPTION:
URL:https://www.bataviamoose682.org/event/kitchen-open/2026-09-23/
END:VEVENT
BEGIN:VEVENT
DTSTART;TZID=UTC:20260923T190000
DTEND;TZID=UTC:20260923T200000
DTSTAMP:20260422T223122
CREATED:20250317T043719Z
LAST-MODIFIED:20251209T071623Z
UID:10000481-1790190000-1790193600@www.bataviamoose682.org
SUMMARY:Line Dancing - Beginner/Intermediate Lesson
DESCRIPTION:
URL:https://www.bataviamoose682.org/event/line-dancing-beginner-intermediate-lesson/2026-09-23/
END:VEVENT
BEGIN:VEVENT
DTSTART;TZID=UTC:20260924T170000
DTEND;TZID=UTC:20260924T200000
DTSTAMP:20260422T223122
CREATED:20250507T071042Z
LAST-MODIFIED:20250507T071042Z
UID:10002482-1790269200-1790280000@www.bataviamoose682.org
SUMMARY:Kitchen Open
DESCRIPTION:
URL:https://www.bataviamoose682.org/event/kitchen-open/2026-09-24/
END:VEVENT
BEGIN:VEVENT
DTSTART;TZID=UTC:20260924T173000
DTEND;TZID=UTC:20260924T203000
DTSTAMP:20260422T223122
CREATED:20250821T052812Z
LAST-MODIFIED:20250821T052814Z
UID:10004072-1790271000-1790281800@www.bataviamoose682.org
SUMMARY:Famous Fried Chicken Dinner
DESCRIPTION:Join us for our Famous Fried Chicken Dinner. \n5:30-8:30pm or sold out \nopen to current Moose members & their qualified guests
URL:https://www.bataviamoose682.org/event/famous-fried-chicken-dinner-2-2-2/2026-09-24/
LOCATION:Batavia Moose Lodge
CATEGORIES:Monthly Special
ATTACH;FMTTYPE=image/png:https://www.bataviamoose682.org/wp-content/uploads/2025/03/Untitled-design-14.png
END:VEVENT
BEGIN:VEVENT
DTSTART;TZID=UTC:20260925T120000
DTEND;TZID=UTC:20260925T150000
DTSTAMP:20260422T223122
CREATED:20250507T070730Z
LAST-MODIFIED:20250507T070800Z
UID:10001812-1790337600-1790348400@www.bataviamoose682.org
SUMMARY:Family Fish Fry Lunch
DESCRIPTION:
URL:https://www.bataviamoose682.org/event/friday-fish-fry-lunch/2026-09-25/
END:VEVENT
BEGIN:VEVENT
DTSTART;TZID=UTC:20260925T170000
DTEND;TZID=UTC:20260925T203000
DTSTAMP:20260422T223122
CREATED:20250507T070846Z
LAST-MODIFIED:20250507T070846Z
UID:10002074-1790355600-1790368200@www.bataviamoose682.org
SUMMARY:Fish Fry
DESCRIPTION:
URL:https://www.bataviamoose682.org/event/fish-fry/2026-09-25/
END:VEVENT
BEGIN:VEVENT
DTSTART;TZID=UTC:20260926T120000
DTEND;TZID=UTC:20260926T150000
DTSTAMP:20260422T223122
CREATED:20250507T071224Z
LAST-MODIFIED:20260303T184004Z
UID:10003383-1790424000-1790434800@www.bataviamoose682.org
SUMMARY:Family Lunch
DESCRIPTION:
URL:https://www.bataviamoose682.org/event/family-lunch/2026-09-26/
END:VEVENT
BEGIN:VEVENT
DTSTART;TZID=UTC:20260926T170000
DTEND;TZID=UTC:20260926T200000
DTSTAMP:20260422T223122
CREATED:20250507T071313Z
LAST-MODIFIED:20260303T184129Z
UID:10003645-1790442000-1790452800@www.bataviamoose682.org
SUMMARY:Saturday Dinner
DESCRIPTION:
URL:https://www.bataviamoose682.org/event/saturday-dinner/2026-09-26/
END:VEVENT
END:VCALENDAR