BEGIN:VCALENDAR
VERSION:2.0
PRODID:-//Batavia Moose #682 - ECPv6.15.20//NONSGML v1.0//EN
CALSCALE:GREGORIAN
METHOD:PUBLISH
X-ORIGINAL-URL:https://www.bataviamoose682.org
X-WR-CALDESC:Events for Batavia Moose #682
REFRESH-INTERVAL;VALUE=DURATION:PT1H
X-Robots-Tag:noindex
X-PUBLISHED-TTL:PT1H
BEGIN:VTIMEZONE
TZID:UTC
BEGIN:STANDARD
TZOFFSETFROM:+0000
TZOFFSETTO:+0000
TZNAME:UTC
DTSTART:20260101T000000
END:STANDARD
END:VTIMEZONE
BEGIN:VEVENT
DTSTART;TZID=UTC:20270520T170000
DTEND;TZID=UTC:20270520T200000
DTSTAMP:20260425T014932
CREATED:20250507T071042Z
LAST-MODIFIED:20250507T071042Z
UID:10002584-1810832400-1810843200@www.bataviamoose682.org
SUMMARY:Kitchen Open
DESCRIPTION:
URL:https://www.bataviamoose682.org/event/kitchen-open/2027-05-20/
END:VEVENT
BEGIN:VEVENT
DTSTART;TZID=UTC:20270520T183000
DTEND;TZID=UTC:20270520T190000
DTSTAMP:20260425T014932
CREATED:20250317T044339Z
LAST-MODIFIED:20250317T044339Z
UID:10000550-1810837800-1810839600@www.bataviamoose682.org
SUMMARY:Women of the Moose Monthly Meeting
DESCRIPTION:Women of the Moose unite for our monthly meeting.\nNot a WOTM? Ask us and we can get you more information.
URL:https://www.bataviamoose682.org/event/women-of-the-moose-monthly-meeting/2027-05-20/
LOCATION:Batavia Moose Lodge
CATEGORIES:Monthly Meeting
ATTACH;FMTTYPE=image/png:https://www.bataviamoose682.org/wp-content/uploads/2022/03/KLKE52091.png
END:VEVENT
BEGIN:VEVENT
DTSTART;TZID=UTC:20270521T120000
DTEND;TZID=UTC:20270521T150000
DTSTAMP:20260425T014932
CREATED:20250507T070730Z
LAST-MODIFIED:20250507T070800Z
UID:10001846-1810900800-1810911600@www.bataviamoose682.org
SUMMARY:Family Fish Fry Lunch
DESCRIPTION:
URL:https://www.bataviamoose682.org/event/friday-fish-fry-lunch/2027-05-21/
END:VEVENT
BEGIN:VEVENT
DTSTART;TZID=UTC:20270521T170000
DTEND;TZID=UTC:20270521T203000
DTSTAMP:20260425T014932
CREATED:20250507T070846Z
LAST-MODIFIED:20250507T070846Z
UID:10002108-1810918800-1810931400@www.bataviamoose682.org
SUMMARY:Fish Fry
DESCRIPTION:
URL:https://www.bataviamoose682.org/event/fish-fry/2027-05-21/
END:VEVENT
BEGIN:VEVENT
DTSTART;TZID=UTC:20270522T120000
DTEND;TZID=UTC:20270522T150000
DTSTAMP:20260425T014932
CREATED:20250507T071224Z
LAST-MODIFIED:20260303T184004Z
UID:10003417-1810987200-1810998000@www.bataviamoose682.org
SUMMARY:Family Lunch
DESCRIPTION:
URL:https://www.bataviamoose682.org/event/family-lunch/2027-05-22/
END:VEVENT
BEGIN:VEVENT
DTSTART;TZID=UTC:20270522T170000
DTEND;TZID=UTC:20270522T200000
DTSTAMP:20260425T014932
CREATED:20250507T071313Z
LAST-MODIFIED:20260303T184129Z
UID:10003679-1811005200-1811016000@www.bataviamoose682.org
SUMMARY:Saturday Dinner
DESCRIPTION:
URL:https://www.bataviamoose682.org/event/saturday-dinner/2027-05-22/
END:VEVENT
BEGIN:VEVENT
DTSTART;TZID=UTC:20270524T170000
DTEND;TZID=UTC:20270524T200000
DTSTAMP:20260425T014932
CREATED:20250821T051442Z
LAST-MODIFIED:20250821T051444Z
UID:10003155-1811178000-1811188800@www.bataviamoose682.org
SUMMARY:Comfort Food Monday
DESCRIPTION:
URL:https://www.bataviamoose682.org/event/comfort-food-monday-2/2027-05-24/
CATEGORIES:Monthly Meeting
END:VEVENT
BEGIN:VEVENT
DTSTART;TZID=UTC:20270525T170000
DTEND;TZID=UTC:20270525T200000
DTSTAMP:20260425T014932
CREATED:20250507T071042Z
LAST-MODIFIED:20250507T071042Z
UID:10002585-1811264400-1811275200@www.bataviamoose682.org
SUMMARY:Kitchen Open
DESCRIPTION:
URL:https://www.bataviamoose682.org/event/kitchen-open/2027-05-25/
END:VEVENT
BEGIN:VEVENT
DTSTART;TZID=UTC:20270525T180000
DTEND;TZID=UTC:20270525T200000
DTSTAMP:20260425T014932
CREATED:20250317T045829Z
LAST-MODIFIED:20250317T045829Z
UID:10000707-1811268000-1811275200@www.bataviamoose682.org
SUMMARY:Kubb
DESCRIPTION:Come out and learn the hottest new outdoor game…KUBB! \nPlease check out our Facebook group for changes in date due to bad weather. \nCurrent Moose members and their qualified guests are welcome to join in on the fun!
URL:https://www.bataviamoose682.org/event/kubb/2027-05-25/
END:VEVENT
BEGIN:VEVENT
DTSTART;TZID=UTC:20270525T193000
DTEND;TZID=UTC:20270525T194500
DTSTAMP:20260425T014932
CREATED:20250317T052710Z
LAST-MODIFIED:20250317T052734Z
UID:10001240-1811273400-1811274300@www.bataviamoose682.org
SUMMARY:Queen of Hearts
DESCRIPTION:QUEEN OF  HEARTS WEEKLY DRAWING \n\nMust be a Current Loyal order of the Moose member in good standing to play and will be asked to present membership card to claim prize.\ndrawings will be held on Tuesday evenings at 7:30 pm\nyou may purchase tickets as many tickets as you like\, any day of the week up until 7:00pm the night of the drawing\nplease sign your tickets as your name appears on your membership card\, include your phone number on ticket\nIf you will not be present for the drawing\, please indicate your envelope number selection on the ticket. if no number is indicated the next available number will be chosen for you by the board member present.\nall non-winning tickets will be disposed of after the drawing & tickets will begin to be sold for the next week’s drawing\nif the 2nd joker is drawn\, the game will restart and all monies remaining in the prize pool.\n\nWINNING PAYMENTS: \n\ngrand prize winner need not be present for full payout\nweekly winner must be present for cash payout\n\nPayout as follows \n\n70% of pot to the winner\n20% to the Moose Lodge\n10% to start the next game
URL:https://www.bataviamoose682.org/event/queen-of-hearts/2027-05-25/
LOCATION:Batavia Moose Lodge
END:VEVENT
BEGIN:VEVENT
DTSTART;TZID=UTC:20270526T170000
DTEND;TZID=UTC:20270526T200000
DTSTAMP:20260425T014932
CREATED:20250507T071042Z
LAST-MODIFIED:20250507T071042Z
UID:10002586-1811350800-1811361600@www.bataviamoose682.org
SUMMARY:Kitchen Open
DESCRIPTION:
URL:https://www.bataviamoose682.org/event/kitchen-open/2027-05-26/
END:VEVENT
BEGIN:VEVENT
DTSTART;TZID=UTC:20270526T190000
DTEND;TZID=UTC:20270526T200000
DTSTAMP:20260425T014932
CREATED:20250317T043719Z
LAST-MODIFIED:20251209T071623Z
UID:10000489-1811358000-1811361600@www.bataviamoose682.org
SUMMARY:Line Dancing - Beginner/Intermediate Lesson
DESCRIPTION:
URL:https://www.bataviamoose682.org/event/line-dancing-beginner-intermediate-lesson/2027-05-26/
END:VEVENT
BEGIN:VEVENT
DTSTART;TZID=UTC:20270527T170000
DTEND;TZID=UTC:20270527T200000
DTSTAMP:20260425T014932
CREATED:20250507T071042Z
LAST-MODIFIED:20250507T071042Z
UID:10002587-1811437200-1811448000@www.bataviamoose682.org
SUMMARY:Kitchen Open
DESCRIPTION:
URL:https://www.bataviamoose682.org/event/kitchen-open/2027-05-27/
END:VEVENT
BEGIN:VEVENT
DTSTART;TZID=UTC:20270528T120000
DTEND;TZID=UTC:20270528T150000
DTSTAMP:20260425T014932
CREATED:20250507T070730Z
LAST-MODIFIED:20250507T070800Z
UID:10001847-1811505600-1811516400@www.bataviamoose682.org
SUMMARY:Family Fish Fry Lunch
DESCRIPTION:
URL:https://www.bataviamoose682.org/event/friday-fish-fry-lunch/2027-05-28/
END:VEVENT
BEGIN:VEVENT
DTSTART;TZID=UTC:20270528T170000
DTEND;TZID=UTC:20270528T203000
DTSTAMP:20260425T014932
CREATED:20250507T070846Z
LAST-MODIFIED:20250507T070846Z
UID:10002109-1811523600-1811536200@www.bataviamoose682.org
SUMMARY:Fish Fry
DESCRIPTION:
URL:https://www.bataviamoose682.org/event/fish-fry/2027-05-28/
END:VEVENT
BEGIN:VEVENT
DTSTART;TZID=UTC:20270529T120000
DTEND;TZID=UTC:20270529T150000
DTSTAMP:20260425T014932
CREATED:20250507T071224Z
LAST-MODIFIED:20260303T184004Z
UID:10003418-1811592000-1811602800@www.bataviamoose682.org
SUMMARY:Family Lunch
DESCRIPTION:
URL:https://www.bataviamoose682.org/event/family-lunch/2027-05-29/
END:VEVENT
BEGIN:VEVENT
DTSTART;TZID=UTC:20270529T170000
DTEND;TZID=UTC:20270529T200000
DTSTAMP:20260425T014932
CREATED:20250507T071313Z
LAST-MODIFIED:20260303T184129Z
UID:10003680-1811610000-1811620800@www.bataviamoose682.org
SUMMARY:Saturday Dinner
DESCRIPTION:
URL:https://www.bataviamoose682.org/event/saturday-dinner/2027-05-29/
END:VEVENT
BEGIN:VEVENT
DTSTART;TZID=UTC:20270531T170000
DTEND;TZID=UTC:20270531T200000
DTSTAMP:20260425T014932
CREATED:20250821T051442Z
LAST-MODIFIED:20250821T051444Z
UID:10003156-1811782800-1811793600@www.bataviamoose682.org
SUMMARY:Comfort Food Monday
DESCRIPTION:
URL:https://www.bataviamoose682.org/event/comfort-food-monday-2/2027-05-31/
CATEGORIES:Monthly Meeting
END:VEVENT
BEGIN:VEVENT
DTSTART;TZID=UTC:20270601T170000
DTEND;TZID=UTC:20270601T200000
DTSTAMP:20260425T014932
CREATED:20250507T071042Z
LAST-MODIFIED:20250507T071042Z
UID:10002588-1811869200-1811880000@www.bataviamoose682.org
SUMMARY:Kitchen Open
DESCRIPTION:
URL:https://www.bataviamoose682.org/event/kitchen-open/2027-06-01/
END:VEVENT
BEGIN:VEVENT
DTSTART;TZID=UTC:20270601T180000
DTEND;TZID=UTC:20270601T200000
DTSTAMP:20260425T014932
CREATED:20250317T045829Z
LAST-MODIFIED:20250317T045829Z
UID:10000708-1811872800-1811880000@www.bataviamoose682.org
SUMMARY:Kubb
DESCRIPTION:Come out and learn the hottest new outdoor game…KUBB! \nPlease check out our Facebook group for changes in date due to bad weather. \nCurrent Moose members and their qualified guests are welcome to join in on the fun!
URL:https://www.bataviamoose682.org/event/kubb/2027-06-01/
END:VEVENT
BEGIN:VEVENT
DTSTART;TZID=UTC:20270601T193000
DTEND;TZID=UTC:20270601T194500
DTSTAMP:20260425T014932
CREATED:20250317T052710Z
LAST-MODIFIED:20250317T052734Z
UID:10001241-1811878200-1811879100@www.bataviamoose682.org
SUMMARY:Queen of Hearts
DESCRIPTION:QUEEN OF  HEARTS WEEKLY DRAWING \n\nMust be a Current Loyal order of the Moose member in good standing to play and will be asked to present membership card to claim prize.\ndrawings will be held on Tuesday evenings at 7:30 pm\nyou may purchase tickets as many tickets as you like\, any day of the week up until 7:00pm the night of the drawing\nplease sign your tickets as your name appears on your membership card\, include your phone number on ticket\nIf you will not be present for the drawing\, please indicate your envelope number selection on the ticket. if no number is indicated the next available number will be chosen for you by the board member present.\nall non-winning tickets will be disposed of after the drawing & tickets will begin to be sold for the next week’s drawing\nif the 2nd joker is drawn\, the game will restart and all monies remaining in the prize pool.\n\nWINNING PAYMENTS: \n\ngrand prize winner need not be present for full payout\nweekly winner must be present for cash payout\n\nPayout as follows \n\n70% of pot to the winner\n20% to the Moose Lodge\n10% to start the next game
URL:https://www.bataviamoose682.org/event/queen-of-hearts/2027-06-01/
LOCATION:Batavia Moose Lodge
END:VEVENT
BEGIN:VEVENT
DTSTART;TZID=UTC:20270602T170000
DTEND;TZID=UTC:20270602T200000
DTSTAMP:20260425T014932
CREATED:20250507T071042Z
LAST-MODIFIED:20250507T071042Z
UID:10002589-1811955600-1811966400@www.bataviamoose682.org
SUMMARY:Kitchen Open
DESCRIPTION:
URL:https://www.bataviamoose682.org/event/kitchen-open/2027-06-02/
END:VEVENT
BEGIN:VEVENT
DTSTART;TZID=UTC:20270603T170000
DTEND;TZID=UTC:20270603T200000
DTSTAMP:20260425T014932
CREATED:20250507T071042Z
LAST-MODIFIED:20250507T071042Z
UID:10002590-1812042000-1812052800@www.bataviamoose682.org
SUMMARY:Kitchen Open
DESCRIPTION:
URL:https://www.bataviamoose682.org/event/kitchen-open/2027-06-03/
END:VEVENT
BEGIN:VEVENT
DTSTART;TZID=UTC:20270603T184500
DTEND;TZID=UTC:20270603T194500
DTSTAMP:20260425T014932
CREATED:20240220T230013Z
LAST-MODIFIED:20250306T022809Z
UID:10000036-1812048300-1812051900@www.bataviamoose682.org
SUMMARY:Moose Rider's Monthly Meeting
DESCRIPTION:Join us for our monthly Batavia Moose Rider’s Meeting. \nThe Moose Riders are consistently among the fastest growing and most “active” of all Moose Lodge Activity Groups. $20 annual dues. \nMoose Riders is open to any current Moose member. No motorcycle required to join.
URL:https://www.bataviamoose682.org/event/moose-riders-monthly-meeting/2027-06-03/
LOCATION:Batavia Moose Lodge
CATEGORIES:Monthly Meeting
ATTACH;FMTTYPE=image/png:https://www.bataviamoose682.org/wp-content/uploads/2024/02/Untitled-design-21-e1708489780661.png
END:VEVENT
BEGIN:VEVENT
DTSTART;TZID=UTC:20270604T120000
DTEND;TZID=UTC:20270604T150000
DTSTAMP:20260425T014932
CREATED:20250507T070730Z
LAST-MODIFIED:20250507T070800Z
UID:10001848-1812110400-1812121200@www.bataviamoose682.org
SUMMARY:Family Fish Fry Lunch
DESCRIPTION:
URL:https://www.bataviamoose682.org/event/friday-fish-fry-lunch/2027-06-04/
END:VEVENT
BEGIN:VEVENT
DTSTART;TZID=UTC:20270604T170000
DTEND;TZID=UTC:20270604T203000
DTSTAMP:20260425T014932
CREATED:20250507T070846Z
LAST-MODIFIED:20250507T070846Z
UID:10002110-1812128400-1812141000@www.bataviamoose682.org
SUMMARY:Fish Fry
DESCRIPTION:
URL:https://www.bataviamoose682.org/event/fish-fry/2027-06-04/
END:VEVENT
BEGIN:VEVENT
DTSTART;TZID=UTC:20270604T190000
DTEND;TZID=UTC:20270604T210000
DTSTAMP:20260425T014932
CREATED:20260303T175656Z
LAST-MODIFIED:20260303T200039Z
UID:10004404-1812135600-1812142800@www.bataviamoose682.org
SUMMARY:Trivia
DESCRIPTION:Get your team together and join us for a fun evening of TRIVIA!
URL:https://www.bataviamoose682.org/event/trivia-2/2027-06-04/
ATTACH;FMTTYPE=image/png:https://www.bataviamoose682.org/wp-content/uploads/2025/03/Kitchen-Open-1.png
END:VEVENT
BEGIN:VEVENT
DTSTART;TZID=UTC:20270605T120000
DTEND;TZID=UTC:20270605T150000
DTSTAMP:20260425T014932
CREATED:20250507T071224Z
LAST-MODIFIED:20260303T184004Z
UID:10003419-1812196800-1812207600@www.bataviamoose682.org
SUMMARY:Family Lunch
DESCRIPTION:
URL:https://www.bataviamoose682.org/event/family-lunch/2027-06-05/
END:VEVENT
BEGIN:VEVENT
DTSTART;TZID=UTC:20270605T170000
DTEND;TZID=UTC:20270605T200000
DTSTAMP:20260425T014932
CREATED:20250507T071313Z
LAST-MODIFIED:20260303T184129Z
UID:10003681-1812214800-1812225600@www.bataviamoose682.org
SUMMARY:Saturday Dinner
DESCRIPTION:
URL:https://www.bataviamoose682.org/event/saturday-dinner/2027-06-05/
END:VEVENT
BEGIN:VEVENT
DTSTART;TZID=UTC:20270607T170000
DTEND;TZID=UTC:20270607T200000
DTSTAMP:20260425T014932
CREATED:20250821T051442Z
LAST-MODIFIED:20250821T051444Z
UID:10003157-1812387600-1812398400@www.bataviamoose682.org
SUMMARY:Comfort Food Monday
DESCRIPTION:
URL:https://www.bataviamoose682.org/event/comfort-food-monday-2/2027-06-07/
CATEGORIES:Monthly Meeting
END:VEVENT
END:VCALENDAR