BEGIN:VCALENDAR
VERSION:2.0
PRODID:-//Batavia Moose #682 - ECPv6.15.20//NONSGML v1.0//EN
CALSCALE:GREGORIAN
METHOD:PUBLISH
X-ORIGINAL-URL:https://www.bataviamoose682.org
X-WR-CALDESC:Events for Batavia Moose #682
REFRESH-INTERVAL;VALUE=DURATION:PT1H
X-Robots-Tag:noindex
X-PUBLISHED-TTL:PT1H
BEGIN:VTIMEZONE
TZID:UTC
BEGIN:STANDARD
TZOFFSETFROM:+0000
TZOFFSETTO:+0000
TZNAME:UTC
DTSTART:20250101T000000
END:STANDARD
END:VTIMEZONE
BEGIN:VEVENT
DTSTART;TZID=UTC:20260420T170000
DTEND;TZID=UTC:20260420T200000
DTSTAMP:20260421T145120
CREATED:20250821T051442Z
LAST-MODIFIED:20250821T051444Z
UID:10003098-1776704400-1776715200@www.bataviamoose682.org
SUMMARY:Comfort Food Monday
DESCRIPTION:
URL:https://www.bataviamoose682.org/event/comfort-food-monday-2/2026-04-20/
CATEGORIES:Monthly Meeting
END:VEVENT
BEGIN:VEVENT
DTSTART;TZID=UTC:20260420T190000
DTEND;TZID=UTC:20260420T200000
DTSTAMP:20260421T145120
CREATED:20250306T033105Z
LAST-MODIFIED:20250306T033306Z
UID:10000143-1776711600-1776715200@www.bataviamoose682.org
SUMMARY:Lodge General Meeting
DESCRIPTION:1st & 3rd Monday of each month @ 7:00 p.m. \n\nAll current members are welcome to attend.\nWe recommend each member attend a few meetings a year\nMeetings may include discussions regarding:\n\nBusiness conducted in the lodge\nRegional business\nUpcoming events & volunteer opportunities\nFundraiser ideas or proposals \n\n\nProper conduct & dress…\n\nNo alcohol allowed in meetings\nWhen in doubt\, don’t wear it
URL:https://www.bataviamoose682.org/event/lodge-general-meeting-2/2026-04-20/
CATEGORIES:Monthly Meeting
END:VEVENT
BEGIN:VEVENT
DTSTART;TZID=UTC:20260421T170000
DTEND;TZID=UTC:20260421T200000
DTSTAMP:20260421T145121
CREATED:20250507T071042Z
LAST-MODIFIED:20250507T071042Z
UID:10002414-1776790800-1776801600@www.bataviamoose682.org
SUMMARY:Kitchen Open
DESCRIPTION:
URL:https://www.bataviamoose682.org/event/kitchen-open/2026-04-21/
END:VEVENT
BEGIN:VEVENT
DTSTART;TZID=UTC:20260421T180000
DTEND;TZID=UTC:20260421T200000
DTSTAMP:20260421T145121
CREATED:20250317T045829Z
LAST-MODIFIED:20250317T045829Z
UID:10000650-1776794400-1776801600@www.bataviamoose682.org
SUMMARY:Kubb
DESCRIPTION:Come out and learn the hottest new outdoor game…KUBB! \nPlease check out our Facebook group for changes in date due to bad weather. \nCurrent Moose members and their qualified guests are welcome to join in on the fun!
URL:https://www.bataviamoose682.org/event/kubb/2026-04-21/
END:VEVENT
BEGIN:VEVENT
DTSTART;TZID=UTC:20260421T193000
DTEND;TZID=UTC:20260421T194500
DTSTAMP:20260421T145121
CREATED:20250317T052710Z
LAST-MODIFIED:20250317T052734Z
UID:10001183-1776799800-1776800700@www.bataviamoose682.org
SUMMARY:Queen of Hearts
DESCRIPTION:QUEEN OF  HEARTS WEEKLY DRAWING \n\nMust be a Current Loyal order of the Moose member in good standing to play and will be asked to present membership card to claim prize.\ndrawings will be held on Tuesday evenings at 7:30 pm\nyou may purchase tickets as many tickets as you like\, any day of the week up until 7:00pm the night of the drawing\nplease sign your tickets as your name appears on your membership card\, include your phone number on ticket\nIf you will not be present for the drawing\, please indicate your envelope number selection on the ticket. if no number is indicated the next available number will be chosen for you by the board member present.\nall non-winning tickets will be disposed of after the drawing & tickets will begin to be sold for the next week’s drawing\nif the 2nd joker is drawn\, the game will restart and all monies remaining in the prize pool.\n\nWINNING PAYMENTS: \n\ngrand prize winner need not be present for full payout\nweekly winner must be present for cash payout\n\nPayout as follows \n\n70% of pot to the winner\n20% to the Moose Lodge\n10% to start the next game
URL:https://www.bataviamoose682.org/event/queen-of-hearts/2026-04-21/
LOCATION:Batavia Moose Lodge
END:VEVENT
BEGIN:VEVENT
DTSTART;TZID=UTC:20260422T170000
DTEND;TZID=UTC:20260422T200000
DTSTAMP:20260421T145121
CREATED:20250507T071042Z
LAST-MODIFIED:20250507T071042Z
UID:10002415-1776877200-1776888000@www.bataviamoose682.org
SUMMARY:Kitchen Open
DESCRIPTION:
URL:https://www.bataviamoose682.org/event/kitchen-open/2026-04-22/
END:VEVENT
BEGIN:VEVENT
DTSTART;TZID=UTC:20260422T183000
DTEND;TZID=UTC:20260422T200000
DTSTAMP:20260421T145121
CREATED:20260415T023722Z
LAST-MODIFIED:20260415T023722Z
UID:10004457-1776882600-1776888000@www.bataviamoose682.org
SUMMARY:Member Poker Night (for fun)
DESCRIPTION:A fun evening for Moose members who enjoy the game or have never played and want to learn. This will be a casual and friendly tournament. Good opportunity to learn for those planning to attend the real money event later in the month. \nWhat to know:\n✅ No cash involved. Free to play\, winners get bragging rights and a fun trophy/award.\n✅ Beginners and those wanting to learn the game are welcome \nEvent Highlights:\n• One tournament. Arrive by 6:15pm to get your chips. You are done once you run out of chips.\n• Players will rotate the dealer (Will not be dedicated experienced dealers)\n• Signup in advance so we know how many chips we’ll need (See lodge Facebook for signup link)\n• Suggested $10 donation to pay for supplies (each donation gets a raffle ticket for TBD prize) \nOpen to current members & their qualified guests
URL:https://www.bataviamoose682.org/event/member-poker-night-for-fun/
LOCATION:Batavia Moose Lodge
CATEGORIES:Special Event
ATTACH;FMTTYPE=image/png:https://www.bataviamoose682.org/wp-content/uploads/2026/04/Poker-Event.png
END:VEVENT
BEGIN:VEVENT
DTSTART;TZID=UTC:20260422T190000
DTEND;TZID=UTC:20260422T200000
DTSTAMP:20260421T145121
CREATED:20250317T043719Z
LAST-MODIFIED:20251209T071623Z
UID:10000476-1776884400-1776888000@www.bataviamoose682.org
SUMMARY:Line Dancing - Beginner/Intermediate Lesson
DESCRIPTION:
URL:https://www.bataviamoose682.org/event/line-dancing-beginner-intermediate-lesson/2026-04-22/
END:VEVENT
BEGIN:VEVENT
DTSTART;TZID=UTC:20260423T173000
DTEND;TZID=UTC:20260423T203000
DTSTAMP:20260421T145121
CREATED:20250821T052812Z
LAST-MODIFIED:20250821T052814Z
UID:10004067-1776965400-1776976200@www.bataviamoose682.org
SUMMARY:Famous Fried Chicken Dinner
DESCRIPTION:Join us for our Famous Fried Chicken Dinner. \n5:30-8:30pm or sold out \nopen to current Moose members & their qualified guests
URL:https://www.bataviamoose682.org/event/famous-fried-chicken-dinner-2-2-2/2026-04-23/
LOCATION:Batavia Moose Lodge
CATEGORIES:Monthly Special
ATTACH;FMTTYPE=image/png:https://www.bataviamoose682.org/wp-content/uploads/2025/03/Untitled-design-14.png
END:VEVENT
BEGIN:VEVENT
DTSTART;TZID=UTC:20260424T120000
DTEND;TZID=UTC:20260424T150000
DTSTAMP:20260421T145121
CREATED:20250507T070730Z
LAST-MODIFIED:20250507T070800Z
UID:10001790-1777032000-1777042800@www.bataviamoose682.org
SUMMARY:Family Fish Fry Lunch
DESCRIPTION:
URL:https://www.bataviamoose682.org/event/friday-fish-fry-lunch/2026-04-24/
END:VEVENT
BEGIN:VEVENT
DTSTART;TZID=UTC:20260424T170000
DTEND;TZID=UTC:20260424T203000
DTSTAMP:20260421T145121
CREATED:20250507T070846Z
LAST-MODIFIED:20250507T070846Z
UID:10002052-1777050000-1777062600@www.bataviamoose682.org
SUMMARY:Fish Fry
DESCRIPTION:
URL:https://www.bataviamoose682.org/event/fish-fry/2026-04-24/
END:VEVENT
BEGIN:VEVENT
DTSTART;TZID=UTC:20260424T200000
DTEND;TZID=UTC:20260424T213000
DTSTAMP:20260421T145121
CREATED:20260415T024044Z
LAST-MODIFIED:20260415T024044Z
UID:10004458-1777060800-1777066200@www.bataviamoose682.org
SUMMARY:Live Music: School of Rock
DESCRIPTION:Performance is the core of School of Rock’s educational approach. They love playing our Lodge and we love to have them. Such a talented group of young performers.\nThey create opportunities for students to perform on stages throughout the area and are coming to the Batavia Moose Lodge. The House Band music program allows each school’s most talented students the opportunity to join a band and play routinely in front of live audiences. Students gain real music experience associated with gigging musicians and will become leaders and mentors inside the School of Rock community\n\nOpen to current Moose members & their qualified guests
URL:https://www.bataviamoose682.org/event/live-music-school-of-rock/
LOCATION:Batavia Moose Lodge
CATEGORIES:Live Music Event
ATTACH;FMTTYPE=image/jpeg:https://www.bataviamoose682.org/wp-content/uploads/2026/04/school-of-rock.jpg
END:VEVENT
BEGIN:VEVENT
DTSTART;TZID=UTC:20260425T100000
DTEND;TZID=UTC:20260425T130000
DTSTAMP:20260421T145121
CREATED:20260415T024523Z
LAST-MODIFIED:20260415T024523Z
UID:10004459-1777111200-1777122000@www.bataviamoose682.org
SUMMARY:Lodge Spring Clean (Volunteer Opportunity)
DESCRIPTION:It’s time to band together and do some spring cleaning. We ask any available members to volunteer a few hours of their time to help get the lodge ready for our Spring and Summer activities. From a little extra social quarters & kid’s room cleaning to outside grounds clean up. We can use all the hands we can get
URL:https://www.bataviamoose682.org/event/lodge-spring-clean-volunteer-opportunity/2026-04-25/
LOCATION:Batavia Moose Lodge
CATEGORIES:Special Event
ATTACH;FMTTYPE=image/jpeg:https://www.bataviamoose682.org/wp-content/uploads/2026/04/spring-clean.jpg
END:VEVENT
BEGIN:VEVENT
DTSTART;TZID=UTC:20260425T120000
DTEND;TZID=UTC:20260425T150000
DTSTAMP:20260421T145121
CREATED:20250507T071224Z
LAST-MODIFIED:20260303T184004Z
UID:10003361-1777118400-1777129200@www.bataviamoose682.org
SUMMARY:Family Lunch
DESCRIPTION:
URL:https://www.bataviamoose682.org/event/family-lunch/2026-04-25/
END:VEVENT
BEGIN:VEVENT
DTSTART;TZID=UTC:20260425T170000
DTEND;TZID=UTC:20260425T200000
DTSTAMP:20260421T145121
CREATED:20250507T071313Z
LAST-MODIFIED:20260303T184129Z
UID:10003623-1777136400-1777147200@www.bataviamoose682.org
SUMMARY:Saturday Dinner
DESCRIPTION:
URL:https://www.bataviamoose682.org/event/saturday-dinner/2026-04-25/
END:VEVENT
BEGIN:VEVENT
DTSTART;TZID=UTC:20260426T100000
DTEND;TZID=UTC:20260426T130000
DTSTAMP:20260421T145121
CREATED:20260415T024523Z
LAST-MODIFIED:20260415T024523Z
UID:10004460-1777197600-1777208400@www.bataviamoose682.org
SUMMARY:Lodge Spring Clean (Volunteer Opportunity)
DESCRIPTION:It’s time to band together and do some spring cleaning. We ask any available members to volunteer a few hours of their time to help get the lodge ready for our Spring and Summer activities. From a little extra social quarters & kid’s room cleaning to outside grounds clean up. We can use all the hands we can get
URL:https://www.bataviamoose682.org/event/lodge-spring-clean-volunteer-opportunity/2026-04-26/
LOCATION:Batavia Moose Lodge
CATEGORIES:Special Event
ATTACH;FMTTYPE=image/jpeg:https://www.bataviamoose682.org/wp-content/uploads/2026/04/spring-clean.jpg
END:VEVENT
BEGIN:VEVENT
DTSTART;TZID=UTC:20260427T170000
DTEND;TZID=UTC:20260427T200000
DTSTAMP:20260421T145121
CREATED:20250821T051442Z
LAST-MODIFIED:20250821T051444Z
UID:10003099-1777309200-1777320000@www.bataviamoose682.org
SUMMARY:Comfort Food Monday
DESCRIPTION:
URL:https://www.bataviamoose682.org/event/comfort-food-monday-2/2026-04-27/
CATEGORIES:Monthly Meeting
END:VEVENT
BEGIN:VEVENT
DTSTART;TZID=UTC:20260428T170000
DTEND;TZID=UTC:20260428T200000
DTSTAMP:20260421T145121
CREATED:20250507T071042Z
LAST-MODIFIED:20250507T071042Z
UID:10002417-1777395600-1777406400@www.bataviamoose682.org
SUMMARY:Kitchen Open
DESCRIPTION:
URL:https://www.bataviamoose682.org/event/kitchen-open/2026-04-28/
END:VEVENT
BEGIN:VEVENT
DTSTART;TZID=UTC:20260428T180000
DTEND;TZID=UTC:20260428T200000
DTSTAMP:20260421T145121
CREATED:20250317T045829Z
LAST-MODIFIED:20250317T045829Z
UID:10000651-1777399200-1777406400@www.bataviamoose682.org
SUMMARY:Kubb
DESCRIPTION:Come out and learn the hottest new outdoor game…KUBB! \nPlease check out our Facebook group for changes in date due to bad weather. \nCurrent Moose members and their qualified guests are welcome to join in on the fun!
URL:https://www.bataviamoose682.org/event/kubb/2026-04-28/
END:VEVENT
BEGIN:VEVENT
DTSTART;TZID=UTC:20260428T193000
DTEND;TZID=UTC:20260428T194500
DTSTAMP:20260421T145121
CREATED:20250317T052710Z
LAST-MODIFIED:20250317T052734Z
UID:10001184-1777404600-1777405500@www.bataviamoose682.org
SUMMARY:Queen of Hearts
DESCRIPTION:QUEEN OF  HEARTS WEEKLY DRAWING \n\nMust be a Current Loyal order of the Moose member in good standing to play and will be asked to present membership card to claim prize.\ndrawings will be held on Tuesday evenings at 7:30 pm\nyou may purchase tickets as many tickets as you like\, any day of the week up until 7:00pm the night of the drawing\nplease sign your tickets as your name appears on your membership card\, include your phone number on ticket\nIf you will not be present for the drawing\, please indicate your envelope number selection on the ticket. if no number is indicated the next available number will be chosen for you by the board member present.\nall non-winning tickets will be disposed of after the drawing & tickets will begin to be sold for the next week’s drawing\nif the 2nd joker is drawn\, the game will restart and all monies remaining in the prize pool.\n\nWINNING PAYMENTS: \n\ngrand prize winner need not be present for full payout\nweekly winner must be present for cash payout\n\nPayout as follows \n\n70% of pot to the winner\n20% to the Moose Lodge\n10% to start the next game
URL:https://www.bataviamoose682.org/event/queen-of-hearts/2026-04-28/
LOCATION:Batavia Moose Lodge
END:VEVENT
BEGIN:VEVENT
DTSTART;TZID=UTC:20260429T170000
DTEND;TZID=UTC:20260429T200000
DTSTAMP:20260421T145121
CREATED:20250507T071042Z
LAST-MODIFIED:20250507T071042Z
UID:10002418-1777482000-1777492800@www.bataviamoose682.org
SUMMARY:Kitchen Open
DESCRIPTION:
URL:https://www.bataviamoose682.org/event/kitchen-open/2026-04-29/
END:VEVENT
BEGIN:VEVENT
DTSTART;TZID=UTC:20260430T170000
DTEND;TZID=UTC:20260430T200000
DTSTAMP:20260421T145121
CREATED:20250507T071042Z
LAST-MODIFIED:20250507T071042Z
UID:10002419-1777568400-1777579200@www.bataviamoose682.org
SUMMARY:Kitchen Open
DESCRIPTION:
URL:https://www.bataviamoose682.org/event/kitchen-open/2026-04-30/
END:VEVENT
BEGIN:VEVENT
DTSTART;TZID=UTC:20260501T120000
DTEND;TZID=UTC:20260501T150000
DTSTAMP:20260421T145121
CREATED:20250507T070730Z
LAST-MODIFIED:20250507T070800Z
UID:10001791-1777636800-1777647600@www.bataviamoose682.org
SUMMARY:Family Fish Fry Lunch
DESCRIPTION:
URL:https://www.bataviamoose682.org/event/friday-fish-fry-lunch/2026-05-01/
END:VEVENT
BEGIN:VEVENT
DTSTART;TZID=UTC:20260501T170000
DTEND;TZID=UTC:20260501T203000
DTSTAMP:20260421T145121
CREATED:20250507T070846Z
LAST-MODIFIED:20250507T070846Z
UID:10002053-1777654800-1777667400@www.bataviamoose682.org
SUMMARY:Fish Fry
DESCRIPTION:
URL:https://www.bataviamoose682.org/event/fish-fry/2026-05-01/
END:VEVENT
BEGIN:VEVENT
DTSTART;TZID=UTC:20260501T190000
DTEND;TZID=UTC:20260501T210000
DTSTAMP:20260421T145121
CREATED:20260303T175656Z
LAST-MODIFIED:20260303T200039Z
UID:10004392-1777662000-1777669200@www.bataviamoose682.org
SUMMARY:Trivia
DESCRIPTION:Get your team together and join us for a fun evening of TRIVIA!
URL:https://www.bataviamoose682.org/event/trivia-2/2026-05-01/
ATTACH;FMTTYPE=image/png:https://www.bataviamoose682.org/wp-content/uploads/2025/03/Kitchen-Open-1.png
END:VEVENT
BEGIN:VEVENT
DTSTART;TZID=UTC:20260502T110000
DTEND;TZID=UTC:20260502T180000
DTSTAMP:20260421T145121
CREATED:20260217T025728Z
LAST-MODIFIED:20260217T025728Z
UID:10004269-1777719600-1777744800@www.bataviamoose682.org
SUMMARY:Moose Legion Outing
DESCRIPTION:For Batavia Moose Legion members only.  All current members welcome to attend this fun and free outing.  Transportation provided. \nRSVP by purchasing $0 ticket on this site. \n11:00 am:  Meet at the Batavia Moose Lodge back parking lot \n11:30: Lunch at place to be determined \n2:00 pm:  Whiskey Acres Distillery visit and tour \n4:00 pm:  Dekalb Moose Lodge \n6:00 pm:  Return to Batavia Moose Lodge
URL:https://www.bataviamoose682.org/event/moose-legion-outing/
LOCATION:Batavia Moose Lodge
ATTACH;FMTTYPE=image/png:https://www.bataviamoose682.org/wp-content/uploads/2026/02/Moose-Legion-logo.png
END:VEVENT
BEGIN:VEVENT
DTSTART;TZID=UTC:20260502T120000
DTEND;TZID=UTC:20260502T150000
DTSTAMP:20260421T145121
CREATED:20250507T071224Z
LAST-MODIFIED:20260303T184004Z
UID:10003362-1777723200-1777734000@www.bataviamoose682.org
SUMMARY:Family Lunch
DESCRIPTION:
URL:https://www.bataviamoose682.org/event/family-lunch/2026-05-02/
END:VEVENT
BEGIN:VEVENT
DTSTART;TZID=UTC:20260502T170000
DTEND;TZID=UTC:20260502T200000
DTSTAMP:20260421T145121
CREATED:20250507T071313Z
LAST-MODIFIED:20260303T184129Z
UID:10003624-1777741200-1777752000@www.bataviamoose682.org
SUMMARY:Saturday Dinner
DESCRIPTION:
URL:https://www.bataviamoose682.org/event/saturday-dinner/2026-05-02/
END:VEVENT
BEGIN:VEVENT
DTSTART;TZID=UTC:20260504T170000
DTEND;TZID=UTC:20260504T200000
DTSTAMP:20260421T145121
CREATED:20250821T051442Z
LAST-MODIFIED:20250821T051444Z
UID:10003100-1777914000-1777924800@www.bataviamoose682.org
SUMMARY:Comfort Food Monday
DESCRIPTION:
URL:https://www.bataviamoose682.org/event/comfort-food-monday-2/2026-05-04/
CATEGORIES:Monthly Meeting
END:VEVENT
BEGIN:VEVENT
DTSTART;TZID=UTC:20260504T190000
DTEND;TZID=UTC:20260504T200000
DTSTAMP:20260421T145121
CREATED:20250821T051547Z
LAST-MODIFIED:20250821T051549Z
UID:10003949-1777921200-1777924800@www.bataviamoose682.org
SUMMARY:Lodge General Meeting
DESCRIPTION:1st & 3rd Monday of each month @ 7:00 p.m. \n\nAll current members are welcome to attend.\nWe recommend each member attend a few meetings a year\nMeetings may include discussions regarding:\n\nBusiness conducted in the lodge\nRegional business\nUpcoming events & volunteer opportunities\nFundraiser ideas or proposals \n\n\nProper conduct & dress…\n\nNo alcohol allowed in meetings\nWhen in doubt\, don’t wear it\n\n\n\n 
URL:https://www.bataviamoose682.org/event/lodge-general-meeting-3-2/2026-05-04/
CATEGORIES:Monthly Meeting
END:VEVENT
END:VCALENDAR