BEGIN:VCALENDAR
VERSION:2.0
PRODID:-//Batavia Moose #682 - ECPv6.15.20//NONSGML v1.0//EN
CALSCALE:GREGORIAN
METHOD:PUBLISH
X-WR-CALNAME:Batavia Moose #682
X-ORIGINAL-URL:https://www.bataviamoose682.org
X-WR-CALDESC:Events for Batavia Moose #682
REFRESH-INTERVAL;VALUE=DURATION:PT1H
X-Robots-Tag:noindex
X-PUBLISHED-TTL:PT1H
BEGIN:VTIMEZONE
TZID:UTC
BEGIN:STANDARD
TZOFFSETFROM:+0000
TZOFFSETTO:+0000
TZNAME:UTC
DTSTART:20240101T000000
END:STANDARD
END:VTIMEZONE
BEGIN:VEVENT
DTSTART;TZID=UTC:20251227T170000
DTEND;TZID=UTC:20251227T200000
DTSTAMP:20260421T170754
CREATED:20250507T071313Z
LAST-MODIFIED:20260303T184129Z
UID:10003606-1766854800-1766865600@www.bataviamoose682.org
SUMMARY:Saturday Dinner
DESCRIPTION:
URL:https://www.bataviamoose682.org/event/saturday-dinner/2025-12-27/
END:VEVENT
BEGIN:VEVENT
DTSTART;TZID=UTC:20251229T170000
DTEND;TZID=UTC:20251229T200000
DTSTAMP:20260421T170754
CREATED:20250821T051442Z
LAST-MODIFIED:20250821T051444Z
UID:10003082-1767027600-1767038400@www.bataviamoose682.org
SUMMARY:Comfort Food Monday
DESCRIPTION:
URL:https://www.bataviamoose682.org/event/comfort-food-monday-2/2025-12-29/
CATEGORIES:Monthly Meeting
END:VEVENT
BEGIN:VEVENT
DTSTART;TZID=UTC:20251230T170000
DTEND;TZID=UTC:20251230T200000
DTSTAMP:20260421T170754
CREATED:20250507T071042Z
LAST-MODIFIED:20250507T071042Z
UID:10002366-1767114000-1767124800@www.bataviamoose682.org
SUMMARY:Kitchen Open
DESCRIPTION:
URL:https://www.bataviamoose682.org/event/kitchen-open/2025-12-30/
END:VEVENT
BEGIN:VEVENT
DTSTART;TZID=UTC:20251230T180000
DTEND;TZID=UTC:20251230T200000
DTSTAMP:20260421T170754
CREATED:20250317T045829Z
LAST-MODIFIED:20250317T045829Z
UID:10000634-1767117600-1767124800@www.bataviamoose682.org
SUMMARY:Kubb
DESCRIPTION:Come out and learn the hottest new outdoor game…KUBB! \nPlease check out our Facebook group for changes in date due to bad weather. \nCurrent Moose members and their qualified guests are welcome to join in on the fun!
URL:https://www.bataviamoose682.org/event/kubb/2025-12-30/
END:VEVENT
BEGIN:VEVENT
DTSTART;TZID=UTC:20251230T193000
DTEND;TZID=UTC:20251230T194500
DTSTAMP:20260421T170754
CREATED:20250317T052710Z
LAST-MODIFIED:20250317T052734Z
UID:10001167-1767123000-1767123900@www.bataviamoose682.org
SUMMARY:Queen of Hearts
DESCRIPTION:QUEEN OF  HEARTS WEEKLY DRAWING \n\nMust be a Current Loyal order of the Moose member in good standing to play and will be asked to present membership card to claim prize.\ndrawings will be held on Tuesday evenings at 7:30 pm\nyou may purchase tickets as many tickets as you like\, any day of the week up until 7:00pm the night of the drawing\nplease sign your tickets as your name appears on your membership card\, include your phone number on ticket\nIf you will not be present for the drawing\, please indicate your envelope number selection on the ticket. if no number is indicated the next available number will be chosen for you by the board member present.\nall non-winning tickets will be disposed of after the drawing & tickets will begin to be sold for the next week’s drawing\nif the 2nd joker is drawn\, the game will restart and all monies remaining in the prize pool.\n\nWINNING PAYMENTS: \n\ngrand prize winner need not be present for full payout\nweekly winner must be present for cash payout\n\nPayout as follows \n\n70% of pot to the winner\n20% to the Moose Lodge\n10% to start the next game
URL:https://www.bataviamoose682.org/event/queen-of-hearts/2025-12-30/
LOCATION:Batavia Moose Lodge
END:VEVENT
BEGIN:VEVENT
DTSTART;TZID=UTC:20251231T170000
DTEND;TZID=UTC:20251231T200000
DTSTAMP:20260421T170754
CREATED:20250507T071042Z
LAST-MODIFIED:20250507T071042Z
UID:10002367-1767200400-1767211200@www.bataviamoose682.org
SUMMARY:Kitchen Open
DESCRIPTION:
URL:https://www.bataviamoose682.org/event/kitchen-open/2025-12-31/
END:VEVENT
BEGIN:VEVENT
DTSTART;TZID=UTC:20260101T170000
DTEND;TZID=UTC:20260101T200000
DTSTAMP:20260421T170754
CREATED:20250507T071042Z
LAST-MODIFIED:20250507T071042Z
UID:10002368-1767286800-1767297600@www.bataviamoose682.org
SUMMARY:Kitchen Open
DESCRIPTION:
URL:https://www.bataviamoose682.org/event/kitchen-open/2026-01-01/
END:VEVENT
BEGIN:VEVENT
DTSTART;TZID=UTC:20260101T184500
DTEND;TZID=UTC:20260101T194500
DTSTAMP:20260421T170754
CREATED:20240220T230013Z
LAST-MODIFIED:20250306T022809Z
UID:10000019-1767293100-1767296700@www.bataviamoose682.org
SUMMARY:Moose Rider's Monthly Meeting
DESCRIPTION:Join us for our monthly Batavia Moose Rider’s Meeting. \nThe Moose Riders are consistently among the fastest growing and most “active” of all Moose Lodge Activity Groups. $20 annual dues. \nMoose Riders is open to any current Moose member. No motorcycle required to join.
URL:https://www.bataviamoose682.org/event/moose-riders-monthly-meeting/2026-01-01/
LOCATION:Batavia Moose Lodge
CATEGORIES:Monthly Meeting
ATTACH;FMTTYPE=image/png:https://www.bataviamoose682.org/wp-content/uploads/2024/02/Untitled-design-21-e1708489780661.png
END:VEVENT
BEGIN:VEVENT
DTSTART;TZID=UTC:20260102T120000
DTEND;TZID=UTC:20260102T150000
DTSTAMP:20260421T170754
CREATED:20250507T070730Z
LAST-MODIFIED:20250507T070800Z
UID:10001774-1767355200-1767366000@www.bataviamoose682.org
SUMMARY:Family Fish Fry Lunch
DESCRIPTION:
URL:https://www.bataviamoose682.org/event/friday-fish-fry-lunch/2026-01-02/
END:VEVENT
BEGIN:VEVENT
DTSTART;TZID=UTC:20260102T170000
DTEND;TZID=UTC:20260102T203000
DTSTAMP:20260421T170754
CREATED:20250507T070846Z
LAST-MODIFIED:20250507T070846Z
UID:10002036-1767373200-1767385800@www.bataviamoose682.org
SUMMARY:Fish Fry
DESCRIPTION:
URL:https://www.bataviamoose682.org/event/fish-fry/2026-01-02/
END:VEVENT
BEGIN:VEVENT
DTSTART;TZID=UTC:20260103T120000
DTEND;TZID=UTC:20260103T150000
DTSTAMP:20260421T170754
CREATED:20250507T071224Z
LAST-MODIFIED:20260303T184004Z
UID:10003345-1767441600-1767452400@www.bataviamoose682.org
SUMMARY:Family Lunch
DESCRIPTION:
URL:https://www.bataviamoose682.org/event/family-lunch/2026-01-03/
END:VEVENT
BEGIN:VEVENT
DTSTART;TZID=UTC:20260103T170000
DTEND;TZID=UTC:20260103T200000
DTSTAMP:20260421T170754
CREATED:20250507T071313Z
LAST-MODIFIED:20260303T184129Z
UID:10003607-1767459600-1767470400@www.bataviamoose682.org
SUMMARY:Saturday Dinner
DESCRIPTION:
URL:https://www.bataviamoose682.org/event/saturday-dinner/2026-01-03/
END:VEVENT
BEGIN:VEVENT
DTSTART;TZID=UTC:20260105T170000
DTEND;TZID=UTC:20260105T200000
DTSTAMP:20260421T170754
CREATED:20250821T051442Z
LAST-MODIFIED:20250821T051444Z
UID:10003083-1767632400-1767643200@www.bataviamoose682.org
SUMMARY:Comfort Food Monday
DESCRIPTION:
URL:https://www.bataviamoose682.org/event/comfort-food-monday-2/2026-01-05/
CATEGORIES:Monthly Meeting
END:VEVENT
BEGIN:VEVENT
DTSTART;TZID=UTC:20260105T190000
DTEND;TZID=UTC:20260105T200000
DTSTAMP:20260421T170754
CREATED:20250821T051547Z
LAST-MODIFIED:20250821T051549Z
UID:10003945-1767639600-1767643200@www.bataviamoose682.org
SUMMARY:Lodge General Meeting
DESCRIPTION:1st & 3rd Monday of each month @ 7:00 p.m. \n\nAll current members are welcome to attend.\nWe recommend each member attend a few meetings a year\nMeetings may include discussions regarding:\n\nBusiness conducted in the lodge\nRegional business\nUpcoming events & volunteer opportunities\nFundraiser ideas or proposals \n\n\nProper conduct & dress…\n\nNo alcohol allowed in meetings\nWhen in doubt\, don’t wear it\n\n\n\n 
URL:https://www.bataviamoose682.org/event/lodge-general-meeting-3-2/2026-01-05/
CATEGORIES:Monthly Meeting
END:VEVENT
BEGIN:VEVENT
DTSTART;TZID=UTC:20260106T170000
DTEND;TZID=UTC:20260106T200000
DTSTAMP:20260421T170754
CREATED:20250507T071042Z
LAST-MODIFIED:20250507T071042Z
UID:10002369-1767718800-1767729600@www.bataviamoose682.org
SUMMARY:Kitchen Open
DESCRIPTION:
URL:https://www.bataviamoose682.org/event/kitchen-open/2026-01-06/
END:VEVENT
BEGIN:VEVENT
DTSTART;TZID=UTC:20260106T180000
DTEND;TZID=UTC:20260106T200000
DTSTAMP:20260421T170754
CREATED:20250317T045829Z
LAST-MODIFIED:20250317T045829Z
UID:10000635-1767722400-1767729600@www.bataviamoose682.org
SUMMARY:Kubb
DESCRIPTION:Come out and learn the hottest new outdoor game…KUBB! \nPlease check out our Facebook group for changes in date due to bad weather. \nCurrent Moose members and their qualified guests are welcome to join in on the fun!
URL:https://www.bataviamoose682.org/event/kubb/2026-01-06/
END:VEVENT
BEGIN:VEVENT
DTSTART;TZID=UTC:20260106T193000
DTEND;TZID=UTC:20260106T194500
DTSTAMP:20260421T170754
CREATED:20250317T052710Z
LAST-MODIFIED:20250317T052734Z
UID:10001168-1767727800-1767728700@www.bataviamoose682.org
SUMMARY:Queen of Hearts
DESCRIPTION:QUEEN OF  HEARTS WEEKLY DRAWING \n\nMust be a Current Loyal order of the Moose member in good standing to play and will be asked to present membership card to claim prize.\ndrawings will be held on Tuesday evenings at 7:30 pm\nyou may purchase tickets as many tickets as you like\, any day of the week up until 7:00pm the night of the drawing\nplease sign your tickets as your name appears on your membership card\, include your phone number on ticket\nIf you will not be present for the drawing\, please indicate your envelope number selection on the ticket. if no number is indicated the next available number will be chosen for you by the board member present.\nall non-winning tickets will be disposed of after the drawing & tickets will begin to be sold for the next week’s drawing\nif the 2nd joker is drawn\, the game will restart and all monies remaining in the prize pool.\n\nWINNING PAYMENTS: \n\ngrand prize winner need not be present for full payout\nweekly winner must be present for cash payout\n\nPayout as follows \n\n70% of pot to the winner\n20% to the Moose Lodge\n10% to start the next game
URL:https://www.bataviamoose682.org/event/queen-of-hearts/2026-01-06/
LOCATION:Batavia Moose Lodge
END:VEVENT
BEGIN:VEVENT
DTSTART;TZID=UTC:20260107T170000
DTEND;TZID=UTC:20260107T200000
DTSTAMP:20260421T170754
CREATED:20250507T071042Z
LAST-MODIFIED:20250507T071042Z
UID:10002370-1767805200-1767816000@www.bataviamoose682.org
SUMMARY:Kitchen Open
DESCRIPTION:
URL:https://www.bataviamoose682.org/event/kitchen-open/2026-01-07/
END:VEVENT
BEGIN:VEVENT
DTSTART;TZID=UTC:20260108T170000
DTEND;TZID=UTC:20260108T200000
DTSTAMP:20260421T170754
CREATED:20250507T071042Z
LAST-MODIFIED:20250507T071042Z
UID:10002371-1767891600-1767902400@www.bataviamoose682.org
SUMMARY:Kitchen Open
DESCRIPTION:
URL:https://www.bataviamoose682.org/event/kitchen-open/2026-01-08/
END:VEVENT
BEGIN:VEVENT
DTSTART;TZID=UTC:20260108T180000
DTEND;TZID=UTC:20260108T190000
DTSTAMP:20260421T170754
CREATED:20250507T064303Z
LAST-MODIFIED:20250507T064303Z
UID:10001681-1767895200-1767898800@www.bataviamoose682.org
SUMMARY:Rod & Gun Monthly Meeting
DESCRIPTION:
URL:https://www.bataviamoose682.org/event/rod-gun-monthly-meeting/2026-01-08/
CATEGORIES:Monthly Meeting
END:VEVENT
BEGIN:VEVENT
DTSTART;TZID=UTC:20260109T120000
DTEND;TZID=UTC:20260109T150000
DTSTAMP:20260421T170754
CREATED:20250507T070730Z
LAST-MODIFIED:20250507T070800Z
UID:10001775-1767960000-1767970800@www.bataviamoose682.org
SUMMARY:Family Fish Fry Lunch
DESCRIPTION:
URL:https://www.bataviamoose682.org/event/friday-fish-fry-lunch/2026-01-09/
END:VEVENT
BEGIN:VEVENT
DTSTART;TZID=UTC:20260109T170000
DTEND;TZID=UTC:20260109T203000
DTSTAMP:20260421T170754
CREATED:20250507T070846Z
LAST-MODIFIED:20250507T070846Z
UID:10002037-1767978000-1767990600@www.bataviamoose682.org
SUMMARY:Fish Fry
DESCRIPTION:
URL:https://www.bataviamoose682.org/event/fish-fry/2026-01-09/
END:VEVENT
BEGIN:VEVENT
DTSTART;TZID=UTC:20260109T190000
DTEND;TZID=UTC:20260109T210000
DTSTAMP:20260421T170754
CREATED:20250306T034946Z
LAST-MODIFIED:20260211T013111Z
UID:10004209-1767985200-1767992400@www.bataviamoose682.org
SUMMARY:Trivia
DESCRIPTION:Get your team together and join us for a fun evening of TRIVIA!
URL:https://www.bataviamoose682.org/event/trivia/2026-01-09/
ATTACH;FMTTYPE=image/png:https://www.bataviamoose682.org/wp-content/uploads/2025/03/Kitchen-Open-1.png
END:VEVENT
BEGIN:VEVENT
DTSTART;TZID=UTC:20260110T120000
DTEND;TZID=UTC:20260110T150000
DTSTAMP:20260421T170754
CREATED:20250507T071224Z
LAST-MODIFIED:20260303T184004Z
UID:10003346-1768046400-1768057200@www.bataviamoose682.org
SUMMARY:Family Lunch
DESCRIPTION:
URL:https://www.bataviamoose682.org/event/family-lunch/2026-01-10/
END:VEVENT
BEGIN:VEVENT
DTSTART;TZID=UTC:20260110T170000
DTEND;TZID=UTC:20260110T200000
DTSTAMP:20260421T170754
CREATED:20250507T071313Z
LAST-MODIFIED:20260303T184129Z
UID:10003608-1768064400-1768075200@www.bataviamoose682.org
SUMMARY:Saturday Dinner
DESCRIPTION:
URL:https://www.bataviamoose682.org/event/saturday-dinner/2026-01-10/
END:VEVENT
BEGIN:VEVENT
DTSTART;TZID=UTC:20260111T150000
DTEND;TZID=UTC:20260111T180000
DTSTAMP:20260421T170754
CREATED:20250821T073041Z
LAST-MODIFIED:20250821T073229Z
UID:10004104-1768143600-1768154400@www.bataviamoose682.org
SUMMARY:Pizza Sunday
DESCRIPTION:
URL:https://www.bataviamoose682.org/event/pizza-sunday-2/2026-01-11/
LOCATION:Batavia Moose Lodge
CATEGORIES:Monthly Special
ATTACH;FMTTYPE=image/png:https://www.bataviamoose682.org/wp-content/uploads/2025/08/Pizza-Sunday.png
END:VEVENT
BEGIN:VEVENT
DTSTART;TZID=UTC:20260112T170000
DTEND;TZID=UTC:20260112T200000
DTSTAMP:20260421T170754
CREATED:20250821T051442Z
LAST-MODIFIED:20250821T051444Z
UID:10003084-1768237200-1768248000@www.bataviamoose682.org
SUMMARY:Comfort Food Monday
DESCRIPTION:
URL:https://www.bataviamoose682.org/event/comfort-food-monday-2/2026-01-12/
CATEGORIES:Monthly Meeting
END:VEVENT
BEGIN:VEVENT
DTSTART;TZID=UTC:20260112T190000
DTEND;TZID=UTC:20260112T200000
DTSTAMP:20260421T170754
CREATED:20250306T033232Z
LAST-MODIFIED:20250306T033232Z
UID:10000200-1768244400-1768248000@www.bataviamoose682.org
SUMMARY:Moose Legion Meeting
DESCRIPTION:MOOSE LEGION\nTHE MEN WHO GET THINGS DONE \n\nAlso known as the Degree of Service. The purpose of this degree is to band together the loyal and devoted Moose members who desire to make further contributions to the humanitarian objectives of our Order while providing fun and entertaining activities for members and their families.  The official colors of the Moose Legion are red\, white and purple with purple being predominant. You will also see Moose Legionnaires sporting maroon blazers and informal vests. \n\nMeetings are the 2nd Monday of each month at 7:00pm \n$20 annual dues \nFellowship Degree of Honor  \n\nHonorary degree of the Loyal Order of Moose conferred only upon Moose Legionnaires who are recommended by the Fellows of their Lodge and approved by the Pilgrim Council. The official regalia of a Fellow is a French-blue blazer featuring the Fellowship logo\, coordinated necktie\, white shirt and black trousers. \n\nPilgrim Degree of Merit  \nHighest honor that can be bestowed upon a member of the Loyal Order of Moose. This Degree is conferred only in the House of God at Mooseheart and comes as a reward for extraordinary service to the Order. The official regalia of a Pilgrim is a gold blazer featuring the Pilgrim logo\, coordinated necktie\, white shirt and black trousers!
URL:https://www.bataviamoose682.org/event/moose-legion-meeting/2026-01-12/
CATEGORIES:Monthly Meeting
END:VEVENT
BEGIN:VEVENT
DTSTART;TZID=UTC:20260113T170000
DTEND;TZID=UTC:20260113T200000
DTSTAMP:20260421T170754
CREATED:20250507T071042Z
LAST-MODIFIED:20250507T071042Z
UID:10002372-1768323600-1768334400@www.bataviamoose682.org
SUMMARY:Kitchen Open
DESCRIPTION:
URL:https://www.bataviamoose682.org/event/kitchen-open/2026-01-13/
END:VEVENT
BEGIN:VEVENT
DTSTART;TZID=UTC:20260113T180000
DTEND;TZID=UTC:20260113T200000
DTSTAMP:20260421T170754
CREATED:20250317T045829Z
LAST-MODIFIED:20250317T045829Z
UID:10000636-1768327200-1768334400@www.bataviamoose682.org
SUMMARY:Kubb
DESCRIPTION:Come out and learn the hottest new outdoor game…KUBB! \nPlease check out our Facebook group for changes in date due to bad weather. \nCurrent Moose members and their qualified guests are welcome to join in on the fun!
URL:https://www.bataviamoose682.org/event/kubb/2026-01-13/
END:VEVENT
END:VCALENDAR