BEGIN:VCALENDAR
VERSION:2.0
PRODID:-//Batavia Moose #682 - ECPv6.15.20//NONSGML v1.0//EN
CALSCALE:GREGORIAN
METHOD:PUBLISH
X-WR-CALNAME:Batavia Moose #682
X-ORIGINAL-URL:https://www.bataviamoose682.org
X-WR-CALDESC:Events for Batavia Moose #682
REFRESH-INTERVAL;VALUE=DURATION:PT1H
X-Robots-Tag:noindex
X-PUBLISHED-TTL:PT1H
BEGIN:VTIMEZONE
TZID:UTC
BEGIN:STANDARD
TZOFFSETFROM:+0000
TZOFFSETTO:+0000
TZNAME:UTC
DTSTART:20240101T000000
END:STANDARD
END:VTIMEZONE
BEGIN:VEVENT
DTSTART;TZID=UTC:20250805T170000
DTEND;TZID=UTC:20250805T200000
DTSTAMP:20260423T032239
CREATED:20250507T071042Z
LAST-MODIFIED:20250507T071042Z
UID:10002303-1754413200-1754424000@www.bataviamoose682.org
SUMMARY:Kitchen Open
DESCRIPTION:
URL:https://www.bataviamoose682.org/event/kitchen-open/2025-08-05/
END:VEVENT
BEGIN:VEVENT
DTSTART;TZID=UTC:20250804T190000
DTEND;TZID=UTC:20250804T200000
DTSTAMP:20260423T032239
CREATED:20250306T032854Z
LAST-MODIFIED:20250306T033402Z
UID:10000074-1754334000-1754337600@www.bataviamoose682.org
SUMMARY:Lodge General Meeting
DESCRIPTION:1st & 3rd Monday of each month @ 7:00 p.m. \n\nAll current members are welcome to attend.\nWe recommend each member attend a few meetings a year\nMeetings may include discussions regarding:\n\nBusiness conducted in the lodge\nRegional business\nUpcoming events & volunteer opportunities\nFundraiser ideas or proposals \n\n\nProper conduct & dress…\n\nNo alcohol allowed in meetings\nWhen in doubt\, don’t wear it\n\n\n\n 
URL:https://www.bataviamoose682.org/event/lodge-general-meeting/2025-08-04/
CATEGORIES:Monthly Meeting
END:VEVENT
BEGIN:VEVENT
DTSTART;TZID=UTC:20250804T170000
DTEND;TZID=UTC:20250804T200000
DTSTAMP:20260423T032239
CREATED:20250507T071124Z
LAST-MODIFIED:20250507T071540Z
UID:10003061-1754326800-1754337600@www.bataviamoose682.org
SUMMARY:Comfort Food Monday
DESCRIPTION:
URL:https://www.bataviamoose682.org/event/comfort-food-monday/2025-08-04/
END:VEVENT
BEGIN:VEVENT
DTSTART;TZID=UTC:20250802T170000
DTEND;TZID=UTC:20250802T200000
DTSTAMP:20260423T032239
CREATED:20250507T071313Z
LAST-MODIFIED:20260303T184129Z
UID:10003585-1754154000-1754164800@www.bataviamoose682.org
SUMMARY:Saturday Dinner
DESCRIPTION:
URL:https://www.bataviamoose682.org/event/saturday-dinner/2025-08-02/
END:VEVENT
BEGIN:VEVENT
DTSTART;TZID=UTC:20250802T120000
DTEND;TZID=UTC:20250802T150000
DTSTAMP:20260423T032239
CREATED:20250507T071224Z
LAST-MODIFIED:20260303T184004Z
UID:10003323-1754136000-1754146800@www.bataviamoose682.org
SUMMARY:Family Lunch
DESCRIPTION:
URL:https://www.bataviamoose682.org/event/family-lunch/2025-08-02/
END:VEVENT
BEGIN:VEVENT
DTSTART;TZID=UTC:20250801T170000
DTEND;TZID=UTC:20250801T203000
DTSTAMP:20260423T032239
CREATED:20250507T070846Z
LAST-MODIFIED:20250507T070846Z
UID:10002014-1754067600-1754080200@www.bataviamoose682.org
SUMMARY:Fish Fry
DESCRIPTION:
URL:https://www.bataviamoose682.org/event/fish-fry/2025-08-01/
END:VEVENT
BEGIN:VEVENT
DTSTART;TZID=UTC:20250801T120000
DTEND;TZID=UTC:20250801T150000
DTSTAMP:20260423T032239
CREATED:20250507T070730Z
LAST-MODIFIED:20250507T070800Z
UID:10001752-1754049600-1754060400@www.bataviamoose682.org
SUMMARY:Family Fish Fry Lunch
DESCRIPTION:
URL:https://www.bataviamoose682.org/event/friday-fish-fry-lunch/2025-08-01/
END:VEVENT
BEGIN:VEVENT
DTSTART;TZID=UTC:20250731T183000
DTEND;TZID=UTC:20250731T210000
DTSTAMP:20260423T032239
CREATED:20250507T071735Z
LAST-MODIFIED:20250507T071832Z
UID:10003843-1753986600-1753995600@www.bataviamoose682.org
SUMMARY:Horseshoe League
DESCRIPTION:
URL:https://www.bataviamoose682.org/event/horseshoe-league/2025-07-31/
LOCATION:Batavia Moose Lodge
ATTACH;FMTTYPE=image/png:https://www.bataviamoose682.org/wp-content/uploads/2025/05/Horseshoe-League-Flyer-_20250422_111559_0000.png
END:VEVENT
BEGIN:VEVENT
DTSTART;TZID=UTC:20250731T170000
DTEND;TZID=UTC:20250731T200000
DTSTAMP:20260423T032239
CREATED:20250507T071042Z
LAST-MODIFIED:20250507T071042Z
UID:10002302-1753981200-1753992000@www.bataviamoose682.org
SUMMARY:Kitchen Open
DESCRIPTION:
URL:https://www.bataviamoose682.org/event/kitchen-open/2025-07-31/
END:VEVENT
BEGIN:VEVENT
DTSTART;TZID=UTC:20250730T170000
DTEND;TZID=UTC:20250730T200000
DTSTAMP:20260423T032239
CREATED:20250507T071042Z
LAST-MODIFIED:20250507T071042Z
UID:10002301-1753894800-1753905600@www.bataviamoose682.org
SUMMARY:Kitchen Open
DESCRIPTION:
URL:https://www.bataviamoose682.org/event/kitchen-open/2025-07-30/
END:VEVENT
BEGIN:VEVENT
DTSTART;TZID=UTC:20250729T193000
DTEND;TZID=UTC:20250729T194500
DTSTAMP:20260423T032239
CREATED:20250317T052710Z
LAST-MODIFIED:20250317T052734Z
UID:10001145-1753817400-1753818300@www.bataviamoose682.org
SUMMARY:Queen of Hearts
DESCRIPTION:QUEEN OF  HEARTS WEEKLY DRAWING \n\nMust be a Current Loyal order of the Moose member in good standing to play and will be asked to present membership card to claim prize.\ndrawings will be held on Tuesday evenings at 7:30 pm\nyou may purchase tickets as many tickets as you like\, any day of the week up until 7:00pm the night of the drawing\nplease sign your tickets as your name appears on your membership card\, include your phone number on ticket\nIf you will not be present for the drawing\, please indicate your envelope number selection on the ticket. if no number is indicated the next available number will be chosen for you by the board member present.\nall non-winning tickets will be disposed of after the drawing & tickets will begin to be sold for the next week’s drawing\nif the 2nd joker is drawn\, the game will restart and all monies remaining in the prize pool.\n\nWINNING PAYMENTS: \n\ngrand prize winner need not be present for full payout\nweekly winner must be present for cash payout\n\nPayout as follows \n\n70% of pot to the winner\n20% to the Moose Lodge\n10% to start the next game
URL:https://www.bataviamoose682.org/event/queen-of-hearts/2025-07-29/
LOCATION:Batavia Moose Lodge
END:VEVENT
BEGIN:VEVENT
DTSTART;TZID=UTC:20250729T180000
DTEND;TZID=UTC:20250729T200000
DTSTAMP:20260423T032239
CREATED:20250317T045829Z
LAST-MODIFIED:20250317T045829Z
UID:10000612-1753812000-1753819200@www.bataviamoose682.org
SUMMARY:Kubb
DESCRIPTION:Come out and learn the hottest new outdoor game…KUBB! \nPlease check out our Facebook group for changes in date due to bad weather. \nCurrent Moose members and their qualified guests are welcome to join in on the fun!
URL:https://www.bataviamoose682.org/event/kubb/2025-07-29/
END:VEVENT
BEGIN:VEVENT
DTSTART;TZID=UTC:20250729T180000
DTEND;TZID=UTC:20250729T193000
DTSTAMP:20260423T032239
CREATED:20250507T063832Z
LAST-MODIFIED:20250507T063832Z
UID:10001402-1753812000-1753817400@www.bataviamoose682.org
SUMMARY:Lighting - Summer Edition!
DESCRIPTION:
URL:https://www.bataviamoose682.org/event/lighting-summer-edition/2025-07-29/
END:VEVENT
BEGIN:VEVENT
DTSTART;TZID=UTC:20250729T170000
DTEND;TZID=UTC:20250729T200000
DTSTAMP:20260423T032239
CREATED:20250507T071042Z
LAST-MODIFIED:20250507T071042Z
UID:10002300-1753808400-1753819200@www.bataviamoose682.org
SUMMARY:Kitchen Open
DESCRIPTION:
URL:https://www.bataviamoose682.org/event/kitchen-open/2025-07-29/
END:VEVENT
BEGIN:VEVENT
DTSTART;TZID=UTC:20250728T170000
DTEND;TZID=UTC:20250728T200000
DTSTAMP:20260423T032239
CREATED:20250507T071124Z
LAST-MODIFIED:20250507T071540Z
UID:10003060-1753722000-1753732800@www.bataviamoose682.org
SUMMARY:Comfort Food Monday
DESCRIPTION:
URL:https://www.bataviamoose682.org/event/comfort-food-monday/2025-07-28/
END:VEVENT
BEGIN:VEVENT
DTSTART;TZID=UTC:20250726T170000
DTEND;TZID=UTC:20250726T200000
DTSTAMP:20260423T032239
CREATED:20250507T071313Z
LAST-MODIFIED:20260303T184129Z
UID:10003584-1753549200-1753560000@www.bataviamoose682.org
SUMMARY:Saturday Dinner
DESCRIPTION:
URL:https://www.bataviamoose682.org/event/saturday-dinner/2025-07-26/
END:VEVENT
BEGIN:VEVENT
DTSTART;TZID=UTC:20250726T120000
DTEND;TZID=UTC:20250726T150000
DTSTAMP:20260423T032239
CREATED:20250507T071224Z
LAST-MODIFIED:20260303T184004Z
UID:10003322-1753531200-1753542000@www.bataviamoose682.org
SUMMARY:Family Lunch
DESCRIPTION:
URL:https://www.bataviamoose682.org/event/family-lunch/2025-07-26/
END:VEVENT
BEGIN:VEVENT
DTSTART;TZID=UTC:20250725T170000
DTEND;TZID=UTC:20250725T203000
DTSTAMP:20260423T032239
CREATED:20250507T070846Z
LAST-MODIFIED:20250507T070846Z
UID:10002013-1753462800-1753475400@www.bataviamoose682.org
SUMMARY:Fish Fry
DESCRIPTION:
URL:https://www.bataviamoose682.org/event/fish-fry/2025-07-25/
END:VEVENT
BEGIN:VEVENT
DTSTART;TZID=UTC:20250725T120000
DTEND;TZID=UTC:20250725T150000
DTSTAMP:20260423T032239
CREATED:20250507T070730Z
LAST-MODIFIED:20250507T070800Z
UID:10001751-1753444800-1753455600@www.bataviamoose682.org
SUMMARY:Family Fish Fry Lunch
DESCRIPTION:
URL:https://www.bataviamoose682.org/event/friday-fish-fry-lunch/2025-07-25/
END:VEVENT
BEGIN:VEVENT
DTSTART;TZID=UTC:20250724T183000
DTEND;TZID=UTC:20250724T210000
DTSTAMP:20260423T032239
CREATED:20250507T071735Z
LAST-MODIFIED:20250507T071832Z
UID:10003842-1753381800-1753390800@www.bataviamoose682.org
SUMMARY:Horseshoe League
DESCRIPTION:
URL:https://www.bataviamoose682.org/event/horseshoe-league/2025-07-24/
LOCATION:Batavia Moose Lodge
ATTACH;FMTTYPE=image/png:https://www.bataviamoose682.org/wp-content/uploads/2025/05/Horseshoe-League-Flyer-_20250422_111559_0000.png
END:VEVENT
BEGIN:VEVENT
DTSTART;TZID=UTC:20250724T170000
DTEND;TZID=UTC:20250724T200000
DTSTAMP:20260423T032239
CREATED:20250507T071042Z
LAST-MODIFIED:20250507T071042Z
UID:10002299-1753376400-1753387200@www.bataviamoose682.org
SUMMARY:Kitchen Open
DESCRIPTION:
URL:https://www.bataviamoose682.org/event/kitchen-open/2025-07-24/
END:VEVENT
BEGIN:VEVENT
DTSTART;TZID=UTC:20250723T190000
DTEND;TZID=UTC:20250723T200000
DTSTAMP:20260423T032240
CREATED:20250317T043719Z
LAST-MODIFIED:20251209T071623Z
UID:10000467-1753297200-1753300800@www.bataviamoose682.org
SUMMARY:Line Dancing - Beginner/Intermediate Lesson
DESCRIPTION:
URL:https://www.bataviamoose682.org/event/line-dancing-beginner-intermediate-lesson/2025-07-23/
END:VEVENT
BEGIN:VEVENT
DTSTART;TZID=UTC:20250723T170000
DTEND;TZID=UTC:20250723T200000
DTSTAMP:20260423T032240
CREATED:20250507T071042Z
LAST-MODIFIED:20250507T071042Z
UID:10002298-1753290000-1753300800@www.bataviamoose682.org
SUMMARY:Kitchen Open
DESCRIPTION:
URL:https://www.bataviamoose682.org/event/kitchen-open/2025-07-23/
END:VEVENT
BEGIN:VEVENT
DTSTART;TZID=UTC:20250722T193000
DTEND;TZID=UTC:20250722T194500
DTSTAMP:20260423T032240
CREATED:20250317T052710Z
LAST-MODIFIED:20250317T052734Z
UID:10001144-1753212600-1753213500@www.bataviamoose682.org
SUMMARY:Queen of Hearts
DESCRIPTION:QUEEN OF  HEARTS WEEKLY DRAWING \n\nMust be a Current Loyal order of the Moose member in good standing to play and will be asked to present membership card to claim prize.\ndrawings will be held on Tuesday evenings at 7:30 pm\nyou may purchase tickets as many tickets as you like\, any day of the week up until 7:00pm the night of the drawing\nplease sign your tickets as your name appears on your membership card\, include your phone number on ticket\nIf you will not be present for the drawing\, please indicate your envelope number selection on the ticket. if no number is indicated the next available number will be chosen for you by the board member present.\nall non-winning tickets will be disposed of after the drawing & tickets will begin to be sold for the next week’s drawing\nif the 2nd joker is drawn\, the game will restart and all monies remaining in the prize pool.\n\nWINNING PAYMENTS: \n\ngrand prize winner need not be present for full payout\nweekly winner must be present for cash payout\n\nPayout as follows \n\n70% of pot to the winner\n20% to the Moose Lodge\n10% to start the next game
URL:https://www.bataviamoose682.org/event/queen-of-hearts/2025-07-22/
LOCATION:Batavia Moose Lodge
END:VEVENT
BEGIN:VEVENT
DTSTART;TZID=UTC:20250722T180000
DTEND;TZID=UTC:20250722T200000
DTSTAMP:20260423T032240
CREATED:20250317T045829Z
LAST-MODIFIED:20250317T045829Z
UID:10000611-1753207200-1753214400@www.bataviamoose682.org
SUMMARY:Kubb
DESCRIPTION:Come out and learn the hottest new outdoor game…KUBB! \nPlease check out our Facebook group for changes in date due to bad weather. \nCurrent Moose members and their qualified guests are welcome to join in on the fun!
URL:https://www.bataviamoose682.org/event/kubb/2025-07-22/
END:VEVENT
BEGIN:VEVENT
DTSTART;TZID=UTC:20250722T180000
DTEND;TZID=UTC:20250722T193000
DTSTAMP:20260423T032240
CREATED:20250507T063832Z
LAST-MODIFIED:20250507T063832Z
UID:10001401-1753207200-1753212600@www.bataviamoose682.org
SUMMARY:Lighting - Summer Edition!
DESCRIPTION:
URL:https://www.bataviamoose682.org/event/lighting-summer-edition/2025-07-22/
END:VEVENT
BEGIN:VEVENT
DTSTART;TZID=UTC:20250722T170000
DTEND;TZID=UTC:20250722T200000
DTSTAMP:20260423T032240
CREATED:20250507T071042Z
LAST-MODIFIED:20250507T071042Z
UID:10002297-1753203600-1753214400@www.bataviamoose682.org
SUMMARY:Kitchen Open
DESCRIPTION:
URL:https://www.bataviamoose682.org/event/kitchen-open/2025-07-22/
END:VEVENT
BEGIN:VEVENT
DTSTART;TZID=UTC:20250721T190000
DTEND;TZID=UTC:20250721T200000
DTSTAMP:20260423T032240
CREATED:20250306T033105Z
LAST-MODIFIED:20250306T033306Z
UID:10000134-1753124400-1753128000@www.bataviamoose682.org
SUMMARY:Lodge General Meeting
DESCRIPTION:1st & 3rd Monday of each month @ 7:00 p.m. \n\nAll current members are welcome to attend.\nWe recommend each member attend a few meetings a year\nMeetings may include discussions regarding:\n\nBusiness conducted in the lodge\nRegional business\nUpcoming events & volunteer opportunities\nFundraiser ideas or proposals \n\n\nProper conduct & dress…\n\nNo alcohol allowed in meetings\nWhen in doubt\, don’t wear it
URL:https://www.bataviamoose682.org/event/lodge-general-meeting-2/2025-07-21/
CATEGORIES:Monthly Meeting
END:VEVENT
BEGIN:VEVENT
DTSTART;TZID=UTC:20250721T170000
DTEND;TZID=UTC:20250721T200000
DTSTAMP:20260423T032240
CREATED:20250507T071124Z
LAST-MODIFIED:20250507T071540Z
UID:10003059-1753117200-1753128000@www.bataviamoose682.org
SUMMARY:Comfort Food Monday
DESCRIPTION:
URL:https://www.bataviamoose682.org/event/comfort-food-monday/2025-07-21/
END:VEVENT
BEGIN:VEVENT
DTSTART;TZID=UTC:20250719T170000
DTEND;TZID=UTC:20250719T200000
DTSTAMP:20260423T032240
CREATED:20250507T071313Z
LAST-MODIFIED:20260303T184129Z
UID:10003583-1752944400-1752955200@www.bataviamoose682.org
SUMMARY:Saturday Dinner
DESCRIPTION:
URL:https://www.bataviamoose682.org/event/saturday-dinner/2025-07-19/
END:VEVENT
END:VCALENDAR