BEGIN:VCALENDAR
VERSION:2.0
PRODID:-//Batavia Moose #682 - ECPv6.15.20//NONSGML v1.0//EN
CALSCALE:GREGORIAN
METHOD:PUBLISH
X-WR-CALNAME:Batavia Moose #682
X-ORIGINAL-URL:https://www.bataviamoose682.org
X-WR-CALDESC:Events for Batavia Moose #682
REFRESH-INTERVAL;VALUE=DURATION:PT1H
X-Robots-Tag:noindex
X-PUBLISHED-TTL:PT1H
BEGIN:VTIMEZONE
TZID:UTC
BEGIN:STANDARD
TZOFFSETFROM:+0000
TZOFFSETTO:+0000
TZNAME:UTC
DTSTART:20250101T000000
END:STANDARD
END:VTIMEZONE
BEGIN:VEVENT
DTSTART;TZID=UTC:20260829T130000
DTEND;TZID=UTC:20260829T230000
DTSTAMP:20260422T225436
CREATED:20260311T205514Z
LAST-MODIFIED:20260316T195415Z
UID:10004443-1788008400-1788044400@www.bataviamoose682.org
SUMMARY:Moose-a-Palooza (OPEN TO THE PUBLIC) 2026
DESCRIPTION:Better than ever? Our 9th annual event will feature 8 bands over 2 stages for a full afternoon and evening of fun and great music.  Bring your own lawn chair.  Food and beverages available for sale.\n\nAll net proceeds help the Batavia Moose Lodge support the needs of the children at Mooseheart Child City and School.  This event is brought to you by the Batavia Moose Legion.\nOur music line-up consists of amazing local talent with each band having a connection to our Lodge: \nMasus Financial Main Stage \n\nBig Al Wetzel Band  6:30 pm\nHead Honchos  4:00 pm\nSaint Astro  2:15 pm\nGNP  1:00 pm\n\n212 Degrees Construction Stage \n\nCorey Marshall Band  1:30 pm\nSour Crow  3:15 pm\nThe Sociables  5:15 pm\nPawnshop  9:00 pm\n\n$20/person – Get your tickets before July 30\, 2026 and SAVE $5!!!!\nTickets sales are donations and sales are final.  No refunds.  Gates open at 12:30 pm.\n\nSponsorship opportunities available.  Sponsor on-line or contact Kirk Kilker at kirkkilker@gmail.com.
URL:https://www.bataviamoose682.org/event/moose-a-palooza-2026/
LOCATION:Batavia Moose Lodge
CATEGORIES:Live Music Event,Open to the Public,Special Event
ATTACH;FMTTYPE=image/png:https://www.bataviamoose682.org/wp-content/uploads/2024/04/MAP-no-bg.png
END:VEVENT
BEGIN:VEVENT
DTSTART;TZID=UTC:20260829T170000
DTEND;TZID=UTC:20260829T200000
DTSTAMP:20260422T225436
CREATED:20250507T071313Z
LAST-MODIFIED:20260303T184129Z
UID:10003641-1788022800-1788033600@www.bataviamoose682.org
SUMMARY:Saturday Dinner
DESCRIPTION:
URL:https://www.bataviamoose682.org/event/saturday-dinner/2026-08-29/
END:VEVENT
BEGIN:VEVENT
DTSTART;TZID=UTC:20260831T170000
DTEND;TZID=UTC:20260831T200000
DTSTAMP:20260422T225436
CREATED:20250821T051442Z
LAST-MODIFIED:20250821T051444Z
UID:10003117-1788195600-1788206400@www.bataviamoose682.org
SUMMARY:Comfort Food Monday
DESCRIPTION:
URL:https://www.bataviamoose682.org/event/comfort-food-monday-2/2026-08-31/
CATEGORIES:Monthly Meeting
END:VEVENT
BEGIN:VEVENT
DTSTART;TZID=UTC:20260901T170000
DTEND;TZID=UTC:20260901T200000
DTSTAMP:20260422T225436
CREATED:20250507T071042Z
LAST-MODIFIED:20250507T071042Z
UID:10002471-1788282000-1788292800@www.bataviamoose682.org
SUMMARY:Kitchen Open
DESCRIPTION:
URL:https://www.bataviamoose682.org/event/kitchen-open/2026-09-01/
END:VEVENT
BEGIN:VEVENT
DTSTART;TZID=UTC:20260901T180000
DTEND;TZID=UTC:20260901T200000
DTSTAMP:20260422T225436
CREATED:20250317T045829Z
LAST-MODIFIED:20250317T045829Z
UID:10000669-1788285600-1788292800@www.bataviamoose682.org
SUMMARY:Kubb
DESCRIPTION:Come out and learn the hottest new outdoor game…KUBB! \nPlease check out our Facebook group for changes in date due to bad weather. \nCurrent Moose members and their qualified guests are welcome to join in on the fun!
URL:https://www.bataviamoose682.org/event/kubb/2026-09-01/
END:VEVENT
BEGIN:VEVENT
DTSTART;TZID=UTC:20260901T193000
DTEND;TZID=UTC:20260901T194500
DTSTAMP:20260422T225436
CREATED:20250317T052710Z
LAST-MODIFIED:20250317T052734Z
UID:10001202-1788291000-1788291900@www.bataviamoose682.org
SUMMARY:Queen of Hearts
DESCRIPTION:QUEEN OF  HEARTS WEEKLY DRAWING \n\nMust be a Current Loyal order of the Moose member in good standing to play and will be asked to present membership card to claim prize.\ndrawings will be held on Tuesday evenings at 7:30 pm\nyou may purchase tickets as many tickets as you like\, any day of the week up until 7:00pm the night of the drawing\nplease sign your tickets as your name appears on your membership card\, include your phone number on ticket\nIf you will not be present for the drawing\, please indicate your envelope number selection on the ticket. if no number is indicated the next available number will be chosen for you by the board member present.\nall non-winning tickets will be disposed of after the drawing & tickets will begin to be sold for the next week’s drawing\nif the 2nd joker is drawn\, the game will restart and all monies remaining in the prize pool.\n\nWINNING PAYMENTS: \n\ngrand prize winner need not be present for full payout\nweekly winner must be present for cash payout\n\nPayout as follows \n\n70% of pot to the winner\n20% to the Moose Lodge\n10% to start the next game
URL:https://www.bataviamoose682.org/event/queen-of-hearts/2026-09-01/
LOCATION:Batavia Moose Lodge
END:VEVENT
BEGIN:VEVENT
DTSTART;TZID=UTC:20260902T170000
DTEND;TZID=UTC:20260902T200000
DTSTAMP:20260422T225436
CREATED:20250507T071042Z
LAST-MODIFIED:20250507T071042Z
UID:10002472-1788368400-1788379200@www.bataviamoose682.org
SUMMARY:Kitchen Open
DESCRIPTION:
URL:https://www.bataviamoose682.org/event/kitchen-open/2026-09-02/
END:VEVENT
BEGIN:VEVENT
DTSTART;TZID=UTC:20260903T170000
DTEND;TZID=UTC:20260903T200000
DTSTAMP:20260422T225436
CREATED:20250507T071042Z
LAST-MODIFIED:20250507T071042Z
UID:10002473-1788454800-1788465600@www.bataviamoose682.org
SUMMARY:Kitchen Open
DESCRIPTION:
URL:https://www.bataviamoose682.org/event/kitchen-open/2026-09-03/
END:VEVENT
BEGIN:VEVENT
DTSTART;TZID=UTC:20260903T184500
DTEND;TZID=UTC:20260903T194500
DTSTAMP:20260422T225436
CREATED:20240220T230013Z
LAST-MODIFIED:20250306T022809Z
UID:10000027-1788461100-1788464700@www.bataviamoose682.org
SUMMARY:Moose Rider's Monthly Meeting
DESCRIPTION:Join us for our monthly Batavia Moose Rider’s Meeting. \nThe Moose Riders are consistently among the fastest growing and most “active” of all Moose Lodge Activity Groups. $20 annual dues. \nMoose Riders is open to any current Moose member. No motorcycle required to join.
URL:https://www.bataviamoose682.org/event/moose-riders-monthly-meeting/2026-09-03/
LOCATION:Batavia Moose Lodge
CATEGORIES:Monthly Meeting
ATTACH;FMTTYPE=image/png:https://www.bataviamoose682.org/wp-content/uploads/2024/02/Untitled-design-21-e1708489780661.png
END:VEVENT
BEGIN:VEVENT
DTSTART;TZID=UTC:20260904T120000
DTEND;TZID=UTC:20260904T150000
DTSTAMP:20260422T225436
CREATED:20250507T070730Z
LAST-MODIFIED:20250507T070800Z
UID:10001809-1788523200-1788534000@www.bataviamoose682.org
SUMMARY:Family Fish Fry Lunch
DESCRIPTION:
URL:https://www.bataviamoose682.org/event/friday-fish-fry-lunch/2026-09-04/
END:VEVENT
BEGIN:VEVENT
DTSTART;TZID=UTC:20260904T170000
DTEND;TZID=UTC:20260904T203000
DTSTAMP:20260422T225436
CREATED:20250507T070846Z
LAST-MODIFIED:20250507T070846Z
UID:10002071-1788541200-1788553800@www.bataviamoose682.org
SUMMARY:Fish Fry
DESCRIPTION:
URL:https://www.bataviamoose682.org/event/fish-fry/2026-09-04/
END:VEVENT
BEGIN:VEVENT
DTSTART;TZID=UTC:20260904T190000
DTEND;TZID=UTC:20260904T210000
DTSTAMP:20260422T225436
CREATED:20260303T175656Z
LAST-MODIFIED:20260303T200039Z
UID:10004396-1788548400-1788555600@www.bataviamoose682.org
SUMMARY:Trivia
DESCRIPTION:Get your team together and join us for a fun evening of TRIVIA!
URL:https://www.bataviamoose682.org/event/trivia-2/2026-09-04/
ATTACH;FMTTYPE=image/png:https://www.bataviamoose682.org/wp-content/uploads/2025/03/Kitchen-Open-1.png
END:VEVENT
BEGIN:VEVENT
DTSTART;TZID=UTC:20260905T120000
DTEND;TZID=UTC:20260905T150000
DTSTAMP:20260422T225436
CREATED:20250507T071224Z
LAST-MODIFIED:20260303T184004Z
UID:10003380-1788609600-1788620400@www.bataviamoose682.org
SUMMARY:Family Lunch
DESCRIPTION:
URL:https://www.bataviamoose682.org/event/family-lunch/2026-09-05/
END:VEVENT
BEGIN:VEVENT
DTSTART;TZID=UTC:20260905T170000
DTEND;TZID=UTC:20260905T200000
DTSTAMP:20260422T225436
CREATED:20250507T071313Z
LAST-MODIFIED:20260303T184129Z
UID:10003642-1788627600-1788638400@www.bataviamoose682.org
SUMMARY:Saturday Dinner
DESCRIPTION:
URL:https://www.bataviamoose682.org/event/saturday-dinner/2026-09-05/
END:VEVENT
BEGIN:VEVENT
DTSTART;TZID=UTC:20260907T170000
DTEND;TZID=UTC:20260907T200000
DTSTAMP:20260422T225436
CREATED:20250821T051442Z
LAST-MODIFIED:20250821T051444Z
UID:10003118-1788800400-1788811200@www.bataviamoose682.org
SUMMARY:Comfort Food Monday
DESCRIPTION:
URL:https://www.bataviamoose682.org/event/comfort-food-monday-2/2026-09-07/
CATEGORIES:Monthly Meeting
END:VEVENT
BEGIN:VEVENT
DTSTART;TZID=UTC:20260907T190000
DTEND;TZID=UTC:20260907T200000
DTSTAMP:20260422T225436
CREATED:20250821T051547Z
LAST-MODIFIED:20250821T051549Z
UID:10003953-1788807600-1788811200@www.bataviamoose682.org
SUMMARY:Lodge General Meeting
DESCRIPTION:1st & 3rd Monday of each month @ 7:00 p.m. \n\nAll current members are welcome to attend.\nWe recommend each member attend a few meetings a year\nMeetings may include discussions regarding:\n\nBusiness conducted in the lodge\nRegional business\nUpcoming events & volunteer opportunities\nFundraiser ideas or proposals \n\n\nProper conduct & dress…\n\nNo alcohol allowed in meetings\nWhen in doubt\, don’t wear it\n\n\n\n 
URL:https://www.bataviamoose682.org/event/lodge-general-meeting-3-2/2026-09-07/
CATEGORIES:Monthly Meeting
END:VEVENT
BEGIN:VEVENT
DTSTART;TZID=UTC:20260908T170000
DTEND;TZID=UTC:20260908T200000
DTSTAMP:20260422T225436
CREATED:20250507T071042Z
LAST-MODIFIED:20250507T071042Z
UID:10002474-1788886800-1788897600@www.bataviamoose682.org
SUMMARY:Kitchen Open
DESCRIPTION:
URL:https://www.bataviamoose682.org/event/kitchen-open/2026-09-08/
END:VEVENT
BEGIN:VEVENT
DTSTART;TZID=UTC:20260908T180000
DTEND;TZID=UTC:20260908T200000
DTSTAMP:20260422T225436
CREATED:20250317T045829Z
LAST-MODIFIED:20250317T045829Z
UID:10000670-1788890400-1788897600@www.bataviamoose682.org
SUMMARY:Kubb
DESCRIPTION:Come out and learn the hottest new outdoor game…KUBB! \nPlease check out our Facebook group for changes in date due to bad weather. \nCurrent Moose members and their qualified guests are welcome to join in on the fun!
URL:https://www.bataviamoose682.org/event/kubb/2026-09-08/
END:VEVENT
BEGIN:VEVENT
DTSTART;TZID=UTC:20260908T193000
DTEND;TZID=UTC:20260908T194500
DTSTAMP:20260422T225436
CREATED:20250317T052710Z
LAST-MODIFIED:20250317T052734Z
UID:10001203-1788895800-1788896700@www.bataviamoose682.org
SUMMARY:Queen of Hearts
DESCRIPTION:QUEEN OF  HEARTS WEEKLY DRAWING \n\nMust be a Current Loyal order of the Moose member in good standing to play and will be asked to present membership card to claim prize.\ndrawings will be held on Tuesday evenings at 7:30 pm\nyou may purchase tickets as many tickets as you like\, any day of the week up until 7:00pm the night of the drawing\nplease sign your tickets as your name appears on your membership card\, include your phone number on ticket\nIf you will not be present for the drawing\, please indicate your envelope number selection on the ticket. if no number is indicated the next available number will be chosen for you by the board member present.\nall non-winning tickets will be disposed of after the drawing & tickets will begin to be sold for the next week’s drawing\nif the 2nd joker is drawn\, the game will restart and all monies remaining in the prize pool.\n\nWINNING PAYMENTS: \n\ngrand prize winner need not be present for full payout\nweekly winner must be present for cash payout\n\nPayout as follows \n\n70% of pot to the winner\n20% to the Moose Lodge\n10% to start the next game
URL:https://www.bataviamoose682.org/event/queen-of-hearts/2026-09-08/
LOCATION:Batavia Moose Lodge
END:VEVENT
BEGIN:VEVENT
DTSTART;TZID=UTC:20260909T170000
DTEND;TZID=UTC:20260909T200000
DTSTAMP:20260422T225436
CREATED:20250507T071042Z
LAST-MODIFIED:20250507T071042Z
UID:10002475-1788973200-1788984000@www.bataviamoose682.org
SUMMARY:Kitchen Open
DESCRIPTION:
URL:https://www.bataviamoose682.org/event/kitchen-open/2026-09-09/
END:VEVENT
BEGIN:VEVENT
DTSTART;TZID=UTC:20260909T190000
DTEND;TZID=UTC:20260909T203000
DTSTAMP:20260422T225436
CREATED:20250317T043634Z
LAST-MODIFIED:20250317T043634Z
UID:10000420-1788980400-1788985800@www.bataviamoose682.org
SUMMARY:Line Dancing - Beginners Lesson
DESCRIPTION:
URL:https://www.bataviamoose682.org/event/line-dancing-beginners-lesson/2026-09-09/
END:VEVENT
BEGIN:VEVENT
DTSTART;TZID=UTC:20260910T170000
DTEND;TZID=UTC:20260910T200000
DTSTAMP:20260422T225436
CREATED:20250507T071042Z
LAST-MODIFIED:20250507T071042Z
UID:10002476-1789059600-1789070400@www.bataviamoose682.org
SUMMARY:Kitchen Open
DESCRIPTION:
URL:https://www.bataviamoose682.org/event/kitchen-open/2026-09-10/
END:VEVENT
BEGIN:VEVENT
DTSTART;TZID=UTC:20260910T180000
DTEND;TZID=UTC:20260910T190000
DTSTAMP:20260422T225436
CREATED:20250507T064303Z
LAST-MODIFIED:20250507T064303Z
UID:10001689-1789063200-1789066800@www.bataviamoose682.org
SUMMARY:Rod & Gun Monthly Meeting
DESCRIPTION:
URL:https://www.bataviamoose682.org/event/rod-gun-monthly-meeting/2026-09-10/
CATEGORIES:Monthly Meeting
END:VEVENT
BEGIN:VEVENT
DTSTART;TZID=UTC:20260911T120000
DTEND;TZID=UTC:20260911T150000
DTSTAMP:20260422T225436
CREATED:20250507T070730Z
LAST-MODIFIED:20250507T070800Z
UID:10001810-1789128000-1789138800@www.bataviamoose682.org
SUMMARY:Family Fish Fry Lunch
DESCRIPTION:
URL:https://www.bataviamoose682.org/event/friday-fish-fry-lunch/2026-09-11/
END:VEVENT
BEGIN:VEVENT
DTSTART;TZID=UTC:20260911T170000
DTEND;TZID=UTC:20260911T203000
DTSTAMP:20260422T225436
CREATED:20250507T070846Z
LAST-MODIFIED:20250507T070846Z
UID:10002072-1789146000-1789158600@www.bataviamoose682.org
SUMMARY:Fish Fry
DESCRIPTION:
URL:https://www.bataviamoose682.org/event/fish-fry/2026-09-11/
END:VEVENT
BEGIN:VEVENT
DTSTART;TZID=UTC:20260912T120000
DTEND;TZID=UTC:20260912T150000
DTSTAMP:20260422T225436
CREATED:20250507T071224Z
LAST-MODIFIED:20260303T184004Z
UID:10003381-1789214400-1789225200@www.bataviamoose682.org
SUMMARY:Family Lunch
DESCRIPTION:
URL:https://www.bataviamoose682.org/event/family-lunch/2026-09-12/
END:VEVENT
BEGIN:VEVENT
DTSTART;TZID=UTC:20260912T170000
DTEND;TZID=UTC:20260912T200000
DTSTAMP:20260422T225436
CREATED:20250507T071313Z
LAST-MODIFIED:20260303T184129Z
UID:10003643-1789232400-1789243200@www.bataviamoose682.org
SUMMARY:Saturday Dinner
DESCRIPTION:
URL:https://www.bataviamoose682.org/event/saturday-dinner/2026-09-12/
END:VEVENT
BEGIN:VEVENT
DTSTART;TZID=UTC:20260913T150000
DTEND;TZID=UTC:20260913T180000
DTSTAMP:20260422T225436
CREATED:20250821T073041Z
LAST-MODIFIED:20250821T073229Z
UID:10004112-1789311600-1789322400@www.bataviamoose682.org
SUMMARY:Pizza Sunday
DESCRIPTION:
URL:https://www.bataviamoose682.org/event/pizza-sunday-2/2026-09-13/
LOCATION:Batavia Moose Lodge
CATEGORIES:Monthly Special
ATTACH;FMTTYPE=image/png:https://www.bataviamoose682.org/wp-content/uploads/2025/08/Pizza-Sunday.png
END:VEVENT
BEGIN:VEVENT
DTSTART;TZID=UTC:20260914T170000
DTEND;TZID=UTC:20260914T200000
DTSTAMP:20260422T225436
CREATED:20250821T051442Z
LAST-MODIFIED:20250821T051444Z
UID:10003119-1789405200-1789416000@www.bataviamoose682.org
SUMMARY:Comfort Food Monday
DESCRIPTION:
URL:https://www.bataviamoose682.org/event/comfort-food-monday-2/2026-09-14/
CATEGORIES:Monthly Meeting
END:VEVENT
BEGIN:VEVENT
DTSTART;TZID=UTC:20260914T190000
DTEND;TZID=UTC:20260914T200000
DTSTAMP:20260422T225436
CREATED:20250306T033232Z
LAST-MODIFIED:20250306T033232Z
UID:10000208-1789412400-1789416000@www.bataviamoose682.org
SUMMARY:Moose Legion Meeting
DESCRIPTION:MOOSE LEGION\nTHE MEN WHO GET THINGS DONE \n\nAlso known as the Degree of Service. The purpose of this degree is to band together the loyal and devoted Moose members who desire to make further contributions to the humanitarian objectives of our Order while providing fun and entertaining activities for members and their families.  The official colors of the Moose Legion are red\, white and purple with purple being predominant. You will also see Moose Legionnaires sporting maroon blazers and informal vests. \n\nMeetings are the 2nd Monday of each month at 7:00pm \n$20 annual dues \nFellowship Degree of Honor  \n\nHonorary degree of the Loyal Order of Moose conferred only upon Moose Legionnaires who are recommended by the Fellows of their Lodge and approved by the Pilgrim Council. The official regalia of a Fellow is a French-blue blazer featuring the Fellowship logo\, coordinated necktie\, white shirt and black trousers. \n\nPilgrim Degree of Merit  \nHighest honor that can be bestowed upon a member of the Loyal Order of Moose. This Degree is conferred only in the House of God at Mooseheart and comes as a reward for extraordinary service to the Order. The official regalia of a Pilgrim is a gold blazer featuring the Pilgrim logo\, coordinated necktie\, white shirt and black trousers!
URL:https://www.bataviamoose682.org/event/moose-legion-meeting/2026-09-14/
CATEGORIES:Monthly Meeting
END:VEVENT
END:VCALENDAR