BEGIN:VCALENDAR
VERSION:2.0
PRODID:-//Batavia Moose #682 - ECPv6.15.20//NONSGML v1.0//EN
CALSCALE:GREGORIAN
METHOD:PUBLISH
X-WR-CALNAME:Batavia Moose #682
X-ORIGINAL-URL:https://www.bataviamoose682.org
X-WR-CALDESC:Events for Batavia Moose #682
REFRESH-INTERVAL;VALUE=DURATION:PT1H
X-Robots-Tag:noindex
X-PUBLISHED-TTL:PT1H
BEGIN:VTIMEZONE
TZID:UTC
BEGIN:STANDARD
TZOFFSETFROM:+0000
TZOFFSETTO:+0000
TZNAME:UTC
DTSTART:20240101T000000
END:STANDARD
END:VTIMEZONE
BEGIN:VEVENT
DTSTART;TZID=UTC:20250903T170000
DTEND;TZID=UTC:20250903T200000
DTSTAMP:20260422T145632
CREATED:20250507T071042Z
LAST-MODIFIED:20250507T071042Z
UID:10002316-1756918800-1756929600@www.bataviamoose682.org
SUMMARY:Kitchen Open
DESCRIPTION:
URL:https://www.bataviamoose682.org/event/kitchen-open/2025-09-03/
END:VEVENT
BEGIN:VEVENT
DTSTART;TZID=UTC:20250902T193000
DTEND;TZID=UTC:20250902T194500
DTSTAMP:20260422T145632
CREATED:20250317T052710Z
LAST-MODIFIED:20250317T052734Z
UID:10001150-1756841400-1756842300@www.bataviamoose682.org
SUMMARY:Queen of Hearts
DESCRIPTION:QUEEN OF  HEARTS WEEKLY DRAWING \n\nMust be a Current Loyal order of the Moose member in good standing to play and will be asked to present membership card to claim prize.\ndrawings will be held on Tuesday evenings at 7:30 pm\nyou may purchase tickets as many tickets as you like\, any day of the week up until 7:00pm the night of the drawing\nplease sign your tickets as your name appears on your membership card\, include your phone number on ticket\nIf you will not be present for the drawing\, please indicate your envelope number selection on the ticket. if no number is indicated the next available number will be chosen for you by the board member present.\nall non-winning tickets will be disposed of after the drawing & tickets will begin to be sold for the next week’s drawing\nif the 2nd joker is drawn\, the game will restart and all monies remaining in the prize pool.\n\nWINNING PAYMENTS: \n\ngrand prize winner need not be present for full payout\nweekly winner must be present for cash payout\n\nPayout as follows \n\n70% of pot to the winner\n20% to the Moose Lodge\n10% to start the next game
URL:https://www.bataviamoose682.org/event/queen-of-hearts/2025-09-02/
LOCATION:Batavia Moose Lodge
END:VEVENT
BEGIN:VEVENT
DTSTART;TZID=UTC:20250902T190000
DTEND;TZID=UTC:20250902T200000
DTSTAMP:20260422T145632
CREATED:20250821T051308Z
LAST-MODIFIED:20250821T051309Z
UID:10000075-1756839600-1756843200@www.bataviamoose682.org
SUMMARY:Lodge General Meeting
DESCRIPTION:1st & 3rd Monday of each month @ 7:00 p.m. \n\nAll current members are welcome to attend.\nWe recommend each member attend a few meetings a year\nMeetings may include discussions regarding:\n\nBusiness conducted in the lodge\nRegional business\nUpcoming events & volunteer opportunities\nFundraiser ideas or proposals \n\n\nProper conduct & dress…\n\nNo alcohol allowed in meetings\nWhen in doubt\, don’t wear it\n\n\n\n 
URL:https://www.bataviamoose682.org/event/lodge-general-meeting-3/
CATEGORIES:Monthly Meeting
END:VEVENT
BEGIN:VEVENT
DTSTART;TZID=UTC:20250902T180000
DTEND;TZID=UTC:20250902T200000
DTSTAMP:20260422T145632
CREATED:20250317T045829Z
LAST-MODIFIED:20250317T045829Z
UID:10000617-1756836000-1756843200@www.bataviamoose682.org
SUMMARY:Kubb
DESCRIPTION:Come out and learn the hottest new outdoor game…KUBB! \nPlease check out our Facebook group for changes in date due to bad weather. \nCurrent Moose members and their qualified guests are welcome to join in on the fun!
URL:https://www.bataviamoose682.org/event/kubb/2025-09-02/
END:VEVENT
BEGIN:VEVENT
DTSTART;TZID=UTC:20250902T170000
DTEND;TZID=UTC:20250902T200000
DTSTAMP:20260422T145632
CREATED:20250507T071042Z
LAST-MODIFIED:20250507T071042Z
UID:10002315-1756832400-1756843200@www.bataviamoose682.org
SUMMARY:Kitchen Open
DESCRIPTION:
URL:https://www.bataviamoose682.org/event/kitchen-open/2025-09-02/
END:VEVENT
BEGIN:VEVENT
DTSTART;VALUE=DATE:20250901
DTEND;VALUE=DATE:20250902
DTSTAMP:20260422T145632
CREATED:20250821T051840Z
LAST-MODIFIED:20250821T051840Z
UID:10004001-1756684800-1756771199@www.bataviamoose682.org
SUMMARY:Labor Day - Lodge CLOSED
DESCRIPTION:
URL:https://www.bataviamoose682.org/event/labor-day-lodge-closed/
END:VEVENT
BEGIN:VEVENT
DTSTART;TZID=UTC:20250830T170000
DTEND;TZID=UTC:20250830T200000
DTSTAMP:20260422T145632
CREATED:20250507T071313Z
LAST-MODIFIED:20260303T184129Z
UID:10003589-1756573200-1756584000@www.bataviamoose682.org
SUMMARY:Saturday Dinner
DESCRIPTION:
URL:https://www.bataviamoose682.org/event/saturday-dinner/2025-08-30/
END:VEVENT
BEGIN:VEVENT
DTSTART;TZID=UTC:20250830T120000
DTEND;TZID=UTC:20250830T150000
DTSTAMP:20260422T145632
CREATED:20250507T071224Z
LAST-MODIFIED:20260303T184004Z
UID:10003327-1756555200-1756566000@www.bataviamoose682.org
SUMMARY:Family Lunch
DESCRIPTION:
URL:https://www.bataviamoose682.org/event/family-lunch/2025-08-30/
END:VEVENT
BEGIN:VEVENT
DTSTART;TZID=UTC:20250829T170000
DTEND;TZID=UTC:20250829T203000
DTSTAMP:20260422T145632
CREATED:20250507T070846Z
LAST-MODIFIED:20250507T070846Z
UID:10002018-1756486800-1756499400@www.bataviamoose682.org
SUMMARY:Fish Fry
DESCRIPTION:
URL:https://www.bataviamoose682.org/event/fish-fry/2025-08-29/
END:VEVENT
BEGIN:VEVENT
DTSTART;TZID=UTC:20250829T120000
DTEND;TZID=UTC:20250829T150000
DTSTAMP:20260422T145632
CREATED:20250507T070730Z
LAST-MODIFIED:20250507T070800Z
UID:10001756-1756468800-1756479600@www.bataviamoose682.org
SUMMARY:Family Fish Fry Lunch
DESCRIPTION:
URL:https://www.bataviamoose682.org/event/friday-fish-fry-lunch/2025-08-29/
END:VEVENT
BEGIN:VEVENT
DTSTART;TZID=UTC:20250828T183000
DTEND;TZID=UTC:20250828T210000
DTSTAMP:20260422T145632
CREATED:20250507T071735Z
LAST-MODIFIED:20250507T071832Z
UID:10003847-1756405800-1756414800@www.bataviamoose682.org
SUMMARY:Horseshoe League
DESCRIPTION:
URL:https://www.bataviamoose682.org/event/horseshoe-league/2025-08-28/
LOCATION:Batavia Moose Lodge
ATTACH;FMTTYPE=image/png:https://www.bataviamoose682.org/wp-content/uploads/2025/05/Horseshoe-League-Flyer-_20250422_111559_0000.png
END:VEVENT
BEGIN:VEVENT
DTSTART;TZID=UTC:20250828T170000
DTEND;TZID=UTC:20250828T200000
DTSTAMP:20260422T145632
CREATED:20250507T071042Z
LAST-MODIFIED:20250507T071042Z
UID:10002314-1756400400-1756411200@www.bataviamoose682.org
SUMMARY:Kitchen Open
DESCRIPTION:
URL:https://www.bataviamoose682.org/event/kitchen-open/2025-08-28/
END:VEVENT
BEGIN:VEVENT
DTSTART;TZID=UTC:20250827T190000
DTEND;TZID=UTC:20250827T200000
DTSTAMP:20260422T145632
CREATED:20250317T043719Z
LAST-MODIFIED:20251209T071623Z
UID:10000468-1756321200-1756324800@www.bataviamoose682.org
SUMMARY:Line Dancing - Beginner/Intermediate Lesson
DESCRIPTION:
URL:https://www.bataviamoose682.org/event/line-dancing-beginner-intermediate-lesson/2025-08-27/
END:VEVENT
BEGIN:VEVENT
DTSTART;TZID=UTC:20250827T170000
DTEND;TZID=UTC:20250827T200000
DTSTAMP:20260422T145632
CREATED:20250507T071042Z
LAST-MODIFIED:20250507T071042Z
UID:10002313-1756314000-1756324800@www.bataviamoose682.org
SUMMARY:Kitchen Open
DESCRIPTION:
URL:https://www.bataviamoose682.org/event/kitchen-open/2025-08-27/
END:VEVENT
BEGIN:VEVENT
DTSTART;TZID=UTC:20250826T193000
DTEND;TZID=UTC:20250826T194500
DTSTAMP:20260422T145632
CREATED:20250317T052710Z
LAST-MODIFIED:20250317T052734Z
UID:10001149-1756236600-1756237500@www.bataviamoose682.org
SUMMARY:Queen of Hearts
DESCRIPTION:QUEEN OF  HEARTS WEEKLY DRAWING \n\nMust be a Current Loyal order of the Moose member in good standing to play and will be asked to present membership card to claim prize.\ndrawings will be held on Tuesday evenings at 7:30 pm\nyou may purchase tickets as many tickets as you like\, any day of the week up until 7:00pm the night of the drawing\nplease sign your tickets as your name appears on your membership card\, include your phone number on ticket\nIf you will not be present for the drawing\, please indicate your envelope number selection on the ticket. if no number is indicated the next available number will be chosen for you by the board member present.\nall non-winning tickets will be disposed of after the drawing & tickets will begin to be sold for the next week’s drawing\nif the 2nd joker is drawn\, the game will restart and all monies remaining in the prize pool.\n\nWINNING PAYMENTS: \n\ngrand prize winner need not be present for full payout\nweekly winner must be present for cash payout\n\nPayout as follows \n\n70% of pot to the winner\n20% to the Moose Lodge\n10% to start the next game
URL:https://www.bataviamoose682.org/event/queen-of-hearts/2025-08-26/
LOCATION:Batavia Moose Lodge
END:VEVENT
BEGIN:VEVENT
DTSTART;TZID=UTC:20250826T180000
DTEND;TZID=UTC:20250826T200000
DTSTAMP:20260422T145632
CREATED:20250317T045829Z
LAST-MODIFIED:20250317T045829Z
UID:10000616-1756231200-1756238400@www.bataviamoose682.org
SUMMARY:Kubb
DESCRIPTION:Come out and learn the hottest new outdoor game…KUBB! \nPlease check out our Facebook group for changes in date due to bad weather. \nCurrent Moose members and their qualified guests are welcome to join in on the fun!
URL:https://www.bataviamoose682.org/event/kubb/2025-08-26/
END:VEVENT
BEGIN:VEVENT
DTSTART;TZID=UTC:20250826T180000
DTEND;TZID=UTC:20250826T193000
DTSTAMP:20260422T145632
CREATED:20250507T063832Z
LAST-MODIFIED:20250507T063832Z
UID:10001406-1756231200-1756236600@www.bataviamoose682.org
SUMMARY:Lighting - Summer Edition!
DESCRIPTION:
URL:https://www.bataviamoose682.org/event/lighting-summer-edition/2025-08-26/
END:VEVENT
BEGIN:VEVENT
DTSTART;TZID=UTC:20250826T170000
DTEND;TZID=UTC:20250826T200000
DTSTAMP:20260422T145632
CREATED:20250507T071042Z
LAST-MODIFIED:20250507T071042Z
UID:10002312-1756227600-1756238400@www.bataviamoose682.org
SUMMARY:Kitchen Open
DESCRIPTION:
URL:https://www.bataviamoose682.org/event/kitchen-open/2025-08-26/
END:VEVENT
BEGIN:VEVENT
DTSTART;TZID=UTC:20250825T170000
DTEND;TZID=UTC:20250825T200000
DTSTAMP:20260422T145632
CREATED:20250507T071124Z
LAST-MODIFIED:20250507T071540Z
UID:10003064-1756141200-1756152000@www.bataviamoose682.org
SUMMARY:Comfort Food Monday
DESCRIPTION:
URL:https://www.bataviamoose682.org/event/comfort-food-monday/2025-08-25/
END:VEVENT
BEGIN:VEVENT
DTSTART;TZID=UTC:20250823T170000
DTEND;TZID=UTC:20250823T200000
DTSTAMP:20260422T145632
CREATED:20250507T071313Z
LAST-MODIFIED:20260303T184129Z
UID:10003588-1755968400-1755979200@www.bataviamoose682.org
SUMMARY:Saturday Dinner
DESCRIPTION:
URL:https://www.bataviamoose682.org/event/saturday-dinner/2025-08-23/
END:VEVENT
BEGIN:VEVENT
DTSTART;TZID=UTC:20250823T130000
DTEND;TZID=UTC:20250823T210000
DTSTAMP:20260422T145632
CREATED:20250718T195835Z
LAST-MODIFIED:20250718T195835Z
UID:10003849-1755954000-1755982800@www.bataviamoose682.org
SUMMARY:Moose-a-Palooza (OPEN TO THE PUBLIC)
DESCRIPTION:Our 8th annual Moose-a-Palooza Music Fest and Fundraiser brings back your favorites from year’s past.\n\nAll net proceeds from this event help the Batavia Moose Lodge and their support of the needs of the kids at Mooseheart Child City and School. Event will be open to the public. Tickets to go on sale in April.\n\n7:00 pm Jimmy Nick and Don’t Tell Mama– Back by popular demand! Jimmy is an old-fashioned guitar slinging blues prodigy. His mission is to expose the next generation to the blues. Driven by his Motown-tight band\, Don’t Tell Mama\, Jimmy excites crowds with his electrifying guitar work\, fresh harp\, clever lyrics and animated stage theatrics. His high energy blues and rock-n-roll captivate audiences\, and forge instant fans.\n\n5:00 pm: Ivy Ford – Back by popular demand! Versatile\, talented\, and an old soul. From singing the blues to being sultry\, Ivy is an indigo artist whose gift connects those who are around her and those who listen. The “Blues Kitten” serves an experience of music to soothe your soul\, fill your heart\, with an energy that is most magical.\n\n3:00pm: Jonny Lyons and the Pride – Back by popular demand! From Cash to Presley\, to his own recordings\, Jonny and his dream 5-piece show band\, the Pride\, entertain folks all over North America captivating audiences with a stage presence and a touch from the past.\n\n1:00pm: The Joliet Jakes – Welcome to the Moose-a-Palooza premier of the Joliet Jakes who will be kicking off our day of music\, fun and dance.. A show band that plays the music of The Blues Brothers and rhythm and blues. They are on a mission from God to help support the kids at Mooseheart!\nPlease bring your own chairs for our outdoor venue. Food and beverage will be available for purchase.\n\nGet tickets at: https://www.eventbrite.com/e/moose-a-palooza-music-festival-and-fundraiser-open-to-the-public-tickets-1364347583349?aff=ebdsoporgprofile
URL:https://www.bataviamoose682.org/event/moose-a-palooza2025/
LOCATION:Batavia Moose Lodge
CATEGORIES:Live Music Event,Open to the Public,Special Event
ATTACH;FMTTYPE=image/png:https://www.bataviamoose682.org/wp-content/uploads/2024/04/MAP-no-bg.png
END:VEVENT
BEGIN:VEVENT
DTSTART;TZID=UTC:20250823T120000
DTEND;TZID=UTC:20250823T150000
DTSTAMP:20260422T145632
CREATED:20250507T071224Z
LAST-MODIFIED:20260303T184004Z
UID:10003326-1755950400-1755961200@www.bataviamoose682.org
SUMMARY:Family Lunch
DESCRIPTION:
URL:https://www.bataviamoose682.org/event/family-lunch/2025-08-23/
END:VEVENT
BEGIN:VEVENT
DTSTART;TZID=UTC:20250822T170000
DTEND;TZID=UTC:20250822T203000
DTSTAMP:20260422T145632
CREATED:20250507T070846Z
LAST-MODIFIED:20250507T070846Z
UID:10002017-1755882000-1755894600@www.bataviamoose682.org
SUMMARY:Fish Fry
DESCRIPTION:
URL:https://www.bataviamoose682.org/event/fish-fry/2025-08-22/
END:VEVENT
BEGIN:VEVENT
DTSTART;TZID=UTC:20250822T120000
DTEND;TZID=UTC:20250822T150000
DTSTAMP:20260422T145632
CREATED:20250507T070730Z
LAST-MODIFIED:20250507T070800Z
UID:10001755-1755864000-1755874800@www.bataviamoose682.org
SUMMARY:Family Fish Fry Lunch
DESCRIPTION:
URL:https://www.bataviamoose682.org/event/friday-fish-fry-lunch/2025-08-22/
END:VEVENT
BEGIN:VEVENT
DTSTART;TZID=UTC:20250821T183000
DTEND;TZID=UTC:20250821T210000
DTSTAMP:20260422T145632
CREATED:20250507T071735Z
LAST-MODIFIED:20250507T071832Z
UID:10003846-1755801000-1755810000@www.bataviamoose682.org
SUMMARY:Horseshoe League
DESCRIPTION:
URL:https://www.bataviamoose682.org/event/horseshoe-league/2025-08-21/
LOCATION:Batavia Moose Lodge
ATTACH;FMTTYPE=image/png:https://www.bataviamoose682.org/wp-content/uploads/2025/05/Horseshoe-League-Flyer-_20250422_111559_0000.png
END:VEVENT
BEGIN:VEVENT
DTSTART;TZID=UTC:20250821T183000
DTEND;TZID=UTC:20250821T190000
DTSTAMP:20260422T145632
CREATED:20250317T044339Z
LAST-MODIFIED:20250317T044339Z
UID:10000529-1755801000-1755802800@www.bataviamoose682.org
SUMMARY:Women of the Moose Monthly Meeting
DESCRIPTION:Women of the Moose unite for our monthly meeting.\nNot a WOTM? Ask us and we can get you more information.
URL:https://www.bataviamoose682.org/event/women-of-the-moose-monthly-meeting/2025-08-21/
LOCATION:Batavia Moose Lodge
CATEGORIES:Monthly Meeting
ATTACH;FMTTYPE=image/png:https://www.bataviamoose682.org/wp-content/uploads/2022/03/KLKE52091.png
END:VEVENT
BEGIN:VEVENT
DTSTART;TZID=UTC:20250821T170000
DTEND;TZID=UTC:20250821T200000
DTSTAMP:20260422T145632
CREATED:20250507T071042Z
LAST-MODIFIED:20250507T071042Z
UID:10002311-1755795600-1755806400@www.bataviamoose682.org
SUMMARY:Kitchen Open
DESCRIPTION:
URL:https://www.bataviamoose682.org/event/kitchen-open/2025-08-21/
END:VEVENT
BEGIN:VEVENT
DTSTART;TZID=UTC:20250820T170000
DTEND;TZID=UTC:20250820T200000
DTSTAMP:20260422T145632
CREATED:20250507T071042Z
LAST-MODIFIED:20250507T071042Z
UID:10002310-1755709200-1755720000@www.bataviamoose682.org
SUMMARY:Kitchen Open
DESCRIPTION:
URL:https://www.bataviamoose682.org/event/kitchen-open/2025-08-20/
END:VEVENT
BEGIN:VEVENT
DTSTART;TZID=UTC:20250819T193000
DTEND;TZID=UTC:20250819T194500
DTSTAMP:20260422T145632
CREATED:20250317T052710Z
LAST-MODIFIED:20250317T052734Z
UID:10001148-1755631800-1755632700@www.bataviamoose682.org
SUMMARY:Queen of Hearts
DESCRIPTION:QUEEN OF  HEARTS WEEKLY DRAWING \n\nMust be a Current Loyal order of the Moose member in good standing to play and will be asked to present membership card to claim prize.\ndrawings will be held on Tuesday evenings at 7:30 pm\nyou may purchase tickets as many tickets as you like\, any day of the week up until 7:00pm the night of the drawing\nplease sign your tickets as your name appears on your membership card\, include your phone number on ticket\nIf you will not be present for the drawing\, please indicate your envelope number selection on the ticket. if no number is indicated the next available number will be chosen for you by the board member present.\nall non-winning tickets will be disposed of after the drawing & tickets will begin to be sold for the next week’s drawing\nif the 2nd joker is drawn\, the game will restart and all monies remaining in the prize pool.\n\nWINNING PAYMENTS: \n\ngrand prize winner need not be present for full payout\nweekly winner must be present for cash payout\n\nPayout as follows \n\n70% of pot to the winner\n20% to the Moose Lodge\n10% to start the next game
URL:https://www.bataviamoose682.org/event/queen-of-hearts/2025-08-19/
LOCATION:Batavia Moose Lodge
END:VEVENT
BEGIN:VEVENT
DTSTART;TZID=UTC:20250819T180000
DTEND;TZID=UTC:20250819T200000
DTSTAMP:20260422T145632
CREATED:20250317T045829Z
LAST-MODIFIED:20250317T045829Z
UID:10000615-1755626400-1755633600@www.bataviamoose682.org
SUMMARY:Kubb
DESCRIPTION:Come out and learn the hottest new outdoor game…KUBB! \nPlease check out our Facebook group for changes in date due to bad weather. \nCurrent Moose members and their qualified guests are welcome to join in on the fun!
URL:https://www.bataviamoose682.org/event/kubb/2025-08-19/
END:VEVENT
END:VCALENDAR