BEGIN:VCALENDAR
VERSION:2.0
PRODID:-//Batavia Moose #682 - ECPv6.15.20//NONSGML v1.0//EN
CALSCALE:GREGORIAN
METHOD:PUBLISH
X-ORIGINAL-URL:https://www.bataviamoose682.org
X-WR-CALDESC:Events for Batavia Moose #682
REFRESH-INTERVAL;VALUE=DURATION:PT1H
X-Robots-Tag:noindex
X-PUBLISHED-TTL:PT1H
BEGIN:VTIMEZONE
TZID:UTC
BEGIN:STANDARD
TZOFFSETFROM:+0000
TZOFFSETTO:+0000
TZNAME:UTC
DTSTART:20260101T000000
END:STANDARD
END:VTIMEZONE
BEGIN:VEVENT
DTSTART;TZID=UTC:20270624T170000
DTEND;TZID=UTC:20270624T200000
DTSTAMP:20260425T031303
CREATED:20250507T071042Z
LAST-MODIFIED:20250507T071042Z
UID:10002599-1813856400-1813867200@www.bataviamoose682.org
SUMMARY:Kitchen Open
DESCRIPTION:
URL:https://www.bataviamoose682.org/event/kitchen-open/2027-06-24/
END:VEVENT
BEGIN:VEVENT
DTSTART;TZID=UTC:20270625T120000
DTEND;TZID=UTC:20270625T150000
DTSTAMP:20260425T031303
CREATED:20250507T070730Z
LAST-MODIFIED:20250507T070800Z
UID:10001851-1813924800-1813935600@www.bataviamoose682.org
SUMMARY:Family Fish Fry Lunch
DESCRIPTION:
URL:https://www.bataviamoose682.org/event/friday-fish-fry-lunch/2027-06-25/
END:VEVENT
BEGIN:VEVENT
DTSTART;TZID=UTC:20270625T170000
DTEND;TZID=UTC:20270625T203000
DTSTAMP:20260425T031303
CREATED:20250507T070846Z
LAST-MODIFIED:20250507T070846Z
UID:10002113-1813942800-1813955400@www.bataviamoose682.org
SUMMARY:Fish Fry
DESCRIPTION:
URL:https://www.bataviamoose682.org/event/fish-fry/2027-06-25/
END:VEVENT
BEGIN:VEVENT
DTSTART;TZID=UTC:20270626T120000
DTEND;TZID=UTC:20270626T150000
DTSTAMP:20260425T031303
CREATED:20250507T071224Z
LAST-MODIFIED:20260303T184004Z
UID:10003422-1814011200-1814022000@www.bataviamoose682.org
SUMMARY:Family Lunch
DESCRIPTION:
URL:https://www.bataviamoose682.org/event/family-lunch/2027-06-26/
END:VEVENT
BEGIN:VEVENT
DTSTART;TZID=UTC:20270626T170000
DTEND;TZID=UTC:20270626T200000
DTSTAMP:20260425T031303
CREATED:20250507T071313Z
LAST-MODIFIED:20260303T184129Z
UID:10003684-1814029200-1814040000@www.bataviamoose682.org
SUMMARY:Saturday Dinner
DESCRIPTION:
URL:https://www.bataviamoose682.org/event/saturday-dinner/2027-06-26/
END:VEVENT
BEGIN:VEVENT
DTSTART;TZID=UTC:20270628T170000
DTEND;TZID=UTC:20270628T200000
DTSTAMP:20260425T031303
CREATED:20250821T051442Z
LAST-MODIFIED:20250821T051444Z
UID:10003160-1814202000-1814212800@www.bataviamoose682.org
SUMMARY:Comfort Food Monday
DESCRIPTION:
URL:https://www.bataviamoose682.org/event/comfort-food-monday-2/2027-06-28/
CATEGORIES:Monthly Meeting
END:VEVENT
BEGIN:VEVENT
DTSTART;TZID=UTC:20270629T170000
DTEND;TZID=UTC:20270629T200000
DTSTAMP:20260425T031303
CREATED:20250507T071042Z
LAST-MODIFIED:20250507T071042Z
UID:10002600-1814288400-1814299200@www.bataviamoose682.org
SUMMARY:Kitchen Open
DESCRIPTION:
URL:https://www.bataviamoose682.org/event/kitchen-open/2027-06-29/
END:VEVENT
BEGIN:VEVENT
DTSTART;TZID=UTC:20270629T180000
DTEND;TZID=UTC:20270629T200000
DTSTAMP:20260425T031303
CREATED:20250317T045829Z
LAST-MODIFIED:20250317T045829Z
UID:10000712-1814292000-1814299200@www.bataviamoose682.org
SUMMARY:Kubb
DESCRIPTION:Come out and learn the hottest new outdoor game…KUBB! \nPlease check out our Facebook group for changes in date due to bad weather. \nCurrent Moose members and their qualified guests are welcome to join in on the fun!
URL:https://www.bataviamoose682.org/event/kubb/2027-06-29/
END:VEVENT
BEGIN:VEVENT
DTSTART;TZID=UTC:20270629T193000
DTEND;TZID=UTC:20270629T194500
DTSTAMP:20260425T031303
CREATED:20250317T052710Z
LAST-MODIFIED:20250317T052734Z
UID:10001245-1814297400-1814298300@www.bataviamoose682.org
SUMMARY:Queen of Hearts
DESCRIPTION:QUEEN OF  HEARTS WEEKLY DRAWING \n\nMust be a Current Loyal order of the Moose member in good standing to play and will be asked to present membership card to claim prize.\ndrawings will be held on Tuesday evenings at 7:30 pm\nyou may purchase tickets as many tickets as you like\, any day of the week up until 7:00pm the night of the drawing\nplease sign your tickets as your name appears on your membership card\, include your phone number on ticket\nIf you will not be present for the drawing\, please indicate your envelope number selection on the ticket. if no number is indicated the next available number will be chosen for you by the board member present.\nall non-winning tickets will be disposed of after the drawing & tickets will begin to be sold for the next week’s drawing\nif the 2nd joker is drawn\, the game will restart and all monies remaining in the prize pool.\n\nWINNING PAYMENTS: \n\ngrand prize winner need not be present for full payout\nweekly winner must be present for cash payout\n\nPayout as follows \n\n70% of pot to the winner\n20% to the Moose Lodge\n10% to start the next game
URL:https://www.bataviamoose682.org/event/queen-of-hearts/2027-06-29/
LOCATION:Batavia Moose Lodge
END:VEVENT
BEGIN:VEVENT
DTSTART;TZID=UTC:20270630T170000
DTEND;TZID=UTC:20270630T200000
DTSTAMP:20260425T031303
CREATED:20250507T071042Z
LAST-MODIFIED:20250507T071042Z
UID:10002601-1814374800-1814385600@www.bataviamoose682.org
SUMMARY:Kitchen Open
DESCRIPTION:
URL:https://www.bataviamoose682.org/event/kitchen-open/2027-06-30/
END:VEVENT
BEGIN:VEVENT
DTSTART;TZID=UTC:20270701T170000
DTEND;TZID=UTC:20270701T200000
DTSTAMP:20260425T031303
CREATED:20250507T071042Z
LAST-MODIFIED:20250507T071042Z
UID:10002602-1814461200-1814472000@www.bataviamoose682.org
SUMMARY:Kitchen Open
DESCRIPTION:
URL:https://www.bataviamoose682.org/event/kitchen-open/2027-07-01/
END:VEVENT
BEGIN:VEVENT
DTSTART;TZID=UTC:20270701T184500
DTEND;TZID=UTC:20270701T194500
DTSTAMP:20260425T031303
CREATED:20240220T230013Z
LAST-MODIFIED:20250306T022809Z
UID:10000037-1814467500-1814471100@www.bataviamoose682.org
SUMMARY:Moose Rider's Monthly Meeting
DESCRIPTION:Join us for our monthly Batavia Moose Rider’s Meeting. \nThe Moose Riders are consistently among the fastest growing and most “active” of all Moose Lodge Activity Groups. $20 annual dues. \nMoose Riders is open to any current Moose member. No motorcycle required to join.
URL:https://www.bataviamoose682.org/event/moose-riders-monthly-meeting/2027-07-01/
LOCATION:Batavia Moose Lodge
CATEGORIES:Monthly Meeting
ATTACH;FMTTYPE=image/png:https://www.bataviamoose682.org/wp-content/uploads/2024/02/Untitled-design-21-e1708489780661.png
END:VEVENT
BEGIN:VEVENT
DTSTART;TZID=UTC:20270702T120000
DTEND;TZID=UTC:20270702T150000
DTSTAMP:20260425T031303
CREATED:20250507T070730Z
LAST-MODIFIED:20250507T070800Z
UID:10001852-1814529600-1814540400@www.bataviamoose682.org
SUMMARY:Family Fish Fry Lunch
DESCRIPTION:
URL:https://www.bataviamoose682.org/event/friday-fish-fry-lunch/2027-07-02/
END:VEVENT
BEGIN:VEVENT
DTSTART;TZID=UTC:20270702T170000
DTEND;TZID=UTC:20270702T203000
DTSTAMP:20260425T031303
CREATED:20250507T070846Z
LAST-MODIFIED:20250507T070846Z
UID:10002114-1814547600-1814560200@www.bataviamoose682.org
SUMMARY:Fish Fry
DESCRIPTION:
URL:https://www.bataviamoose682.org/event/fish-fry/2027-07-02/
END:VEVENT
BEGIN:VEVENT
DTSTART;TZID=UTC:20270702T190000
DTEND;TZID=UTC:20270702T210000
DTSTAMP:20260425T031303
CREATED:20260303T175656Z
LAST-MODIFIED:20260303T200039Z
UID:10004405-1814554800-1814562000@www.bataviamoose682.org
SUMMARY:Trivia
DESCRIPTION:Get your team together and join us for a fun evening of TRIVIA!
URL:https://www.bataviamoose682.org/event/trivia-2/2027-07-02/
ATTACH;FMTTYPE=image/png:https://www.bataviamoose682.org/wp-content/uploads/2025/03/Kitchen-Open-1.png
END:VEVENT
BEGIN:VEVENT
DTSTART;TZID=UTC:20270703T120000
DTEND;TZID=UTC:20270703T150000
DTSTAMP:20260425T031303
CREATED:20250507T071224Z
LAST-MODIFIED:20260303T184004Z
UID:10003423-1814616000-1814626800@www.bataviamoose682.org
SUMMARY:Family Lunch
DESCRIPTION:
URL:https://www.bataviamoose682.org/event/family-lunch/2027-07-03/
END:VEVENT
BEGIN:VEVENT
DTSTART;TZID=UTC:20270703T170000
DTEND;TZID=UTC:20270703T200000
DTSTAMP:20260425T031303
CREATED:20250507T071313Z
LAST-MODIFIED:20260303T184129Z
UID:10003685-1814634000-1814644800@www.bataviamoose682.org
SUMMARY:Saturday Dinner
DESCRIPTION:
URL:https://www.bataviamoose682.org/event/saturday-dinner/2027-07-03/
END:VEVENT
BEGIN:VEVENT
DTSTART;TZID=UTC:20270705T170000
DTEND;TZID=UTC:20270705T200000
DTSTAMP:20260425T031303
CREATED:20250821T051442Z
LAST-MODIFIED:20250821T051444Z
UID:10003161-1814806800-1814817600@www.bataviamoose682.org
SUMMARY:Comfort Food Monday
DESCRIPTION:
URL:https://www.bataviamoose682.org/event/comfort-food-monday-2/2027-07-05/
CATEGORIES:Monthly Meeting
END:VEVENT
BEGIN:VEVENT
DTSTART;TZID=UTC:20270705T190000
DTEND;TZID=UTC:20270705T200000
DTSTAMP:20260425T031303
CREATED:20250821T051547Z
LAST-MODIFIED:20250821T051549Z
UID:10003963-1814814000-1814817600@www.bataviamoose682.org
SUMMARY:Lodge General Meeting
DESCRIPTION:1st & 3rd Monday of each month @ 7:00 p.m. \n\nAll current members are welcome to attend.\nWe recommend each member attend a few meetings a year\nMeetings may include discussions regarding:\n\nBusiness conducted in the lodge\nRegional business\nUpcoming events & volunteer opportunities\nFundraiser ideas or proposals \n\n\nProper conduct & dress…\n\nNo alcohol allowed in meetings\nWhen in doubt\, don’t wear it\n\n\n\n 
URL:https://www.bataviamoose682.org/event/lodge-general-meeting-3-2/2027-07-05/
CATEGORIES:Monthly Meeting
END:VEVENT
BEGIN:VEVENT
DTSTART;TZID=UTC:20270706T170000
DTEND;TZID=UTC:20270706T200000
DTSTAMP:20260425T031303
CREATED:20250507T071042Z
LAST-MODIFIED:20250507T071042Z
UID:10002603-1814893200-1814904000@www.bataviamoose682.org
SUMMARY:Kitchen Open
DESCRIPTION:
URL:https://www.bataviamoose682.org/event/kitchen-open/2027-07-06/
END:VEVENT
BEGIN:VEVENT
DTSTART;TZID=UTC:20270706T180000
DTEND;TZID=UTC:20270706T200000
DTSTAMP:20260425T031303
CREATED:20250317T045829Z
LAST-MODIFIED:20250317T045829Z
UID:10000713-1814896800-1814904000@www.bataviamoose682.org
SUMMARY:Kubb
DESCRIPTION:Come out and learn the hottest new outdoor game…KUBB! \nPlease check out our Facebook group for changes in date due to bad weather. \nCurrent Moose members and their qualified guests are welcome to join in on the fun!
URL:https://www.bataviamoose682.org/event/kubb/2027-07-06/
END:VEVENT
BEGIN:VEVENT
DTSTART;TZID=UTC:20270706T193000
DTEND;TZID=UTC:20270706T194500
DTSTAMP:20260425T031303
CREATED:20250317T052710Z
LAST-MODIFIED:20250317T052734Z
UID:10001246-1814902200-1814903100@www.bataviamoose682.org
SUMMARY:Queen of Hearts
DESCRIPTION:QUEEN OF  HEARTS WEEKLY DRAWING \n\nMust be a Current Loyal order of the Moose member in good standing to play and will be asked to present membership card to claim prize.\ndrawings will be held on Tuesday evenings at 7:30 pm\nyou may purchase tickets as many tickets as you like\, any day of the week up until 7:00pm the night of the drawing\nplease sign your tickets as your name appears on your membership card\, include your phone number on ticket\nIf you will not be present for the drawing\, please indicate your envelope number selection on the ticket. if no number is indicated the next available number will be chosen for you by the board member present.\nall non-winning tickets will be disposed of after the drawing & tickets will begin to be sold for the next week’s drawing\nif the 2nd joker is drawn\, the game will restart and all monies remaining in the prize pool.\n\nWINNING PAYMENTS: \n\ngrand prize winner need not be present for full payout\nweekly winner must be present for cash payout\n\nPayout as follows \n\n70% of pot to the winner\n20% to the Moose Lodge\n10% to start the next game
URL:https://www.bataviamoose682.org/event/queen-of-hearts/2027-07-06/
LOCATION:Batavia Moose Lodge
END:VEVENT
BEGIN:VEVENT
DTSTART;TZID=UTC:20270707T170000
DTEND;TZID=UTC:20270707T200000
DTSTAMP:20260425T031303
CREATED:20250507T071042Z
LAST-MODIFIED:20250507T071042Z
UID:10002604-1814979600-1814990400@www.bataviamoose682.org
SUMMARY:Kitchen Open
DESCRIPTION:
URL:https://www.bataviamoose682.org/event/kitchen-open/2027-07-07/
END:VEVENT
BEGIN:VEVENT
DTSTART;TZID=UTC:20270708T170000
DTEND;TZID=UTC:20270708T200000
DTSTAMP:20260425T031303
CREATED:20250507T071042Z
LAST-MODIFIED:20250507T071042Z
UID:10002605-1815066000-1815076800@www.bataviamoose682.org
SUMMARY:Kitchen Open
DESCRIPTION:
URL:https://www.bataviamoose682.org/event/kitchen-open/2027-07-08/
END:VEVENT
BEGIN:VEVENT
DTSTART;TZID=UTC:20270708T180000
DTEND;TZID=UTC:20270708T190000
DTSTAMP:20260425T031303
CREATED:20250507T064303Z
LAST-MODIFIED:20250507T064303Z
UID:10001699-1815069600-1815073200@www.bataviamoose682.org
SUMMARY:Rod & Gun Monthly Meeting
DESCRIPTION:
URL:https://www.bataviamoose682.org/event/rod-gun-monthly-meeting/2027-07-08/
CATEGORIES:Monthly Meeting
END:VEVENT
BEGIN:VEVENT
DTSTART;TZID=UTC:20270709T120000
DTEND;TZID=UTC:20270709T150000
DTSTAMP:20260425T031303
CREATED:20250507T070730Z
LAST-MODIFIED:20250507T070800Z
UID:10001853-1815134400-1815145200@www.bataviamoose682.org
SUMMARY:Family Fish Fry Lunch
DESCRIPTION:
URL:https://www.bataviamoose682.org/event/friday-fish-fry-lunch/2027-07-09/
END:VEVENT
BEGIN:VEVENT
DTSTART;TZID=UTC:20270709T170000
DTEND;TZID=UTC:20270709T203000
DTSTAMP:20260425T031303
CREATED:20250507T070846Z
LAST-MODIFIED:20250507T070846Z
UID:10002115-1815152400-1815165000@www.bataviamoose682.org
SUMMARY:Fish Fry
DESCRIPTION:
URL:https://www.bataviamoose682.org/event/fish-fry/2027-07-09/
END:VEVENT
BEGIN:VEVENT
DTSTART;TZID=UTC:20270710T120000
DTEND;TZID=UTC:20270710T150000
DTSTAMP:20260425T031303
CREATED:20250507T071224Z
LAST-MODIFIED:20260303T184004Z
UID:10003424-1815220800-1815231600@www.bataviamoose682.org
SUMMARY:Family Lunch
DESCRIPTION:
URL:https://www.bataviamoose682.org/event/family-lunch/2027-07-10/
END:VEVENT
BEGIN:VEVENT
DTSTART;TZID=UTC:20270710T170000
DTEND;TZID=UTC:20270710T200000
DTSTAMP:20260425T031303
CREATED:20250507T071313Z
LAST-MODIFIED:20260303T184129Z
UID:10003686-1815238800-1815249600@www.bataviamoose682.org
SUMMARY:Saturday Dinner
DESCRIPTION:
URL:https://www.bataviamoose682.org/event/saturday-dinner/2027-07-10/
END:VEVENT
BEGIN:VEVENT
DTSTART;TZID=UTC:20270712T170000
DTEND;TZID=UTC:20270712T200000
DTSTAMP:20260425T031303
CREATED:20250821T051442Z
LAST-MODIFIED:20250821T051444Z
UID:10003162-1815411600-1815422400@www.bataviamoose682.org
SUMMARY:Comfort Food Monday
DESCRIPTION:
URL:https://www.bataviamoose682.org/event/comfort-food-monday-2/2027-07-12/
CATEGORIES:Monthly Meeting
END:VEVENT
END:VCALENDAR