BEGIN:VCALENDAR
VERSION:2.0
PRODID:-//Batavia Moose #682 - ECPv6.15.20//NONSGML v1.0//EN
CALSCALE:GREGORIAN
METHOD:PUBLISH
X-WR-CALNAME:Batavia Moose #682
X-ORIGINAL-URL:https://www.bataviamoose682.org
X-WR-CALDESC:Events for Batavia Moose #682
REFRESH-INTERVAL;VALUE=DURATION:PT1H
X-Robots-Tag:noindex
X-PUBLISHED-TTL:PT1H
BEGIN:VTIMEZONE
TZID:UTC
BEGIN:STANDARD
TZOFFSETFROM:+0000
TZOFFSETTO:+0000
TZNAME:UTC
DTSTART:20250101T000000
END:STANDARD
END:VTIMEZONE
BEGIN:VEVENT
DTSTART;TZID=UTC:20260328T190000
DTEND;TZID=UTC:20260328T220000
DTSTAMP:20260421T231728
CREATED:20260303T193909Z
LAST-MODIFIED:20260303T193909Z
UID:10004390-1774724400-1774735200@www.bataviamoose682.org
SUMMARY:Live Music: GNP
DESCRIPTION:It’s a reunion! GNP is together again! Jim Freedlund and Mark Voigt were close friends since they first shared seats in the first grade all the way through High School Graduation. Jim was the more musical while Mark was interested in building a true rock band that would play in various venues in the Fox Valley area. The first trappings of the GNP started with a core of five band members including Voigt on organ and sax\, Jim and Skip Kibling on guitar\, Artie Hamer on drums and Tim Paskadi on bass. Local venues were the usual playing sites in various schools\, teen clubs and park events throughout the Batavia\, Geneva\, St. Charles and Aurora area.\nThe next transition of the band began in the late 60’s with an overhaul adding Bruce Patzer as a solid drummer while Jefferson Jelly joined the group to add guitar as well as joining Roy Bailey on trumpet. The emerging musician who played baritone sax was Dave Haines (EZ Dave of Deluxury fame). Steve Gordon added another trumpet and Mike Meyer provided more percussion on conga drums. The venues GNP played also expanded both from a prestige and geographic perspective. GNP became a back up band for lead acts such as “The Flock” in many of the valley teen clubs. GNP blossomed into a regional band of significance with a very strong following. Today\, members of the core group that have participated in the last 4 reunion concerts still look back to the wonderful experiences had as young musicians tying to make their mark in the GNP and reconnecting with so many friends that had such an impact on us growing up.\nNow many of the group our Batavia Lodge members and are looking for to this reunion.
URL:https://www.bataviamoose682.org/event/live-music-gnp/
LOCATION:Batavia Moose Lodge
CATEGORIES:Live Music Event
ATTACH;FMTTYPE=image/jpeg:https://www.bataviamoose682.org/wp-content/uploads/2026/03/GNP.jpg
END:VEVENT
BEGIN:VEVENT
DTSTART;TZID=UTC:20260328T170000
DTEND;TZID=UTC:20260328T200000
DTSTAMP:20260421T231728
CREATED:20250507T071313Z
LAST-MODIFIED:20260303T184129Z
UID:10003619-1774717200-1774728000@www.bataviamoose682.org
SUMMARY:Saturday Dinner
DESCRIPTION:
URL:https://www.bataviamoose682.org/event/saturday-dinner/2026-03-28/
END:VEVENT
BEGIN:VEVENT
DTSTART;TZID=UTC:20260328T120000
DTEND;TZID=UTC:20260328T150000
DTSTAMP:20260421T231728
CREATED:20250507T071224Z
LAST-MODIFIED:20260303T184004Z
UID:10003357-1774699200-1774710000@www.bataviamoose682.org
SUMMARY:Family Lunch
DESCRIPTION:
URL:https://www.bataviamoose682.org/event/family-lunch/2026-03-28/
END:VEVENT
BEGIN:VEVENT
DTSTART;TZID=UTC:20260327T170000
DTEND;TZID=UTC:20260327T203000
DTSTAMP:20260421T231729
CREATED:20250507T070846Z
LAST-MODIFIED:20250507T070846Z
UID:10002048-1774630800-1774643400@www.bataviamoose682.org
SUMMARY:Fish Fry
DESCRIPTION:
URL:https://www.bataviamoose682.org/event/fish-fry/2026-03-27/
END:VEVENT
BEGIN:VEVENT
DTSTART;TZID=UTC:20260327T120000
DTEND;TZID=UTC:20260327T150000
DTSTAMP:20260421T231729
CREATED:20250507T070730Z
LAST-MODIFIED:20250507T070800Z
UID:10001786-1774612800-1774623600@www.bataviamoose682.org
SUMMARY:Family Fish Fry Lunch
DESCRIPTION:
URL:https://www.bataviamoose682.org/event/friday-fish-fry-lunch/2026-03-27/
END:VEVENT
BEGIN:VEVENT
DTSTART;TZID=UTC:20260326T173000
DTEND;TZID=UTC:20260326T203000
DTSTAMP:20260421T231729
CREATED:20250821T052812Z
LAST-MODIFIED:20250821T052814Z
UID:10004066-1774546200-1774557000@www.bataviamoose682.org
SUMMARY:Famous Fried Chicken Dinner
DESCRIPTION:Join us for our Famous Fried Chicken Dinner. \n5:30-8:30pm or sold out \nopen to current Moose members & their qualified guests
URL:https://www.bataviamoose682.org/event/famous-fried-chicken-dinner-2-2-2/2026-03-26/
LOCATION:Batavia Moose Lodge
CATEGORIES:Monthly Special
ATTACH;FMTTYPE=image/png:https://www.bataviamoose682.org/wp-content/uploads/2025/03/Untitled-design-14.png
END:VEVENT
BEGIN:VEVENT
DTSTART;TZID=UTC:20260325T190000
DTEND;TZID=UTC:20260325T200000
DTSTAMP:20260421T231729
CREATED:20250317T043719Z
LAST-MODIFIED:20251209T071623Z
UID:10000475-1774465200-1774468800@www.bataviamoose682.org
SUMMARY:Line Dancing - Beginner/Intermediate Lesson
DESCRIPTION:
URL:https://www.bataviamoose682.org/event/line-dancing-beginner-intermediate-lesson/2026-03-25/
END:VEVENT
BEGIN:VEVENT
DTSTART;TZID=UTC:20260325T170000
DTEND;TZID=UTC:20260325T200000
DTSTAMP:20260421T231729
CREATED:20250507T071042Z
LAST-MODIFIED:20250507T071042Z
UID:10002403-1774458000-1774468800@www.bataviamoose682.org
SUMMARY:Kitchen Open
DESCRIPTION:
URL:https://www.bataviamoose682.org/event/kitchen-open/2026-03-25/
END:VEVENT
BEGIN:VEVENT
DTSTART;TZID=UTC:20260324T193000
DTEND;TZID=UTC:20260324T194500
DTSTAMP:20260421T231729
CREATED:20250317T052710Z
LAST-MODIFIED:20250317T052734Z
UID:10001179-1774380600-1774381500@www.bataviamoose682.org
SUMMARY:Queen of Hearts
DESCRIPTION:QUEEN OF  HEARTS WEEKLY DRAWING \n\nMust be a Current Loyal order of the Moose member in good standing to play and will be asked to present membership card to claim prize.\ndrawings will be held on Tuesday evenings at 7:30 pm\nyou may purchase tickets as many tickets as you like\, any day of the week up until 7:00pm the night of the drawing\nplease sign your tickets as your name appears on your membership card\, include your phone number on ticket\nIf you will not be present for the drawing\, please indicate your envelope number selection on the ticket. if no number is indicated the next available number will be chosen for you by the board member present.\nall non-winning tickets will be disposed of after the drawing & tickets will begin to be sold for the next week’s drawing\nif the 2nd joker is drawn\, the game will restart and all monies remaining in the prize pool.\n\nWINNING PAYMENTS: \n\ngrand prize winner need not be present for full payout\nweekly winner must be present for cash payout\n\nPayout as follows \n\n70% of pot to the winner\n20% to the Moose Lodge\n10% to start the next game
URL:https://www.bataviamoose682.org/event/queen-of-hearts/2026-03-24/
LOCATION:Batavia Moose Lodge
END:VEVENT
BEGIN:VEVENT
DTSTART;TZID=UTC:20260324T180000
DTEND;TZID=UTC:20260324T200000
DTSTAMP:20260421T231729
CREATED:20250317T045829Z
LAST-MODIFIED:20250317T045829Z
UID:10000646-1774375200-1774382400@www.bataviamoose682.org
SUMMARY:Kubb
DESCRIPTION:Come out and learn the hottest new outdoor game…KUBB! \nPlease check out our Facebook group for changes in date due to bad weather. \nCurrent Moose members and their qualified guests are welcome to join in on the fun!
URL:https://www.bataviamoose682.org/event/kubb/2026-03-24/
END:VEVENT
BEGIN:VEVENT
DTSTART;TZID=UTC:20260324T170000
DTEND;TZID=UTC:20260324T200000
DTSTAMP:20260421T231729
CREATED:20250507T071042Z
LAST-MODIFIED:20250507T071042Z
UID:10002402-1774371600-1774382400@www.bataviamoose682.org
SUMMARY:Kitchen Open
DESCRIPTION:
URL:https://www.bataviamoose682.org/event/kitchen-open/2026-03-24/
END:VEVENT
BEGIN:VEVENT
DTSTART;TZID=UTC:20260323T170000
DTEND;TZID=UTC:20260323T200000
DTSTAMP:20260421T231729
CREATED:20250821T051442Z
LAST-MODIFIED:20250821T051444Z
UID:10003094-1774285200-1774296000@www.bataviamoose682.org
SUMMARY:Comfort Food Monday
DESCRIPTION:
URL:https://www.bataviamoose682.org/event/comfort-food-monday-2/2026-03-23/
CATEGORIES:Monthly Meeting
END:VEVENT
BEGIN:VEVENT
DTSTART;TZID=UTC:20260321T173000
DTEND;TZID=UTC:20260321T200000
DTSTAMP:20260421T231729
CREATED:20250821T064936Z
LAST-MODIFIED:20250821T065109Z
UID:10004086-1774114200-1774123200@www.bataviamoose682.org
SUMMARY:Grilled Steak Night & Rockstar Bingo
DESCRIPTION:Seriously Fun Saturday Evening!\nGrilled Steak Dinner 5:30 pm – 8:00 pm\nRockstar Bingo 7 pm \nRockstar Bingo is like regular Bingo except with groovy music instead of numbers. Guaranteed you will be singing along.\nNo cost to play. Great prizes for winners. \nThis event is sponsored by the Batavia Moose Legion and is intended for Lodge members and their qualified guests. \nThis particular event will be in the social quarters only due to a private event scheduled in the back hall. \nRockstar Bingo is run by Seriously Fun Events.
URL:https://www.bataviamoose682.org/event/grilled-steak-night-rockstar-bingo/2026-03-21/
CATEGORIES:Monthly Special
ATTACH;FMTTYPE=image/png:https://www.bataviamoose682.org/wp-content/uploads/2025/03/Steak-Bingo.png
END:VEVENT
BEGIN:VEVENT
DTSTART;TZID=UTC:20260321T120000
DTEND;TZID=UTC:20260321T150000
DTSTAMP:20260421T231729
CREATED:20250507T071224Z
LAST-MODIFIED:20260303T184004Z
UID:10003356-1774094400-1774105200@www.bataviamoose682.org
SUMMARY:Family Lunch
DESCRIPTION:
URL:https://www.bataviamoose682.org/event/family-lunch/2026-03-21/
END:VEVENT
BEGIN:VEVENT
DTSTART;TZID=UTC:20260321T100000
DTEND;TZID=UTC:20260321T120000
DTSTAMP:20260421T231729
CREATED:20260303T050901Z
LAST-MODIFIED:20260303T192322Z
UID:10000856-1774087200-1774094400@www.bataviamoose682.org
SUMMARY:Easter Egg Hunt
DESCRIPTION:Games\, Crafts\, Food and Family Fun! Open to current Moose members and their qualified guests/mini-Moosers (ages 0-12). \nPlease bring your own baskets to collect over 300 eggs & prizes! \nOpen to Moose Members & their qualified guests
URL:https://www.bataviamoose682.org/event/easter-egg-hunt/
LOCATION:Batavia Moose Lodge
CATEGORIES:Special Event
ATTACH;FMTTYPE=image/png:https://www.bataviamoose682.org/wp-content/uploads/2025/03/Easter-Egg-Hunt.png
END:VEVENT
BEGIN:VEVENT
DTSTART;TZID=UTC:20260320T200000
DTEND;TZID=UTC:20260320T230000
DTSTAMP:20260421T231729
CREATED:20260303T191622Z
LAST-MODIFIED:20260303T191622Z
UID:10004389-1774036800-1774047600@www.bataviamoose682.org
SUMMARY:Live Music: Big Al Wetzel Trio
DESCRIPTION:Trio of great musicians featuring Big Al\, Jimbo\, and Batavia Moose Member Mike “Magoo”.. With killer harmonies and all 3 members playing some serious lead guitar\, expect playful classic rock sing-a-longs with a dash of hippie and a splash of country.\nMembers have shared the stage with major label country acts Zac Brown\, Jake Owen\, Keith Urban\, Big and Rich\, and Kenny Chesney\, as well as rock acts REO Speedwagon\, the Doobie Brothers\, CCR\, Huey Lewis\, and Train to name a few. They have done seven world tours with Hello Dave in support of American troops\, including performances in Iraq and the Middle East\, Europe and the Mediterranean\, Japan\, South Korea\, and Singapore.
URL:https://www.bataviamoose682.org/event/live-music-big-al-wetzel-trio/
LOCATION:Batavia Moose Lodge
CATEGORIES:Live Music Event
ATTACH;FMTTYPE=image/jpeg:https://www.bataviamoose682.org/wp-content/uploads/2026/03/big-al-trio-image.jpg
END:VEVENT
BEGIN:VEVENT
DTSTART;TZID=UTC:20260320T170000
DTEND;TZID=UTC:20260320T203000
DTSTAMP:20260421T231729
CREATED:20250507T070846Z
LAST-MODIFIED:20250507T070846Z
UID:10002047-1774026000-1774038600@www.bataviamoose682.org
SUMMARY:Fish Fry
DESCRIPTION:
URL:https://www.bataviamoose682.org/event/fish-fry/2026-03-20/
END:VEVENT
BEGIN:VEVENT
DTSTART;TZID=UTC:20260320T120000
DTEND;TZID=UTC:20260320T150000
DTSTAMP:20260421T231729
CREATED:20250507T070730Z
LAST-MODIFIED:20250507T070800Z
UID:10001785-1774008000-1774018800@www.bataviamoose682.org
SUMMARY:Family Fish Fry Lunch
DESCRIPTION:
URL:https://www.bataviamoose682.org/event/friday-fish-fry-lunch/2026-03-20/
END:VEVENT
BEGIN:VEVENT
DTSTART;TZID=UTC:20260319T183000
DTEND;TZID=UTC:20260319T190000
DTSTAMP:20260421T231729
CREATED:20250317T044339Z
LAST-MODIFIED:20250317T044339Z
UID:10000536-1773945000-1773946800@www.bataviamoose682.org
SUMMARY:Women of the Moose Monthly Meeting
DESCRIPTION:Women of the Moose unite for our monthly meeting.\nNot a WOTM? Ask us and we can get you more information.
URL:https://www.bataviamoose682.org/event/women-of-the-moose-monthly-meeting/2026-03-19/
LOCATION:Batavia Moose Lodge
CATEGORIES:Monthly Meeting
ATTACH;FMTTYPE=image/png:https://www.bataviamoose682.org/wp-content/uploads/2022/03/KLKE52091.png
END:VEVENT
BEGIN:VEVENT
DTSTART;TZID=UTC:20260319T170000
DTEND;TZID=UTC:20260319T200000
DTSTAMP:20260421T231729
CREATED:20250507T071042Z
LAST-MODIFIED:20250507T071042Z
UID:10002401-1773939600-1773950400@www.bataviamoose682.org
SUMMARY:Kitchen Open
DESCRIPTION:
URL:https://www.bataviamoose682.org/event/kitchen-open/2026-03-19/
END:VEVENT
BEGIN:VEVENT
DTSTART;TZID=UTC:20260318T183000
DTEND;TZID=UTC:20260318T203000
DTSTAMP:20260421T231729
CREATED:20260303T190939Z
LAST-MODIFIED:20260303T190939Z
UID:10004388-1773858600-1773865800@www.bataviamoose682.org
SUMMARY:Local Artist Spotlight: Jake Mack
DESCRIPTION:Jake Mack is a career musician and recording artist based in the suburbs of Chicago. Influenced by artists like Wilco\, Jason Isbell\, The Rolling Stones\, and Tom Petty\, he draws from these stylings with a focus on crafting songs that grab the listener with clever hooks\, but house a deeper meaning behind the lyrics and tone of the song. Playing 200 shows annually\, he brings veteran musicianship and a musical maturity to every stage.
URL:https://www.bataviamoose682.org/event/local-artist-spotlight-jake-mack/
LOCATION:Batavia Moose Lodge
CATEGORIES:Live Music Event
ATTACH;FMTTYPE=image/jpeg:https://www.bataviamoose682.org/wp-content/uploads/2026/03/Jake-Mack.jpg
END:VEVENT
BEGIN:VEVENT
DTSTART;TZID=UTC:20260318T170000
DTEND;TZID=UTC:20260318T200000
DTSTAMP:20260421T231729
CREATED:20250507T071042Z
LAST-MODIFIED:20250507T071042Z
UID:10002400-1773853200-1773864000@www.bataviamoose682.org
SUMMARY:Kitchen Open
DESCRIPTION:
URL:https://www.bataviamoose682.org/event/kitchen-open/2026-03-18/
END:VEVENT
BEGIN:VEVENT
DTSTART;TZID=UTC:20260317T193000
DTEND;TZID=UTC:20260317T194500
DTSTAMP:20260421T231729
CREATED:20250317T052710Z
LAST-MODIFIED:20250317T052734Z
UID:10001178-1773775800-1773776700@www.bataviamoose682.org
SUMMARY:Queen of Hearts
DESCRIPTION:QUEEN OF  HEARTS WEEKLY DRAWING \n\nMust be a Current Loyal order of the Moose member in good standing to play and will be asked to present membership card to claim prize.\ndrawings will be held on Tuesday evenings at 7:30 pm\nyou may purchase tickets as many tickets as you like\, any day of the week up until 7:00pm the night of the drawing\nplease sign your tickets as your name appears on your membership card\, include your phone number on ticket\nIf you will not be present for the drawing\, please indicate your envelope number selection on the ticket. if no number is indicated the next available number will be chosen for you by the board member present.\nall non-winning tickets will be disposed of after the drawing & tickets will begin to be sold for the next week’s drawing\nif the 2nd joker is drawn\, the game will restart and all monies remaining in the prize pool.\n\nWINNING PAYMENTS: \n\ngrand prize winner need not be present for full payout\nweekly winner must be present for cash payout\n\nPayout as follows \n\n70% of pot to the winner\n20% to the Moose Lodge\n10% to start the next game
URL:https://www.bataviamoose682.org/event/queen-of-hearts/2026-03-17/
LOCATION:Batavia Moose Lodge
END:VEVENT
BEGIN:VEVENT
DTSTART;TZID=UTC:20260317T180000
DTEND;TZID=UTC:20260317T200000
DTSTAMP:20260421T231729
CREATED:20250317T045829Z
LAST-MODIFIED:20250317T045829Z
UID:10000645-1773770400-1773777600@www.bataviamoose682.org
SUMMARY:Kubb
DESCRIPTION:Come out and learn the hottest new outdoor game…KUBB! \nPlease check out our Facebook group for changes in date due to bad weather. \nCurrent Moose members and their qualified guests are welcome to join in on the fun!
URL:https://www.bataviamoose682.org/event/kubb/2026-03-17/
END:VEVENT
BEGIN:VEVENT
DTSTART;TZID=UTC:20260317T170000
DTEND;TZID=UTC:20260317T200000
DTSTAMP:20260421T231729
CREATED:20250507T071042Z
LAST-MODIFIED:20250507T071042Z
UID:10002399-1773766800-1773777600@www.bataviamoose682.org
SUMMARY:Kitchen Open
DESCRIPTION:
URL:https://www.bataviamoose682.org/event/kitchen-open/2026-03-17/
END:VEVENT
BEGIN:VEVENT
DTSTART;TZID=UTC:20260316T190000
DTEND;TZID=UTC:20260316T200000
DTSTAMP:20260421T231729
CREATED:20250306T033105Z
LAST-MODIFIED:20250306T033306Z
UID:10000142-1773687600-1773691200@www.bataviamoose682.org
SUMMARY:Lodge General Meeting
DESCRIPTION:1st & 3rd Monday of each month @ 7:00 p.m. \n\nAll current members are welcome to attend.\nWe recommend each member attend a few meetings a year\nMeetings may include discussions regarding:\n\nBusiness conducted in the lodge\nRegional business\nUpcoming events & volunteer opportunities\nFundraiser ideas or proposals \n\n\nProper conduct & dress…\n\nNo alcohol allowed in meetings\nWhen in doubt\, don’t wear it
URL:https://www.bataviamoose682.org/event/lodge-general-meeting-2/2026-03-16/
CATEGORIES:Monthly Meeting
END:VEVENT
BEGIN:VEVENT
DTSTART;TZID=UTC:20260316T170000
DTEND;TZID=UTC:20260316T200000
DTSTAMP:20260421T231729
CREATED:20250821T051442Z
LAST-MODIFIED:20250821T051444Z
UID:10003093-1773680400-1773691200@www.bataviamoose682.org
SUMMARY:Comfort Food Monday
DESCRIPTION:
URL:https://www.bataviamoose682.org/event/comfort-food-monday-2/2026-03-16/
CATEGORIES:Monthly Meeting
END:VEVENT
BEGIN:VEVENT
DTSTART;TZID=UTC:20260314T200000
DTEND;TZID=UTC:20260314T230000
DTSTAMP:20260421T231729
CREATED:20260303T185745Z
LAST-MODIFIED:20260303T185745Z
UID:10004387-1773518400-1773529200@www.bataviamoose682.org
SUMMARY:Live Music: The DB's
DESCRIPTION:Bill Monroe meets Robert Johnson at the crossroads.\nSteeped in Bluegrass\, Blues and American Roots Music\, The DB’s bring an energy and love for improvisation and tradition bound with modern edges. Their bag is deep\, drawing from old standards\, classic rock tunes\, swampy blues\, traditional fiddle tunes as well as original compositions.\nThe band is based in Chicago and draws it’s inspiration from musical pioneers ranging from Bill Monroe to Robert Johnson\, the Grateful Dead\, the Allman Brothers\, Ry Cooder\, Lyle Lovett\, Jerry Douglas\, Peter Rowan and Warren Zevon.\n\nThis event is for Lodge members and their qualified guests.\nBand membersMike Church – GuitarsJim Nelson – BassDrew Littell – DrumsRob Anderlik – Dobro\, Lap Steel\, Guitars
URL:https://www.bataviamoose682.org/event/live-music-the-dbs/
LOCATION:Batavia Moose Lodge
CATEGORIES:Live Music Event
ATTACH;FMTTYPE=image/webp:https://www.bataviamoose682.org/wp-content/uploads/2026/03/The-DBs.webp
END:VEVENT
BEGIN:VEVENT
DTSTART;TZID=UTC:20260314T120000
DTEND;TZID=UTC:20260314T170000
DTSTAMP:20260421T231729
CREATED:20260303T185037Z
LAST-MODIFIED:20260303T185037Z
UID:10004386-1773489600-1773507600@www.bataviamoose682.org
SUMMARY:St. Patrick's Day Party/Corned Beef & Cabbage Special/Pipe & Drums
DESCRIPTION:St. Patrick’s Day Party! \nJoin us for the BEST corned beef & cabbage in town! Get it as a dinner or sandwich! Starts at 12pm and goes till 5pm (or sold out)
URL:https://www.bataviamoose682.org/event/st-patricks-day-party-corned-beef-cabbage-special-pipe-drums/
LOCATION:Batavia Moose Lodge
CATEGORIES:Special Event
ATTACH;FMTTYPE=image/png:https://www.bataviamoose682.org/wp-content/uploads/2026/03/Copy-of-Pink-and-Blue-Picnic-Adoption-Party-Facebook-Event-Cover.png
END:VEVENT
BEGIN:VEVENT
DTSTART;TZID=UTC:20260313T170000
DTEND;TZID=UTC:20260313T203000
DTSTAMP:20260421T231729
CREATED:20250507T070846Z
LAST-MODIFIED:20250507T070846Z
UID:10002046-1773421200-1773433800@www.bataviamoose682.org
SUMMARY:Fish Fry
DESCRIPTION:
URL:https://www.bataviamoose682.org/event/fish-fry/2026-03-13/
END:VEVENT
END:VCALENDAR