BEGIN:VCALENDAR
VERSION:2.0
PRODID:-//Batavia Moose #682 - ECPv6.15.20//NONSGML v1.0//EN
CALSCALE:GREGORIAN
METHOD:PUBLISH
X-ORIGINAL-URL:https://www.bataviamoose682.org
X-WR-CALDESC:Events for Batavia Moose #682
REFRESH-INTERVAL;VALUE=DURATION:PT1H
X-Robots-Tag:noindex
X-PUBLISHED-TTL:PT1H
BEGIN:VTIMEZONE
TZID:UTC
BEGIN:STANDARD
TZOFFSETFROM:+0000
TZOFFSETTO:+0000
TZNAME:UTC
DTSTART:20250101T000000
END:STANDARD
END:VTIMEZONE
BEGIN:VEVENT
DTSTART;TZID=UTC:20260214T173000
DTEND;TZID=UTC:20260214T230000
DTSTAMP:20260422T223322
CREATED:20260209T204224Z
LAST-MODIFIED:20260209T204224Z
UID:10004191-1771090200-1771110000@www.bataviamoose682.org
SUMMARY:Valentine's Day Dinner and Live Music w/Infunktious
DESCRIPTION:Come out for Valentines Day Dinner specials and Live Music. Music starts at 8pm.\nInfunktious is more than a traditional cover band. While their sets consist of all covers\, they do them in a way that feels new and fresh. The style would best be described as a blues and rock-driven band that gets funky with elements of jam and jazz thrown in.\nThis event is for members and their qualified guests only.
URL:https://www.bataviamoose682.org/event/valentines-day-dinner-and-live-music-w-infunktious/
LOCATION:Batavia Moose Lodge
CATEGORIES:Live Music Event,Special Event
ATTACH;FMTTYPE=image/jpeg:https://www.bataviamoose682.org/wp-content/uploads/2026/02/Infunktious.jpg
END:VEVENT
BEGIN:VEVENT
DTSTART;TZID=UTC:20260314T120000
DTEND;TZID=UTC:20260314T170000
DTSTAMP:20260422T223322
CREATED:20260303T185037Z
LAST-MODIFIED:20260303T185037Z
UID:10004386-1773489600-1773507600@www.bataviamoose682.org
SUMMARY:St. Patrick's Day Party/Corned Beef & Cabbage Special/Pipe & Drums
DESCRIPTION:St. Patrick’s Day Party! \nJoin us for the BEST corned beef & cabbage in town! Get it as a dinner or sandwich! Starts at 12pm and goes till 5pm (or sold out)
URL:https://www.bataviamoose682.org/event/st-patricks-day-party-corned-beef-cabbage-special-pipe-drums/
LOCATION:Batavia Moose Lodge
CATEGORIES:Special Event
ATTACH;FMTTYPE=image/png:https://www.bataviamoose682.org/wp-content/uploads/2026/03/Copy-of-Pink-and-Blue-Picnic-Adoption-Party-Facebook-Event-Cover.png
END:VEVENT
BEGIN:VEVENT
DTSTART;TZID=UTC:20260321T100000
DTEND;TZID=UTC:20260321T120000
DTSTAMP:20260422T223322
CREATED:20260303T050901Z
LAST-MODIFIED:20260303T192322Z
UID:10000856-1774087200-1774094400@www.bataviamoose682.org
SUMMARY:Easter Egg Hunt
DESCRIPTION:Games\, Crafts\, Food and Family Fun! Open to current Moose members and their qualified guests/mini-Moosers (ages 0-12). \nPlease bring your own baskets to collect over 300 eggs & prizes! \nOpen to Moose Members & their qualified guests
URL:https://www.bataviamoose682.org/event/easter-egg-hunt/
LOCATION:Batavia Moose Lodge
CATEGORIES:Special Event
ATTACH;FMTTYPE=image/png:https://www.bataviamoose682.org/wp-content/uploads/2025/03/Easter-Egg-Hunt.png
END:VEVENT
BEGIN:VEVENT
DTSTART;TZID=UTC:20260418T090000
DTEND;TZID=UTC:20260418T170000
DTSTAMP:20260422T223322
CREATED:20260415T023008Z
LAST-MODIFIED:20260415T023008Z
UID:10004448-1776502800-1776531600@www.bataviamoose682.org
SUMMARY:Midwest Kubb Championship
DESCRIPTION:Saturday\, April 18th  • Oroni Field (Batavia Moose Lodge)\, 1535 Batavia Avenue\, Batavia\, IL\nPlease arrive by 8:30 am\, so we can start promptly at 9 am\nKlassic Kubb tournament rules with Batavia exception of alternating inkasters and the inkaster must take the first blasting throw.\nT-shirts – Raffles – Cash Prizes – Trophies – LunchRegister at the website: https://www.midwestkubbchampionship.com/
URL:https://www.bataviamoose682.org/event/midwest-kubb-championship/
LOCATION:Batavia Moose Lodge
CATEGORIES:Special Event
ATTACH;FMTTYPE=image/jpeg:https://www.bataviamoose682.org/wp-content/uploads/2026/04/Midwest-kubb-championship.jpg
END:VEVENT
BEGIN:VEVENT
DTSTART;TZID=UTC:20260422T183000
DTEND;TZID=UTC:20260422T200000
DTSTAMP:20260422T223322
CREATED:20260415T023722Z
LAST-MODIFIED:20260415T023722Z
UID:10004457-1776882600-1776888000@www.bataviamoose682.org
SUMMARY:Member Poker Night (for fun)
DESCRIPTION:A fun evening for Moose members who enjoy the game or have never played and want to learn. This will be a casual and friendly tournament. Good opportunity to learn for those planning to attend the real money event later in the month. \nWhat to know:\n✅ No cash involved. Free to play\, winners get bragging rights and a fun trophy/award.\n✅ Beginners and those wanting to learn the game are welcome \nEvent Highlights:\n• One tournament. Arrive by 6:15pm to get your chips. You are done once you run out of chips.\n• Players will rotate the dealer (Will not be dedicated experienced dealers)\n• Signup in advance so we know how many chips we’ll need (See lodge Facebook for signup link)\n• Suggested $10 donation to pay for supplies (each donation gets a raffle ticket for TBD prize) \nOpen to current members & their qualified guests
URL:https://www.bataviamoose682.org/event/member-poker-night-for-fun/
LOCATION:Batavia Moose Lodge
CATEGORIES:Special Event
ATTACH;FMTTYPE=image/png:https://www.bataviamoose682.org/wp-content/uploads/2026/04/Poker-Event.png
END:VEVENT
BEGIN:VEVENT
DTSTART;TZID=UTC:20260425T100000
DTEND;TZID=UTC:20260425T130000
DTSTAMP:20260422T223322
CREATED:20260415T024523Z
LAST-MODIFIED:20260415T024523Z
UID:10004459-1777111200-1777122000@www.bataviamoose682.org
SUMMARY:Lodge Spring Clean (Volunteer Opportunity)
DESCRIPTION:It’s time to band together and do some spring cleaning. We ask any available members to volunteer a few hours of their time to help get the lodge ready for our Spring and Summer activities. From a little extra social quarters & kid’s room cleaning to outside grounds clean up. We can use all the hands we can get
URL:https://www.bataviamoose682.org/event/lodge-spring-clean-volunteer-opportunity/2026-04-25/
LOCATION:Batavia Moose Lodge
CATEGORIES:Special Event
ATTACH;FMTTYPE=image/jpeg:https://www.bataviamoose682.org/wp-content/uploads/2026/04/spring-clean.jpg
END:VEVENT
BEGIN:VEVENT
DTSTART;TZID=UTC:20260426T100000
DTEND;TZID=UTC:20260426T130000
DTSTAMP:20260422T223322
CREATED:20260415T024523Z
LAST-MODIFIED:20260415T024523Z
UID:10004460-1777197600-1777208400@www.bataviamoose682.org
SUMMARY:Lodge Spring Clean (Volunteer Opportunity)
DESCRIPTION:It’s time to band together and do some spring cleaning. We ask any available members to volunteer a few hours of their time to help get the lodge ready for our Spring and Summer activities. From a little extra social quarters & kid’s room cleaning to outside grounds clean up. We can use all the hands we can get
URL:https://www.bataviamoose682.org/event/lodge-spring-clean-volunteer-opportunity/2026-04-26/
LOCATION:Batavia Moose Lodge
CATEGORIES:Special Event
ATTACH;FMTTYPE=image/jpeg:https://www.bataviamoose682.org/wp-content/uploads/2026/04/spring-clean.jpg
END:VEVENT
BEGIN:VEVENT
DTSTART;TZID=UTC:20260509T093000
DTEND;TZID=UTC:20260509T193000
DTSTAMP:20260422T223322
CREATED:20260209T210238Z
LAST-MODIFIED:20260228T211912Z
UID:10004198-1778319000-1778355000@www.bataviamoose682.org
SUMMARY:John Freedlund Memorial Golf Tournament 2026
DESCRIPTION:John Freedlund Memorial Golf Tournament \nSaturday\, May  9th\, 2026\nCheck-in @ 9:30am\nTee off @ 11:00am \nBliss Creek Golf Club\n1 Golfview Lane\nSugar Grove\, IL 60554 \nFORMAT: Four-person team Scramble\nCOST: $140/person – Includes golf\, steak dinner\, and contribution to scholarship. Dinner Only $40. Cash bar. \nSPONSORSHIPS*: $125 Hole sponsorships. Social Hour\, Lunch and Beverage Cart sponsorships also available. Great business recognition! \n*If you would like to be a sponsor for this great event\, please email craig.burgess@sbcglobal.net your company logo by May 1st\, 2026\, to be used along with your name so a sign can be made to recognize your contribution. \nPROCEEDS: This event is open to the public. Net proceeds will fund a Batavia High School Boys Basketball Scholarship in John’s name to be awarded at the annual Senior Awards Night in May 2026. \nFor questions or concerns please contact Chris Curl – Chris@cecgroup-llc.com or Craig Burgess – Craig.Burgess@sbcglobal.net
URL:https://www.bataviamoose682.org/event/john-freedlund-memorial-golf-tournament-2026/
LOCATION:Bliss Creak Golf Course\, 1 Golfview Lane\, Sugar Grove\, IL\, 60544\, United States
CATEGORIES:Open to the Public,Special Event
ATTACH;FMTTYPE=image/png:https://www.bataviamoose682.org/wp-content/uploads/2026/02/image-4.png
END:VEVENT
BEGIN:VEVENT
DTSTART;TZID=UTC:20260510T080000
DTEND;TZID=UTC:20260510T120000
DTSTAMP:20260422T223322
CREATED:20260401T203127Z
LAST-MODIFIED:20260407T214145Z
UID:10004445-1778400000-1778414400@www.bataviamoose682.org
SUMMARY:Mother's Day Brunch 2026
DESCRIPTION:Mother’s Day Brunch8am – 12pm\nReservations will be taken at 30min intervals. We ask that attendees be conscience of their timeframe and absolute max at 2 hours. \nWe will do our best to seat all reservations AT the time of their RSVP seating\, but there we appreciate your patience if there is a wait. \nWe will accept walk-ins BUT reservations take priority\, so there may be a wait to get a table if you chose to not rsvp. We will also use the Social Quarters for overflow if needed. \nPayment due upon arrival to brunch* – cash or credit card accepted. \n$25 Adult – $12 Kids (12 and under) – Free (Kids 5 and under) \n\nCurrent Moose Members & their qualified guests.\n*Moose ID will be checked at the door\, only current Moose members may make payment for the party.
URL:https://www.bataviamoose682.org/event/mothers-day-brunch-2026/
LOCATION:Batavia Moose Lodge
CATEGORIES:Special Event
END:VEVENT
BEGIN:VEVENT
DTSTART;TZID=UTC:20260829T130000
DTEND;TZID=UTC:20260829T230000
DTSTAMP:20260422T223322
CREATED:20260311T205514Z
LAST-MODIFIED:20260316T195415Z
UID:10004443-1788008400-1788044400@www.bataviamoose682.org
SUMMARY:Moose-a-Palooza (OPEN TO THE PUBLIC) 2026
DESCRIPTION:Better than ever? Our 9th annual event will feature 8 bands over 2 stages for a full afternoon and evening of fun and great music.  Bring your own lawn chair.  Food and beverages available for sale.\n\nAll net proceeds help the Batavia Moose Lodge support the needs of the children at Mooseheart Child City and School.  This event is brought to you by the Batavia Moose Legion.\nOur music line-up consists of amazing local talent with each band having a connection to our Lodge: \nMasus Financial Main Stage \n\nBig Al Wetzel Band  6:30 pm\nHead Honchos  4:00 pm\nSaint Astro  2:15 pm\nGNP  1:00 pm\n\n212 Degrees Construction Stage \n\nCorey Marshall Band  1:30 pm\nSour Crow  3:15 pm\nThe Sociables  5:15 pm\nPawnshop  9:00 pm\n\n$20/person – Get your tickets before July 30\, 2026 and SAVE $5!!!!\nTickets sales are donations and sales are final.  No refunds.  Gates open at 12:30 pm.\n\nSponsorship opportunities available.  Sponsor on-line or contact Kirk Kilker at kirkkilker@gmail.com.
URL:https://www.bataviamoose682.org/event/moose-a-palooza-2026/
LOCATION:Batavia Moose Lodge
CATEGORIES:Live Music Event,Open to the Public,Special Event
ATTACH;FMTTYPE=image/png:https://www.bataviamoose682.org/wp-content/uploads/2024/04/MAP-no-bg.png
END:VEVENT
END:VCALENDAR