BEGIN:VCALENDAR
VERSION:2.0
PRODID:-//Batavia Moose #682 - ECPv6.15.20//NONSGML v1.0//EN
CALSCALE:GREGORIAN
METHOD:PUBLISH
X-ORIGINAL-URL:https://www.bataviamoose682.org
X-WR-CALDESC:Events for Batavia Moose #682
REFRESH-INTERVAL;VALUE=DURATION:PT1H
X-Robots-Tag:noindex
X-PUBLISHED-TTL:PT1H
BEGIN:VTIMEZONE
TZID:UTC
BEGIN:STANDARD
TZOFFSETFROM:+0000
TZOFFSETTO:+0000
TZNAME:UTC
DTSTART:20240101T000000
END:STANDARD
END:VTIMEZONE
BEGIN:VEVENT
DTSTART;TZID=UTC:20251212T200000
DTEND;TZID=UTC:20251212T230000
DTSTAMP:20260421T200544
CREATED:20251203T213924Z
LAST-MODIFIED:20251203T213924Z
UID:10004164-1765569600-1765580400@www.bataviamoose682.org
SUMMARY:Karaoke
DESCRIPTION:
URL:https://www.bataviamoose682.org/event/karaoke-3/
CATEGORIES:Special Event
END:VEVENT
END:VCALENDAR