BEGIN:VCALENDAR
VERSION:2.0
PRODID:-//Batavia Moose #682 - ECPv6.15.20//NONSGML v1.0//EN
CALSCALE:GREGORIAN
METHOD:PUBLISH
X-ORIGINAL-URL:https://www.bataviamoose682.org
X-WR-CALDESC:Events for Batavia Moose #682
REFRESH-INTERVAL;VALUE=DURATION:PT1H
X-Robots-Tag:noindex
X-PUBLISHED-TTL:PT1H
BEGIN:VTIMEZONE
TZID:UTC
BEGIN:STANDARD
TZOFFSETFROM:+0000
TZOFFSETTO:+0000
TZNAME:UTC
DTSTART:20240101T000000
END:STANDARD
END:VTIMEZONE
BEGIN:VEVENT
DTSTART;TZID=UTC:20250920T173000
DTEND;TZID=UTC:20250920T200000
DTSTAMP:20260422T022338
CREATED:20250821T065456Z
LAST-MODIFIED:20250821T065456Z
UID:10004100-1758389400-1758398400@www.bataviamoose682.org
SUMMARY:Supper Club Evening - Grilled Steak Dinner
DESCRIPTION:Batavia Moose Legion presents: Grilled Steak Dinner with supper club theme. Ultimate Salad Bar. Drink Specials: Old Fashioneds and Pabst Blue Ribbon beer.
URL:https://www.bataviamoose682.org/event/supper-club-evening-grilled-steak-dinner/
CATEGORIES:Monthly Special,Special Event
ATTACH;FMTTYPE=image/png:https://www.bataviamoose682.org/wp-content/uploads/2025/08/Untitled-design-15.png
END:VEVENT
END:VCALENDAR