BEGIN:VCALENDAR
VERSION:2.0
PRODID:-//Batavia Moose #682 - ECPv6.15.20//NONSGML v1.0//EN
CALSCALE:GREGORIAN
METHOD:PUBLISH
X-WR-CALNAME:Batavia Moose #682
X-ORIGINAL-URL:https://www.bataviamoose682.org
X-WR-CALDESC:Events for Batavia Moose #682
REFRESH-INTERVAL;VALUE=DURATION:PT1H
X-Robots-Tag:noindex
X-PUBLISHED-TTL:PT1H
BEGIN:VTIMEZONE
TZID:UTC
BEGIN:STANDARD
TZOFFSETFROM:+0000
TZOFFSETTO:+0000
TZNAME:UTC
DTSTART:20240101T000000
END:STANDARD
END:VTIMEZONE
BEGIN:VEVENT
DTSTART;TZID=UTC:20250913T120000
DTEND;TZID=UTC:20250913T170000
DTSTAMP:20260422T022329
CREATED:20250821T075815Z
LAST-MODIFIED:20250821T075815Z
UID:10004123-1757764800-1757782800@www.bataviamoose682.org
SUMMARY:1/2 Way to St. Patrick's Day Party
DESCRIPTION:
URL:https://www.bataviamoose682.org/event/1-2-way-to-st-patricks-day-party/
LOCATION:Batavia Moose Lodge
CATEGORIES:Special Event
ATTACH;FMTTYPE=image/png:https://www.bataviamoose682.org/wp-content/uploads/2025/08/12-way-st-patty-day.png
END:VEVENT
END:VCALENDAR