BEGIN:VCALENDAR
VERSION:2.0
PRODID:-//Batavia Moose #682 - ECPv6.15.20//NONSGML v1.0//EN
CALSCALE:GREGORIAN
METHOD:PUBLISH
X-WR-CALNAME:Batavia Moose #682
X-ORIGINAL-URL:https://www.bataviamoose682.org
X-WR-CALDESC:Events for Batavia Moose #682
REFRESH-INTERVAL;VALUE=DURATION:PT1H
X-Robots-Tag:noindex
X-PUBLISHED-TTL:PT1H
BEGIN:VTIMEZONE
TZID:UTC
BEGIN:STANDARD
TZOFFSETFROM:+0000
TZOFFSETTO:+0000
TZNAME:UTC
DTSTART:20240101T000000
END:STANDARD
END:VTIMEZONE
BEGIN:VEVENT
DTSTART;TZID=UTC:20250406T080000
DTEND;TZID=UTC:20250406T120000
DTSTAMP:20260422T151356
CREATED:20250317T050212Z
LAST-MODIFIED:20250317T050212Z
UID:10000854-1743926400-1743940800@www.bataviamoose682.org
SUMMARY:Mike Warner Breakfast (presented by the Batavia Moose Riders)
DESCRIPTION:Join our Batavia Moose Riders as they bring their annual breakfast to the lodge…\n\nPancakesScrambled EggsHashbrownsBaconSausageMuffinsand more….\n$15 per person$5 for kids 12 & younger (under 5yrs old\, FREE)\nFull Bar will be available for purchase.
URL:https://www.bataviamoose682.org/event/mike-warner-breakfast-presented-by-the-batavia-moose-riders/
LOCATION:Batavia Moose Lodge
CATEGORIES:Special Event
ATTACH;FMTTYPE=image/jpeg:https://www.bataviamoose682.org/wp-content/uploads/2025/03/moose-rider-breakfast.jpg
END:VEVENT
END:VCALENDAR