BEGIN:VCALENDAR
VERSION:2.0
PRODID:-//Batavia Moose #682 - ECPv6.15.20//NONSGML v1.0//EN
CALSCALE:GREGORIAN
METHOD:PUBLISH
X-WR-CALNAME:Batavia Moose #682
X-ORIGINAL-URL:https://www.bataviamoose682.org
X-WR-CALDESC:Events for Batavia Moose #682
REFRESH-INTERVAL;VALUE=DURATION:PT1H
X-Robots-Tag:noindex
X-PUBLISHED-TTL:PT1H
BEGIN:VTIMEZONE
TZID:UTC
BEGIN:STANDARD
TZOFFSETFROM:+0000
TZOFFSETTO:+0000
TZNAME:UTC
DTSTART:20250101T000000
END:STANDARD
END:VTIMEZONE
BEGIN:VEVENT
DTSTART;TZID=UTC:20260314T120000
DTEND;TZID=UTC:20260314T170000
DTSTAMP:20260421T141859
CREATED:20260303T185037Z
LAST-MODIFIED:20260303T185037Z
UID:10004386-1773489600-1773507600@www.bataviamoose682.org
SUMMARY:St. Patrick's Day Party/Corned Beef & Cabbage Special/Pipe & Drums
DESCRIPTION:St. Patrick’s Day Party! \nJoin us for the BEST corned beef & cabbage in town! Get it as a dinner or sandwich! Starts at 12pm and goes till 5pm (or sold out)
URL:https://www.bataviamoose682.org/event/st-patricks-day-party-corned-beef-cabbage-special-pipe-drums/
LOCATION:Batavia Moose Lodge
CATEGORIES:Special Event
ATTACH;FMTTYPE=image/png:https://www.bataviamoose682.org/wp-content/uploads/2026/03/Copy-of-Pink-and-Blue-Picnic-Adoption-Party-Facebook-Event-Cover.png
END:VEVENT
BEGIN:VEVENT
DTSTART;TZID=UTC:20260321T100000
DTEND;TZID=UTC:20260321T120000
DTSTAMP:20260421T141859
CREATED:20260303T050901Z
LAST-MODIFIED:20260303T192322Z
UID:10000856-1774087200-1774094400@www.bataviamoose682.org
SUMMARY:Easter Egg Hunt
DESCRIPTION:Games\, Crafts\, Food and Family Fun! Open to current Moose members and their qualified guests/mini-Moosers (ages 0-12). \nPlease bring your own baskets to collect over 300 eggs & prizes! \nOpen to Moose Members & their qualified guests
URL:https://www.bataviamoose682.org/event/easter-egg-hunt/
LOCATION:Batavia Moose Lodge
CATEGORIES:Special Event
ATTACH;FMTTYPE=image/png:https://www.bataviamoose682.org/wp-content/uploads/2025/03/Easter-Egg-Hunt.png
END:VEVENT
END:VCALENDAR