BEGIN:VCALENDAR
VERSION:2.0
PRODID:-//Batavia Moose #682 - ECPv6.15.20//NONSGML v1.0//EN
CALSCALE:GREGORIAN
METHOD:PUBLISH
X-ORIGINAL-URL:https://www.bataviamoose682.org
X-WR-CALDESC:Events for Batavia Moose #682
REFRESH-INTERVAL;VALUE=DURATION:PT1H
X-Robots-Tag:noindex
X-PUBLISHED-TTL:PT1H
BEGIN:VTIMEZONE
TZID:UTC
BEGIN:STANDARD
TZOFFSETFROM:+0000
TZOFFSETTO:+0000
TZNAME:UTC
DTSTART:20240101T000000
END:STANDARD
END:VTIMEZONE
BEGIN:VEVENT
DTSTART;TZID=UTC:20250823T130000
DTEND;TZID=UTC:20250823T210000
DTSTAMP:20260421T214925
CREATED:20250718T195835Z
LAST-MODIFIED:20250718T195835Z
UID:10003849-1755954000-1755982800@www.bataviamoose682.org
SUMMARY:Moose-a-Palooza (OPEN TO THE PUBLIC)
DESCRIPTION:Our 8th annual Moose-a-Palooza Music Fest and Fundraiser brings back your favorites from year’s past.\n\nAll net proceeds from this event help the Batavia Moose Lodge and their support of the needs of the kids at Mooseheart Child City and School. Event will be open to the public. Tickets to go on sale in April.\n\n7:00 pm Jimmy Nick and Don’t Tell Mama– Back by popular demand! Jimmy is an old-fashioned guitar slinging blues prodigy. His mission is to expose the next generation to the blues. Driven by his Motown-tight band\, Don’t Tell Mama\, Jimmy excites crowds with his electrifying guitar work\, fresh harp\, clever lyrics and animated stage theatrics. His high energy blues and rock-n-roll captivate audiences\, and forge instant fans.\n\n5:00 pm: Ivy Ford – Back by popular demand! Versatile\, talented\, and an old soul. From singing the blues to being sultry\, Ivy is an indigo artist whose gift connects those who are around her and those who listen. The “Blues Kitten” serves an experience of music to soothe your soul\, fill your heart\, with an energy that is most magical.\n\n3:00pm: Jonny Lyons and the Pride – Back by popular demand! From Cash to Presley\, to his own recordings\, Jonny and his dream 5-piece show band\, the Pride\, entertain folks all over North America captivating audiences with a stage presence and a touch from the past.\n\n1:00pm: The Joliet Jakes – Welcome to the Moose-a-Palooza premier of the Joliet Jakes who will be kicking off our day of music\, fun and dance.. A show band that plays the music of The Blues Brothers and rhythm and blues. They are on a mission from God to help support the kids at Mooseheart!\nPlease bring your own chairs for our outdoor venue. Food and beverage will be available for purchase.\n\nGet tickets at: https://www.eventbrite.com/e/moose-a-palooza-music-festival-and-fundraiser-open-to-the-public-tickets-1364347583349?aff=ebdsoporgprofile
URL:https://www.bataviamoose682.org/event/moose-a-palooza2025/
LOCATION:Batavia Moose Lodge
CATEGORIES:Live Music Event,Open to the Public,Special Event
ATTACH;FMTTYPE=image/png:https://www.bataviamoose682.org/wp-content/uploads/2024/04/MAP-no-bg.png
END:VEVENT
END:VCALENDAR