BEGIN:VCALENDAR
VERSION:2.0
PRODID:-//Batavia Moose #682 - ECPv6.15.20//NONSGML v1.0//EN
CALSCALE:GREGORIAN
METHOD:PUBLISH
X-WR-CALNAME:Batavia Moose #682
X-ORIGINAL-URL:https://www.bataviamoose682.org
X-WR-CALDESC:Events for Batavia Moose #682
REFRESH-INTERVAL;VALUE=DURATION:PT1H
X-Robots-Tag:noindex
X-PUBLISHED-TTL:PT1H
BEGIN:VTIMEZONE
TZID:UTC
BEGIN:STANDARD
TZOFFSETFROM:+0000
TZOFFSETTO:+0000
TZNAME:UTC
DTSTART:20290101T000000
END:STANDARD
END:VTIMEZONE
BEGIN:VEVENT
DTSTART;TZID=UTC:20300314T180000
DTEND;TZID=UTC:20300314T190000
DTSTAMP:20260424T144744
CREATED:20250507T064303Z
LAST-MODIFIED:20250507T064303Z
UID:10001731-1899741600-1899745200@www.bataviamoose682.org
SUMMARY:Rod & Gun Monthly Meeting
DESCRIPTION:
URL:https://www.bataviamoose682.org/event/rod-gun-monthly-meeting/2030-03-14/
CATEGORIES:Monthly Meeting
END:VEVENT
BEGIN:VEVENT
DTSTART;TZID=UTC:20300318T170000
DTEND;TZID=UTC:20300318T200000
DTSTAMP:20260424T144744
CREATED:20250821T051442Z
LAST-MODIFIED:20250821T051444Z
UID:10003302-1900083600-1900094400@www.bataviamoose682.org
SUMMARY:Comfort Food Monday
DESCRIPTION:
URL:https://www.bataviamoose682.org/event/comfort-food-monday-2/2030-03-18/
CATEGORIES:Monthly Meeting
END:VEVENT
BEGIN:VEVENT
DTSTART;TZID=UTC:20300325T170000
DTEND;TZID=UTC:20300325T200000
DTSTAMP:20260424T144744
CREATED:20250821T051442Z
LAST-MODIFIED:20250821T051444Z
UID:10003303-1900688400-1900699200@www.bataviamoose682.org
SUMMARY:Comfort Food Monday
DESCRIPTION:
URL:https://www.bataviamoose682.org/event/comfort-food-monday-2/2030-03-25/
CATEGORIES:Monthly Meeting
END:VEVENT
BEGIN:VEVENT
DTSTART;TZID=UTC:20300401T170000
DTEND;TZID=UTC:20300401T200000
DTSTAMP:20260424T144744
CREATED:20250821T051442Z
LAST-MODIFIED:20250821T051444Z
UID:10003304-1901293200-1901304000@www.bataviamoose682.org
SUMMARY:Comfort Food Monday
DESCRIPTION:
URL:https://www.bataviamoose682.org/event/comfort-food-monday-2/2030-04-01/
CATEGORIES:Monthly Meeting
END:VEVENT
BEGIN:VEVENT
DTSTART;TZID=UTC:20300401T190000
DTEND;TZID=UTC:20300401T200000
DTSTAMP:20260424T144744
CREATED:20250821T051547Z
LAST-MODIFIED:20250821T051549Z
UID:10003996-1901300400-1901304000@www.bataviamoose682.org
SUMMARY:Lodge General Meeting
DESCRIPTION:1st & 3rd Monday of each month @ 7:00 p.m. \n\nAll current members are welcome to attend.\nWe recommend each member attend a few meetings a year\nMeetings may include discussions regarding:\n\nBusiness conducted in the lodge\nRegional business\nUpcoming events & volunteer opportunities\nFundraiser ideas or proposals \n\n\nProper conduct & dress…\n\nNo alcohol allowed in meetings\nWhen in doubt\, don’t wear it\n\n\n\n 
URL:https://www.bataviamoose682.org/event/lodge-general-meeting-3-2/2030-04-01/
CATEGORIES:Monthly Meeting
END:VEVENT
BEGIN:VEVENT
DTSTART;TZID=UTC:20300408T170000
DTEND;TZID=UTC:20300408T200000
DTSTAMP:20260424T144744
CREATED:20250821T051442Z
LAST-MODIFIED:20250821T051444Z
UID:10003305-1901898000-1901908800@www.bataviamoose682.org
SUMMARY:Comfort Food Monday
DESCRIPTION:
URL:https://www.bataviamoose682.org/event/comfort-food-monday-2/2030-04-08/
CATEGORIES:Monthly Meeting
END:VEVENT
BEGIN:VEVENT
DTSTART;TZID=UTC:20300411T180000
DTEND;TZID=UTC:20300411T190000
DTSTAMP:20260424T144744
CREATED:20250507T064303Z
LAST-MODIFIED:20250507T064303Z
UID:10001732-1902160800-1902164400@www.bataviamoose682.org
SUMMARY:Rod & Gun Monthly Meeting
DESCRIPTION:
URL:https://www.bataviamoose682.org/event/rod-gun-monthly-meeting/2030-04-11/
CATEGORIES:Monthly Meeting
END:VEVENT
BEGIN:VEVENT
DTSTART;TZID=UTC:20300415T170000
DTEND;TZID=UTC:20300415T200000
DTSTAMP:20260424T144744
CREATED:20250821T051442Z
LAST-MODIFIED:20250821T051444Z
UID:10003306-1902502800-1902513600@www.bataviamoose682.org
SUMMARY:Comfort Food Monday
DESCRIPTION:
URL:https://www.bataviamoose682.org/event/comfort-food-monday-2/2030-04-15/
CATEGORIES:Monthly Meeting
END:VEVENT
BEGIN:VEVENT
DTSTART;TZID=UTC:20300422T170000
DTEND;TZID=UTC:20300422T200000
DTSTAMP:20260424T144744
CREATED:20250821T051442Z
LAST-MODIFIED:20250821T051444Z
UID:10003307-1903107600-1903118400@www.bataviamoose682.org
SUMMARY:Comfort Food Monday
DESCRIPTION:
URL:https://www.bataviamoose682.org/event/comfort-food-monday-2/2030-04-22/
CATEGORIES:Monthly Meeting
END:VEVENT
BEGIN:VEVENT
DTSTART;TZID=UTC:20300429T170000
DTEND;TZID=UTC:20300429T200000
DTSTAMP:20260424T144744
CREATED:20250821T051442Z
LAST-MODIFIED:20250821T051444Z
UID:10003308-1903712400-1903723200@www.bataviamoose682.org
SUMMARY:Comfort Food Monday
DESCRIPTION:
URL:https://www.bataviamoose682.org/event/comfort-food-monday-2/2030-04-29/
CATEGORIES:Monthly Meeting
END:VEVENT
BEGIN:VEVENT
DTSTART;TZID=UTC:20300506T170000
DTEND;TZID=UTC:20300506T200000
DTSTAMP:20260424T144744
CREATED:20250821T051442Z
LAST-MODIFIED:20250821T051444Z
UID:10003309-1904317200-1904328000@www.bataviamoose682.org
SUMMARY:Comfort Food Monday
DESCRIPTION:
URL:https://www.bataviamoose682.org/event/comfort-food-monday-2/2030-05-06/
CATEGORIES:Monthly Meeting
END:VEVENT
BEGIN:VEVENT
DTSTART;TZID=UTC:20300506T190000
DTEND;TZID=UTC:20300506T200000
DTSTAMP:20260424T144744
CREATED:20250821T051547Z
LAST-MODIFIED:20250821T051549Z
UID:10003997-1904324400-1904328000@www.bataviamoose682.org
SUMMARY:Lodge General Meeting
DESCRIPTION:1st & 3rd Monday of each month @ 7:00 p.m. \n\nAll current members are welcome to attend.\nWe recommend each member attend a few meetings a year\nMeetings may include discussions regarding:\n\nBusiness conducted in the lodge\nRegional business\nUpcoming events & volunteer opportunities\nFundraiser ideas or proposals \n\n\nProper conduct & dress…\n\nNo alcohol allowed in meetings\nWhen in doubt\, don’t wear it\n\n\n\n 
URL:https://www.bataviamoose682.org/event/lodge-general-meeting-3-2/2030-05-06/
CATEGORIES:Monthly Meeting
END:VEVENT
BEGIN:VEVENT
DTSTART;TZID=UTC:20300513T170000
DTEND;TZID=UTC:20300513T200000
DTSTAMP:20260424T144744
CREATED:20250821T051442Z
LAST-MODIFIED:20250821T051444Z
UID:10003928-1904922000-1904932800@www.bataviamoose682.org
SUMMARY:Comfort Food Monday
DESCRIPTION:
URL:https://www.bataviamoose682.org/event/comfort-food-monday-2/2030-05-13/
CATEGORIES:Monthly Meeting
END:VEVENT
BEGIN:VEVENT
DTSTART;TZID=UTC:20300520T170000
DTEND;TZID=UTC:20300520T200000
DTSTAMP:20260424T144744
CREATED:20250821T051442Z
LAST-MODIFIED:20250821T051444Z
UID:10003929-1905526800-1905537600@www.bataviamoose682.org
SUMMARY:Comfort Food Monday
DESCRIPTION:
URL:https://www.bataviamoose682.org/event/comfort-food-monday-2/2030-05-20/
CATEGORIES:Monthly Meeting
END:VEVENT
BEGIN:VEVENT
DTSTART;TZID=UTC:20300527T170000
DTEND;TZID=UTC:20300527T200000
DTSTAMP:20260424T144744
CREATED:20250821T051442Z
LAST-MODIFIED:20250821T051444Z
UID:10003930-1906131600-1906142400@www.bataviamoose682.org
SUMMARY:Comfort Food Monday
DESCRIPTION:
URL:https://www.bataviamoose682.org/event/comfort-food-monday-2/2030-05-27/
CATEGORIES:Monthly Meeting
END:VEVENT
BEGIN:VEVENT
DTSTART;TZID=UTC:20300603T170000
DTEND;TZID=UTC:20300603T200000
DTSTAMP:20260424T144744
CREATED:20250821T051442Z
LAST-MODIFIED:20250821T051444Z
UID:10003931-1906736400-1906747200@www.bataviamoose682.org
SUMMARY:Comfort Food Monday
DESCRIPTION:
URL:https://www.bataviamoose682.org/event/comfort-food-monday-2/2030-06-03/
CATEGORIES:Monthly Meeting
END:VEVENT
BEGIN:VEVENT
DTSTART;TZID=UTC:20300603T190000
DTEND;TZID=UTC:20300603T200000
DTSTAMP:20260424T144744
CREATED:20250821T051547Z
LAST-MODIFIED:20250821T051549Z
UID:10003998-1906743600-1906747200@www.bataviamoose682.org
SUMMARY:Lodge General Meeting
DESCRIPTION:1st & 3rd Monday of each month @ 7:00 p.m. \n\nAll current members are welcome to attend.\nWe recommend each member attend a few meetings a year\nMeetings may include discussions regarding:\n\nBusiness conducted in the lodge\nRegional business\nUpcoming events & volunteer opportunities\nFundraiser ideas or proposals \n\n\nProper conduct & dress…\n\nNo alcohol allowed in meetings\nWhen in doubt\, don’t wear it\n\n\n\n 
URL:https://www.bataviamoose682.org/event/lodge-general-meeting-3-2/2030-06-03/
CATEGORIES:Monthly Meeting
END:VEVENT
BEGIN:VEVENT
DTSTART;TZID=UTC:20300610T170000
DTEND;TZID=UTC:20300610T200000
DTSTAMP:20260424T144744
CREATED:20250821T051442Z
LAST-MODIFIED:20250821T051444Z
UID:10003932-1907341200-1907352000@www.bataviamoose682.org
SUMMARY:Comfort Food Monday
DESCRIPTION:
URL:https://www.bataviamoose682.org/event/comfort-food-monday-2/2030-06-10/
CATEGORIES:Monthly Meeting
END:VEVENT
BEGIN:VEVENT
DTSTART;TZID=UTC:20300617T170000
DTEND;TZID=UTC:20300617T200000
DTSTAMP:20260424T144744
CREATED:20250821T051442Z
LAST-MODIFIED:20250821T051444Z
UID:10003933-1907946000-1907956800@www.bataviamoose682.org
SUMMARY:Comfort Food Monday
DESCRIPTION:
URL:https://www.bataviamoose682.org/event/comfort-food-monday-2/2030-06-17/
CATEGORIES:Monthly Meeting
END:VEVENT
BEGIN:VEVENT
DTSTART;TZID=UTC:20300624T170000
DTEND;TZID=UTC:20300624T200000
DTSTAMP:20260424T144744
CREATED:20250821T051442Z
LAST-MODIFIED:20250821T051444Z
UID:10003934-1908550800-1908561600@www.bataviamoose682.org
SUMMARY:Comfort Food Monday
DESCRIPTION:
URL:https://www.bataviamoose682.org/event/comfort-food-monday-2/2030-06-24/
CATEGORIES:Monthly Meeting
END:VEVENT
BEGIN:VEVENT
DTSTART;TZID=UTC:20300701T170000
DTEND;TZID=UTC:20300701T200000
DTSTAMP:20260424T144744
CREATED:20250821T051442Z
LAST-MODIFIED:20250821T051444Z
UID:10003935-1909155600-1909166400@www.bataviamoose682.org
SUMMARY:Comfort Food Monday
DESCRIPTION:
URL:https://www.bataviamoose682.org/event/comfort-food-monday-2/2030-07-01/
CATEGORIES:Monthly Meeting
END:VEVENT
BEGIN:VEVENT
DTSTART;TZID=UTC:20300701T190000
DTEND;TZID=UTC:20300701T200000
DTSTAMP:20260424T144744
CREATED:20250821T051547Z
LAST-MODIFIED:20250821T051549Z
UID:10003999-1909162800-1909166400@www.bataviamoose682.org
SUMMARY:Lodge General Meeting
DESCRIPTION:1st & 3rd Monday of each month @ 7:00 p.m. \n\nAll current members are welcome to attend.\nWe recommend each member attend a few meetings a year\nMeetings may include discussions regarding:\n\nBusiness conducted in the lodge\nRegional business\nUpcoming events & volunteer opportunities\nFundraiser ideas or proposals \n\n\nProper conduct & dress…\n\nNo alcohol allowed in meetings\nWhen in doubt\, don’t wear it\n\n\n\n 
URL:https://www.bataviamoose682.org/event/lodge-general-meeting-3-2/2030-07-01/
CATEGORIES:Monthly Meeting
END:VEVENT
BEGIN:VEVENT
DTSTART;TZID=UTC:20300708T170000
DTEND;TZID=UTC:20300708T200000
DTSTAMP:20260424T144744
CREATED:20250821T051442Z
LAST-MODIFIED:20250821T051444Z
UID:10003936-1909760400-1909771200@www.bataviamoose682.org
SUMMARY:Comfort Food Monday
DESCRIPTION:
URL:https://www.bataviamoose682.org/event/comfort-food-monday-2/2030-07-08/
CATEGORIES:Monthly Meeting
END:VEVENT
BEGIN:VEVENT
DTSTART;TZID=UTC:20300715T170000
DTEND;TZID=UTC:20300715T200000
DTSTAMP:20260424T144744
CREATED:20250821T051442Z
LAST-MODIFIED:20250821T051444Z
UID:10003937-1910365200-1910376000@www.bataviamoose682.org
SUMMARY:Comfort Food Monday
DESCRIPTION:
URL:https://www.bataviamoose682.org/event/comfort-food-monday-2/2030-07-15/
CATEGORIES:Monthly Meeting
END:VEVENT
BEGIN:VEVENT
DTSTART;TZID=UTC:20300722T170000
DTEND;TZID=UTC:20300722T200000
DTSTAMP:20260424T144744
CREATED:20250821T051442Z
LAST-MODIFIED:20250821T051444Z
UID:10003938-1910970000-1910980800@www.bataviamoose682.org
SUMMARY:Comfort Food Monday
DESCRIPTION:
URL:https://www.bataviamoose682.org/event/comfort-food-monday-2/2030-07-22/
CATEGORIES:Monthly Meeting
END:VEVENT
BEGIN:VEVENT
DTSTART;TZID=UTC:20300729T170000
DTEND;TZID=UTC:20300729T200000
DTSTAMP:20260424T144744
CREATED:20250821T051442Z
LAST-MODIFIED:20250821T051444Z
UID:10003939-1911574800-1911585600@www.bataviamoose682.org
SUMMARY:Comfort Food Monday
DESCRIPTION:
URL:https://www.bataviamoose682.org/event/comfort-food-monday-2/2030-07-29/
CATEGORIES:Monthly Meeting
END:VEVENT
BEGIN:VEVENT
DTSTART;TZID=UTC:20300805T170000
DTEND;TZID=UTC:20300805T200000
DTSTAMP:20260424T144744
CREATED:20250821T051442Z
LAST-MODIFIED:20250821T051444Z
UID:10003940-1912179600-1912190400@www.bataviamoose682.org
SUMMARY:Comfort Food Monday
DESCRIPTION:
URL:https://www.bataviamoose682.org/event/comfort-food-monday-2/2030-08-05/
CATEGORIES:Monthly Meeting
END:VEVENT
BEGIN:VEVENT
DTSTART;TZID=UTC:20300805T190000
DTEND;TZID=UTC:20300805T200000
DTSTAMP:20260424T144744
CREATED:20250821T051547Z
LAST-MODIFIED:20250821T051549Z
UID:10004000-1912186800-1912190400@www.bataviamoose682.org
SUMMARY:Lodge General Meeting
DESCRIPTION:1st & 3rd Monday of each month @ 7:00 p.m. \n\nAll current members are welcome to attend.\nWe recommend each member attend a few meetings a year\nMeetings may include discussions regarding:\n\nBusiness conducted in the lodge\nRegional business\nUpcoming events & volunteer opportunities\nFundraiser ideas or proposals \n\n\nProper conduct & dress…\n\nNo alcohol allowed in meetings\nWhen in doubt\, don’t wear it\n\n\n\n 
URL:https://www.bataviamoose682.org/event/lodge-general-meeting-3-2/2030-08-05/
CATEGORIES:Monthly Meeting
END:VEVENT
BEGIN:VEVENT
DTSTART;TZID=UTC:20300812T170000
DTEND;TZID=UTC:20300812T200000
DTSTAMP:20260424T144744
CREATED:20250821T051442Z
LAST-MODIFIED:20250821T051444Z
UID:10003941-1912784400-1912795200@www.bataviamoose682.org
SUMMARY:Comfort Food Monday
DESCRIPTION:
URL:https://www.bataviamoose682.org/event/comfort-food-monday-2/2030-08-12/
CATEGORIES:Monthly Meeting
END:VEVENT
BEGIN:VEVENT
DTSTART;TZID=UTC:20300819T170000
DTEND;TZID=UTC:20300819T200000
DTSTAMP:20260424T144744
CREATED:20250821T051442Z
LAST-MODIFIED:20250821T051444Z
UID:10003942-1913389200-1913400000@www.bataviamoose682.org
SUMMARY:Comfort Food Monday
DESCRIPTION:
URL:https://www.bataviamoose682.org/event/comfort-food-monday-2/2030-08-19/
CATEGORIES:Monthly Meeting
END:VEVENT
END:VCALENDAR