BEGIN:VCALENDAR
VERSION:2.0
PRODID:-//Batavia Moose #682 - ECPv6.15.20//NONSGML v1.0//EN
CALSCALE:GREGORIAN
METHOD:PUBLISH
X-ORIGINAL-URL:https://www.bataviamoose682.org
X-WR-CALDESC:Events for Batavia Moose #682
REFRESH-INTERVAL;VALUE=DURATION:PT1H
X-Robots-Tag:noindex
X-PUBLISHED-TTL:PT1H
BEGIN:VTIMEZONE
TZID:UTC
BEGIN:STANDARD
TZOFFSETFROM:+0000
TZOFFSETTO:+0000
TZNAME:UTC
DTSTART:20280101T000000
END:STANDARD
END:VTIMEZONE
BEGIN:VEVENT
DTSTART;TZID=UTC:20290423T170000
DTEND;TZID=UTC:20290423T200000
DTSTAMP:20260423T181815
CREATED:20250821T051442Z
LAST-MODIFIED:20250821T051444Z
UID:10003255-1871658000-1871668800@www.bataviamoose682.org
SUMMARY:Comfort Food Monday
DESCRIPTION:
URL:https://www.bataviamoose682.org/event/comfort-food-monday-2/2029-04-23/
CATEGORIES:Monthly Meeting
END:VEVENT
BEGIN:VEVENT
DTSTART;TZID=UTC:20290430T170000
DTEND;TZID=UTC:20290430T200000
DTSTAMP:20260423T181815
CREATED:20250821T051442Z
LAST-MODIFIED:20250821T051444Z
UID:10003256-1872262800-1872273600@www.bataviamoose682.org
SUMMARY:Comfort Food Monday
DESCRIPTION:
URL:https://www.bataviamoose682.org/event/comfort-food-monday-2/2029-04-30/
CATEGORIES:Monthly Meeting
END:VEVENT
BEGIN:VEVENT
DTSTART;TZID=UTC:20290503T184500
DTEND;TZID=UTC:20290503T194500
DTSTAMP:20260423T181815
CREATED:20240220T230013Z
LAST-MODIFIED:20250306T022809Z
UID:10000059-1872528300-1872531900@www.bataviamoose682.org
SUMMARY:Moose Rider's Monthly Meeting
DESCRIPTION:Join us for our monthly Batavia Moose Rider’s Meeting. \nThe Moose Riders are consistently among the fastest growing and most “active” of all Moose Lodge Activity Groups. $20 annual dues. \nMoose Riders is open to any current Moose member. No motorcycle required to join.
URL:https://www.bataviamoose682.org/event/moose-riders-monthly-meeting/2029-05-03/
LOCATION:Batavia Moose Lodge
CATEGORIES:Monthly Meeting
ATTACH;FMTTYPE=image/png:https://www.bataviamoose682.org/wp-content/uploads/2024/02/Untitled-design-21-e1708489780661.png
END:VEVENT
BEGIN:VEVENT
DTSTART;TZID=UTC:20290507T170000
DTEND;TZID=UTC:20290507T200000
DTSTAMP:20260423T181815
CREATED:20250821T051442Z
LAST-MODIFIED:20250821T051444Z
UID:10003257-1872867600-1872878400@www.bataviamoose682.org
SUMMARY:Comfort Food Monday
DESCRIPTION:
URL:https://www.bataviamoose682.org/event/comfort-food-monday-2/2029-05-07/
CATEGORIES:Monthly Meeting
END:VEVENT
BEGIN:VEVENT
DTSTART;TZID=UTC:20290507T190000
DTEND;TZID=UTC:20290507T200000
DTSTAMP:20260423T181815
CREATED:20250821T051547Z
LAST-MODIFIED:20250821T051549Z
UID:10003985-1872874800-1872878400@www.bataviamoose682.org
SUMMARY:Lodge General Meeting
DESCRIPTION:1st & 3rd Monday of each month @ 7:00 p.m. \n\nAll current members are welcome to attend.\nWe recommend each member attend a few meetings a year\nMeetings may include discussions regarding:\n\nBusiness conducted in the lodge\nRegional business\nUpcoming events & volunteer opportunities\nFundraiser ideas or proposals \n\n\nProper conduct & dress…\n\nNo alcohol allowed in meetings\nWhen in doubt\, don’t wear it\n\n\n\n 
URL:https://www.bataviamoose682.org/event/lodge-general-meeting-3-2/2029-05-07/
CATEGORIES:Monthly Meeting
END:VEVENT
BEGIN:VEVENT
DTSTART;TZID=UTC:20290510T180000
DTEND;TZID=UTC:20290510T190000
DTSTAMP:20260423T181815
CREATED:20250507T064303Z
LAST-MODIFIED:20250507T064303Z
UID:10001721-1873130400-1873134000@www.bataviamoose682.org
SUMMARY:Rod & Gun Monthly Meeting
DESCRIPTION:
URL:https://www.bataviamoose682.org/event/rod-gun-monthly-meeting/2029-05-10/
CATEGORIES:Monthly Meeting
END:VEVENT
BEGIN:VEVENT
DTSTART;TZID=UTC:20290514T170000
DTEND;TZID=UTC:20290514T200000
DTSTAMP:20260423T181815
CREATED:20250821T051442Z
LAST-MODIFIED:20250821T051444Z
UID:10003258-1873472400-1873483200@www.bataviamoose682.org
SUMMARY:Comfort Food Monday
DESCRIPTION:
URL:https://www.bataviamoose682.org/event/comfort-food-monday-2/2029-05-14/
CATEGORIES:Monthly Meeting
END:VEVENT
BEGIN:VEVENT
DTSTART;TZID=UTC:20290514T190000
DTEND;TZID=UTC:20290514T200000
DTSTAMP:20260423T181815
CREATED:20250306T033232Z
LAST-MODIFIED:20250306T033232Z
UID:10000240-1873479600-1873483200@www.bataviamoose682.org
SUMMARY:Moose Legion Meeting
DESCRIPTION:MOOSE LEGION\nTHE MEN WHO GET THINGS DONE \n\nAlso known as the Degree of Service. The purpose of this degree is to band together the loyal and devoted Moose members who desire to make further contributions to the humanitarian objectives of our Order while providing fun and entertaining activities for members and their families.  The official colors of the Moose Legion are red\, white and purple with purple being predominant. You will also see Moose Legionnaires sporting maroon blazers and informal vests. \n\nMeetings are the 2nd Monday of each month at 7:00pm \n$20 annual dues \nFellowship Degree of Honor  \n\nHonorary degree of the Loyal Order of Moose conferred only upon Moose Legionnaires who are recommended by the Fellows of their Lodge and approved by the Pilgrim Council. The official regalia of a Fellow is a French-blue blazer featuring the Fellowship logo\, coordinated necktie\, white shirt and black trousers. \n\nPilgrim Degree of Merit  \nHighest honor that can be bestowed upon a member of the Loyal Order of Moose. This Degree is conferred only in the House of God at Mooseheart and comes as a reward for extraordinary service to the Order. The official regalia of a Pilgrim is a gold blazer featuring the Pilgrim logo\, coordinated necktie\, white shirt and black trousers!
URL:https://www.bataviamoose682.org/event/moose-legion-meeting/2029-05-14/
CATEGORIES:Monthly Meeting
END:VEVENT
BEGIN:VEVENT
DTSTART;TZID=UTC:20290517T183000
DTEND;TZID=UTC:20290517T190000
DTSTAMP:20260423T181815
CREATED:20250317T044339Z
LAST-MODIFIED:20250317T044339Z
UID:10000574-1873737000-1873738800@www.bataviamoose682.org
SUMMARY:Women of the Moose Monthly Meeting
DESCRIPTION:Women of the Moose unite for our monthly meeting.\nNot a WOTM? Ask us and we can get you more information.
URL:https://www.bataviamoose682.org/event/women-of-the-moose-monthly-meeting/2029-05-17/
LOCATION:Batavia Moose Lodge
CATEGORIES:Monthly Meeting
ATTACH;FMTTYPE=image/png:https://www.bataviamoose682.org/wp-content/uploads/2022/03/KLKE52091.png
END:VEVENT
BEGIN:VEVENT
DTSTART;TZID=UTC:20290521T170000
DTEND;TZID=UTC:20290521T200000
DTSTAMP:20260423T181815
CREATED:20250821T051442Z
LAST-MODIFIED:20250821T051444Z
UID:10003259-1874077200-1874088000@www.bataviamoose682.org
SUMMARY:Comfort Food Monday
DESCRIPTION:
URL:https://www.bataviamoose682.org/event/comfort-food-monday-2/2029-05-21/
CATEGORIES:Monthly Meeting
END:VEVENT
BEGIN:VEVENT
DTSTART;TZID=UTC:20290521T190000
DTEND;TZID=UTC:20290521T200000
DTSTAMP:20260423T181815
CREATED:20250306T033105Z
LAST-MODIFIED:20250306T033306Z
UID:10000180-1874084400-1874088000@www.bataviamoose682.org
SUMMARY:Lodge General Meeting
DESCRIPTION:1st & 3rd Monday of each month @ 7:00 p.m. \n\nAll current members are welcome to attend.\nWe recommend each member attend a few meetings a year\nMeetings may include discussions regarding:\n\nBusiness conducted in the lodge\nRegional business\nUpcoming events & volunteer opportunities\nFundraiser ideas or proposals \n\n\nProper conduct & dress…\n\nNo alcohol allowed in meetings\nWhen in doubt\, don’t wear it
URL:https://www.bataviamoose682.org/event/lodge-general-meeting-2/2029-05-21/
CATEGORIES:Monthly Meeting
END:VEVENT
BEGIN:VEVENT
DTSTART;TZID=UTC:20290528T170000
DTEND;TZID=UTC:20290528T200000
DTSTAMP:20260423T181815
CREATED:20250821T051442Z
LAST-MODIFIED:20250821T051444Z
UID:10003260-1874682000-1874692800@www.bataviamoose682.org
SUMMARY:Comfort Food Monday
DESCRIPTION:
URL:https://www.bataviamoose682.org/event/comfort-food-monday-2/2029-05-28/
CATEGORIES:Monthly Meeting
END:VEVENT
BEGIN:VEVENT
DTSTART;TZID=UTC:20290604T170000
DTEND;TZID=UTC:20290604T200000
DTSTAMP:20260423T181815
CREATED:20250821T051442Z
LAST-MODIFIED:20250821T051444Z
UID:10003261-1875286800-1875297600@www.bataviamoose682.org
SUMMARY:Comfort Food Monday
DESCRIPTION:
URL:https://www.bataviamoose682.org/event/comfort-food-monday-2/2029-06-04/
CATEGORIES:Monthly Meeting
END:VEVENT
BEGIN:VEVENT
DTSTART;TZID=UTC:20290604T190000
DTEND;TZID=UTC:20290604T200000
DTSTAMP:20260423T181815
CREATED:20250821T051547Z
LAST-MODIFIED:20250821T051549Z
UID:10003986-1875294000-1875297600@www.bataviamoose682.org
SUMMARY:Lodge General Meeting
DESCRIPTION:1st & 3rd Monday of each month @ 7:00 p.m. \n\nAll current members are welcome to attend.\nWe recommend each member attend a few meetings a year\nMeetings may include discussions regarding:\n\nBusiness conducted in the lodge\nRegional business\nUpcoming events & volunteer opportunities\nFundraiser ideas or proposals \n\n\nProper conduct & dress…\n\nNo alcohol allowed in meetings\nWhen in doubt\, don’t wear it\n\n\n\n 
URL:https://www.bataviamoose682.org/event/lodge-general-meeting-3-2/2029-06-04/
CATEGORIES:Monthly Meeting
END:VEVENT
BEGIN:VEVENT
DTSTART;TZID=UTC:20290607T184500
DTEND;TZID=UTC:20290607T194500
DTSTAMP:20260423T181815
CREATED:20240220T230013Z
LAST-MODIFIED:20250306T022809Z
UID:10000060-1875552300-1875555900@www.bataviamoose682.org
SUMMARY:Moose Rider's Monthly Meeting
DESCRIPTION:Join us for our monthly Batavia Moose Rider’s Meeting. \nThe Moose Riders are consistently among the fastest growing and most “active” of all Moose Lodge Activity Groups. $20 annual dues. \nMoose Riders is open to any current Moose member. No motorcycle required to join.
URL:https://www.bataviamoose682.org/event/moose-riders-monthly-meeting/2029-06-07/
LOCATION:Batavia Moose Lodge
CATEGORIES:Monthly Meeting
ATTACH;FMTTYPE=image/png:https://www.bataviamoose682.org/wp-content/uploads/2024/02/Untitled-design-21-e1708489780661.png
END:VEVENT
BEGIN:VEVENT
DTSTART;TZID=UTC:20290611T170000
DTEND;TZID=UTC:20290611T200000
DTSTAMP:20260423T181816
CREATED:20250821T051442Z
LAST-MODIFIED:20250821T051444Z
UID:10003262-1875891600-1875902400@www.bataviamoose682.org
SUMMARY:Comfort Food Monday
DESCRIPTION:
URL:https://www.bataviamoose682.org/event/comfort-food-monday-2/2029-06-11/
CATEGORIES:Monthly Meeting
END:VEVENT
BEGIN:VEVENT
DTSTART;TZID=UTC:20290611T190000
DTEND;TZID=UTC:20290611T200000
DTSTAMP:20260423T181816
CREATED:20250306T033232Z
LAST-MODIFIED:20250306T033232Z
UID:10000241-1875898800-1875902400@www.bataviamoose682.org
SUMMARY:Moose Legion Meeting
DESCRIPTION:MOOSE LEGION\nTHE MEN WHO GET THINGS DONE \n\nAlso known as the Degree of Service. The purpose of this degree is to band together the loyal and devoted Moose members who desire to make further contributions to the humanitarian objectives of our Order while providing fun and entertaining activities for members and their families.  The official colors of the Moose Legion are red\, white and purple with purple being predominant. You will also see Moose Legionnaires sporting maroon blazers and informal vests. \n\nMeetings are the 2nd Monday of each month at 7:00pm \n$20 annual dues \nFellowship Degree of Honor  \n\nHonorary degree of the Loyal Order of Moose conferred only upon Moose Legionnaires who are recommended by the Fellows of their Lodge and approved by the Pilgrim Council. The official regalia of a Fellow is a French-blue blazer featuring the Fellowship logo\, coordinated necktie\, white shirt and black trousers. \n\nPilgrim Degree of Merit  \nHighest honor that can be bestowed upon a member of the Loyal Order of Moose. This Degree is conferred only in the House of God at Mooseheart and comes as a reward for extraordinary service to the Order. The official regalia of a Pilgrim is a gold blazer featuring the Pilgrim logo\, coordinated necktie\, white shirt and black trousers!
URL:https://www.bataviamoose682.org/event/moose-legion-meeting/2029-06-11/
CATEGORIES:Monthly Meeting
END:VEVENT
BEGIN:VEVENT
DTSTART;TZID=UTC:20290614T180000
DTEND;TZID=UTC:20290614T190000
DTSTAMP:20260423T181816
CREATED:20250507T064303Z
LAST-MODIFIED:20250507T064303Z
UID:10001722-1876154400-1876158000@www.bataviamoose682.org
SUMMARY:Rod & Gun Monthly Meeting
DESCRIPTION:
URL:https://www.bataviamoose682.org/event/rod-gun-monthly-meeting/2029-06-14/
CATEGORIES:Monthly Meeting
END:VEVENT
BEGIN:VEVENT
DTSTART;TZID=UTC:20290618T170000
DTEND;TZID=UTC:20290618T200000
DTSTAMP:20260423T181816
CREATED:20250821T051442Z
LAST-MODIFIED:20250821T051444Z
UID:10003263-1876496400-1876507200@www.bataviamoose682.org
SUMMARY:Comfort Food Monday
DESCRIPTION:
URL:https://www.bataviamoose682.org/event/comfort-food-monday-2/2029-06-18/
CATEGORIES:Monthly Meeting
END:VEVENT
BEGIN:VEVENT
DTSTART;TZID=UTC:20290618T190000
DTEND;TZID=UTC:20290618T200000
DTSTAMP:20260423T181816
CREATED:20250306T033105Z
LAST-MODIFIED:20250306T033306Z
UID:10000181-1876503600-1876507200@www.bataviamoose682.org
SUMMARY:Lodge General Meeting
DESCRIPTION:1st & 3rd Monday of each month @ 7:00 p.m. \n\nAll current members are welcome to attend.\nWe recommend each member attend a few meetings a year\nMeetings may include discussions regarding:\n\nBusiness conducted in the lodge\nRegional business\nUpcoming events & volunteer opportunities\nFundraiser ideas or proposals \n\n\nProper conduct & dress…\n\nNo alcohol allowed in meetings\nWhen in doubt\, don’t wear it
URL:https://www.bataviamoose682.org/event/lodge-general-meeting-2/2029-06-18/
CATEGORIES:Monthly Meeting
END:VEVENT
BEGIN:VEVENT
DTSTART;TZID=UTC:20290621T183000
DTEND;TZID=UTC:20290621T190000
DTSTAMP:20260423T181816
CREATED:20250317T044339Z
LAST-MODIFIED:20250317T044339Z
UID:10000575-1876761000-1876762800@www.bataviamoose682.org
SUMMARY:Women of the Moose Monthly Meeting
DESCRIPTION:Women of the Moose unite for our monthly meeting.\nNot a WOTM? Ask us and we can get you more information.
URL:https://www.bataviamoose682.org/event/women-of-the-moose-monthly-meeting/2029-06-21/
LOCATION:Batavia Moose Lodge
CATEGORIES:Monthly Meeting
ATTACH;FMTTYPE=image/png:https://www.bataviamoose682.org/wp-content/uploads/2022/03/KLKE52091.png
END:VEVENT
BEGIN:VEVENT
DTSTART;TZID=UTC:20290625T170000
DTEND;TZID=UTC:20290625T200000
DTSTAMP:20260423T181816
CREATED:20250821T051442Z
LAST-MODIFIED:20250821T051444Z
UID:10003264-1877101200-1877112000@www.bataviamoose682.org
SUMMARY:Comfort Food Monday
DESCRIPTION:
URL:https://www.bataviamoose682.org/event/comfort-food-monday-2/2029-06-25/
CATEGORIES:Monthly Meeting
END:VEVENT
BEGIN:VEVENT
DTSTART;TZID=UTC:20290702T170000
DTEND;TZID=UTC:20290702T200000
DTSTAMP:20260423T181816
CREATED:20250821T051442Z
LAST-MODIFIED:20250821T051444Z
UID:10003265-1877706000-1877716800@www.bataviamoose682.org
SUMMARY:Comfort Food Monday
DESCRIPTION:
URL:https://www.bataviamoose682.org/event/comfort-food-monday-2/2029-07-02/
CATEGORIES:Monthly Meeting
END:VEVENT
BEGIN:VEVENT
DTSTART;TZID=UTC:20290702T190000
DTEND;TZID=UTC:20290702T200000
DTSTAMP:20260423T181816
CREATED:20250821T051547Z
LAST-MODIFIED:20250821T051549Z
UID:10003987-1877713200-1877716800@www.bataviamoose682.org
SUMMARY:Lodge General Meeting
DESCRIPTION:1st & 3rd Monday of each month @ 7:00 p.m. \n\nAll current members are welcome to attend.\nWe recommend each member attend a few meetings a year\nMeetings may include discussions regarding:\n\nBusiness conducted in the lodge\nRegional business\nUpcoming events & volunteer opportunities\nFundraiser ideas or proposals \n\n\nProper conduct & dress…\n\nNo alcohol allowed in meetings\nWhen in doubt\, don’t wear it\n\n\n\n 
URL:https://www.bataviamoose682.org/event/lodge-general-meeting-3-2/2029-07-02/
CATEGORIES:Monthly Meeting
END:VEVENT
BEGIN:VEVENT
DTSTART;TZID=UTC:20290705T184500
DTEND;TZID=UTC:20290705T194500
DTSTAMP:20260423T181816
CREATED:20240220T230013Z
LAST-MODIFIED:20250306T022809Z
UID:10000061-1877971500-1877975100@www.bataviamoose682.org
SUMMARY:Moose Rider's Monthly Meeting
DESCRIPTION:Join us for our monthly Batavia Moose Rider’s Meeting. \nThe Moose Riders are consistently among the fastest growing and most “active” of all Moose Lodge Activity Groups. $20 annual dues. \nMoose Riders is open to any current Moose member. No motorcycle required to join.
URL:https://www.bataviamoose682.org/event/moose-riders-monthly-meeting/2029-07-05/
LOCATION:Batavia Moose Lodge
CATEGORIES:Monthly Meeting
ATTACH;FMTTYPE=image/png:https://www.bataviamoose682.org/wp-content/uploads/2024/02/Untitled-design-21-e1708489780661.png
END:VEVENT
BEGIN:VEVENT
DTSTART;TZID=UTC:20290709T170000
DTEND;TZID=UTC:20290709T200000
DTSTAMP:20260423T181816
CREATED:20250821T051442Z
LAST-MODIFIED:20250821T051444Z
UID:10003266-1878310800-1878321600@www.bataviamoose682.org
SUMMARY:Comfort Food Monday
DESCRIPTION:
URL:https://www.bataviamoose682.org/event/comfort-food-monday-2/2029-07-09/
CATEGORIES:Monthly Meeting
END:VEVENT
BEGIN:VEVENT
DTSTART;TZID=UTC:20290709T190000
DTEND;TZID=UTC:20290709T200000
DTSTAMP:20260423T181816
CREATED:20250306T033232Z
LAST-MODIFIED:20250306T033232Z
UID:10000242-1878318000-1878321600@www.bataviamoose682.org
SUMMARY:Moose Legion Meeting
DESCRIPTION:MOOSE LEGION\nTHE MEN WHO GET THINGS DONE \n\nAlso known as the Degree of Service. The purpose of this degree is to band together the loyal and devoted Moose members who desire to make further contributions to the humanitarian objectives of our Order while providing fun and entertaining activities for members and their families.  The official colors of the Moose Legion are red\, white and purple with purple being predominant. You will also see Moose Legionnaires sporting maroon blazers and informal vests. \n\nMeetings are the 2nd Monday of each month at 7:00pm \n$20 annual dues \nFellowship Degree of Honor  \n\nHonorary degree of the Loyal Order of Moose conferred only upon Moose Legionnaires who are recommended by the Fellows of their Lodge and approved by the Pilgrim Council. The official regalia of a Fellow is a French-blue blazer featuring the Fellowship logo\, coordinated necktie\, white shirt and black trousers. \n\nPilgrim Degree of Merit  \nHighest honor that can be bestowed upon a member of the Loyal Order of Moose. This Degree is conferred only in the House of God at Mooseheart and comes as a reward for extraordinary service to the Order. The official regalia of a Pilgrim is a gold blazer featuring the Pilgrim logo\, coordinated necktie\, white shirt and black trousers!
URL:https://www.bataviamoose682.org/event/moose-legion-meeting/2029-07-09/
CATEGORIES:Monthly Meeting
END:VEVENT
BEGIN:VEVENT
DTSTART;TZID=UTC:20290712T180000
DTEND;TZID=UTC:20290712T190000
DTSTAMP:20260423T181816
CREATED:20250507T064303Z
LAST-MODIFIED:20250507T064303Z
UID:10001723-1878573600-1878577200@www.bataviamoose682.org
SUMMARY:Rod & Gun Monthly Meeting
DESCRIPTION:
URL:https://www.bataviamoose682.org/event/rod-gun-monthly-meeting/2029-07-12/
CATEGORIES:Monthly Meeting
END:VEVENT
BEGIN:VEVENT
DTSTART;TZID=UTC:20290716T170000
DTEND;TZID=UTC:20290716T200000
DTSTAMP:20260423T181816
CREATED:20250821T051442Z
LAST-MODIFIED:20250821T051444Z
UID:10003267-1878915600-1878926400@www.bataviamoose682.org
SUMMARY:Comfort Food Monday
DESCRIPTION:
URL:https://www.bataviamoose682.org/event/comfort-food-monday-2/2029-07-16/
CATEGORIES:Monthly Meeting
END:VEVENT
BEGIN:VEVENT
DTSTART;TZID=UTC:20290716T190000
DTEND;TZID=UTC:20290716T200000
DTSTAMP:20260423T181816
CREATED:20250306T033105Z
LAST-MODIFIED:20250306T033306Z
UID:10000182-1878922800-1878926400@www.bataviamoose682.org
SUMMARY:Lodge General Meeting
DESCRIPTION:1st & 3rd Monday of each month @ 7:00 p.m. \n\nAll current members are welcome to attend.\nWe recommend each member attend a few meetings a year\nMeetings may include discussions regarding:\n\nBusiness conducted in the lodge\nRegional business\nUpcoming events & volunteer opportunities\nFundraiser ideas or proposals \n\n\nProper conduct & dress…\n\nNo alcohol allowed in meetings\nWhen in doubt\, don’t wear it
URL:https://www.bataviamoose682.org/event/lodge-general-meeting-2/2029-07-16/
CATEGORIES:Monthly Meeting
END:VEVENT
END:VCALENDAR