BEGIN:VCALENDAR
VERSION:2.0
PRODID:-//Batavia Moose #682 - ECPv6.15.20//NONSGML v1.0//EN
CALSCALE:GREGORIAN
METHOD:PUBLISH
X-WR-CALNAME:Batavia Moose #682
X-ORIGINAL-URL:https://www.bataviamoose682.org
X-WR-CALDESC:Events for Batavia Moose #682
REFRESH-INTERVAL;VALUE=DURATION:PT1H
X-Robots-Tag:noindex
X-PUBLISHED-TTL:PT1H
BEGIN:VTIMEZONE
TZID:UTC
BEGIN:STANDARD
TZOFFSETFROM:+0000
TZOFFSETTO:+0000
TZNAME:UTC
DTSTART:20250101T000000
END:STANDARD
END:VTIMEZONE
BEGIN:VEVENT
DTSTART;TZID=UTC:20260316T190000
DTEND;TZID=UTC:20260316T200000
DTSTAMP:20260421T215305
CREATED:20250306T033105Z
LAST-MODIFIED:20250306T033306Z
UID:10000142-1773687600-1773691200@www.bataviamoose682.org
SUMMARY:Lodge General Meeting
DESCRIPTION:1st & 3rd Monday of each month @ 7:00 p.m. \n\nAll current members are welcome to attend.\nWe recommend each member attend a few meetings a year\nMeetings may include discussions regarding:\n\nBusiness conducted in the lodge\nRegional business\nUpcoming events & volunteer opportunities\nFundraiser ideas or proposals \n\n\nProper conduct & dress…\n\nNo alcohol allowed in meetings\nWhen in doubt\, don’t wear it
URL:https://www.bataviamoose682.org/event/lodge-general-meeting-2/2026-03-16/
CATEGORIES:Monthly Meeting
END:VEVENT
BEGIN:VEVENT
DTSTART;TZID=UTC:20260319T183000
DTEND;TZID=UTC:20260319T190000
DTSTAMP:20260421T215305
CREATED:20250317T044339Z
LAST-MODIFIED:20250317T044339Z
UID:10000536-1773945000-1773946800@www.bataviamoose682.org
SUMMARY:Women of the Moose Monthly Meeting
DESCRIPTION:Women of the Moose unite for our monthly meeting.\nNot a WOTM? Ask us and we can get you more information.
URL:https://www.bataviamoose682.org/event/women-of-the-moose-monthly-meeting/2026-03-19/
LOCATION:Batavia Moose Lodge
CATEGORIES:Monthly Meeting
ATTACH;FMTTYPE=image/png:https://www.bataviamoose682.org/wp-content/uploads/2022/03/KLKE52091.png
END:VEVENT
BEGIN:VEVENT
DTSTART;TZID=UTC:20260323T170000
DTEND;TZID=UTC:20260323T200000
DTSTAMP:20260421T215305
CREATED:20250821T051442Z
LAST-MODIFIED:20250821T051444Z
UID:10003094-1774285200-1774296000@www.bataviamoose682.org
SUMMARY:Comfort Food Monday
DESCRIPTION:
URL:https://www.bataviamoose682.org/event/comfort-food-monday-2/2026-03-23/
CATEGORIES:Monthly Meeting
END:VEVENT
BEGIN:VEVENT
DTSTART;TZID=UTC:20260330T170000
DTEND;TZID=UTC:20260330T200000
DTSTAMP:20260421T215305
CREATED:20250821T051442Z
LAST-MODIFIED:20250821T051444Z
UID:10003095-1774890000-1774900800@www.bataviamoose682.org
SUMMARY:Comfort Food Monday
DESCRIPTION:
URL:https://www.bataviamoose682.org/event/comfort-food-monday-2/2026-03-30/
CATEGORIES:Monthly Meeting
END:VEVENT
BEGIN:VEVENT
DTSTART;TZID=UTC:20260402T184500
DTEND;TZID=UTC:20260402T194500
DTSTAMP:20260421T215305
CREATED:20240220T230013Z
LAST-MODIFIED:20250306T022809Z
UID:10000022-1775155500-1775159100@www.bataviamoose682.org
SUMMARY:Moose Rider's Monthly Meeting
DESCRIPTION:Join us for our monthly Batavia Moose Rider’s Meeting. \nThe Moose Riders are consistently among the fastest growing and most “active” of all Moose Lodge Activity Groups. $20 annual dues. \nMoose Riders is open to any current Moose member. No motorcycle required to join.
URL:https://www.bataviamoose682.org/event/moose-riders-monthly-meeting/2026-04-02/
LOCATION:Batavia Moose Lodge
CATEGORIES:Monthly Meeting
ATTACH;FMTTYPE=image/png:https://www.bataviamoose682.org/wp-content/uploads/2024/02/Untitled-design-21-e1708489780661.png
END:VEVENT
BEGIN:VEVENT
DTSTART;TZID=UTC:20260406T170000
DTEND;TZID=UTC:20260406T200000
DTSTAMP:20260421T215305
CREATED:20250821T051442Z
LAST-MODIFIED:20250821T051444Z
UID:10003096-1775494800-1775505600@www.bataviamoose682.org
SUMMARY:Comfort Food Monday
DESCRIPTION:
URL:https://www.bataviamoose682.org/event/comfort-food-monday-2/2026-04-06/
CATEGORIES:Monthly Meeting
END:VEVENT
BEGIN:VEVENT
DTSTART;TZID=UTC:20260406T190000
DTEND;TZID=UTC:20260406T200000
DTSTAMP:20260421T215305
CREATED:20250821T051547Z
LAST-MODIFIED:20250821T051549Z
UID:10003948-1775502000-1775505600@www.bataviamoose682.org
SUMMARY:Lodge General Meeting
DESCRIPTION:1st & 3rd Monday of each month @ 7:00 p.m. \n\nAll current members are welcome to attend.\nWe recommend each member attend a few meetings a year\nMeetings may include discussions regarding:\n\nBusiness conducted in the lodge\nRegional business\nUpcoming events & volunteer opportunities\nFundraiser ideas or proposals \n\n\nProper conduct & dress…\n\nNo alcohol allowed in meetings\nWhen in doubt\, don’t wear it\n\n\n\n 
URL:https://www.bataviamoose682.org/event/lodge-general-meeting-3-2/2026-04-06/
CATEGORIES:Monthly Meeting
END:VEVENT
BEGIN:VEVENT
DTSTART;TZID=UTC:20260409T180000
DTEND;TZID=UTC:20260409T190000
DTSTAMP:20260421T215305
CREATED:20250507T064303Z
LAST-MODIFIED:20250507T064303Z
UID:10001684-1775757600-1775761200@www.bataviamoose682.org
SUMMARY:Rod & Gun Monthly Meeting
DESCRIPTION:
URL:https://www.bataviamoose682.org/event/rod-gun-monthly-meeting/2026-04-09/
CATEGORIES:Monthly Meeting
END:VEVENT
BEGIN:VEVENT
DTSTART;TZID=UTC:20260413T170000
DTEND;TZID=UTC:20260413T200000
DTSTAMP:20260421T215305
CREATED:20250821T051442Z
LAST-MODIFIED:20250821T051444Z
UID:10003097-1776099600-1776110400@www.bataviamoose682.org
SUMMARY:Comfort Food Monday
DESCRIPTION:
URL:https://www.bataviamoose682.org/event/comfort-food-monday-2/2026-04-13/
CATEGORIES:Monthly Meeting
END:VEVENT
BEGIN:VEVENT
DTSTART;TZID=UTC:20260413T190000
DTEND;TZID=UTC:20260413T200000
DTSTAMP:20260421T215305
CREATED:20250306T033232Z
LAST-MODIFIED:20250306T033232Z
UID:10000203-1776106800-1776110400@www.bataviamoose682.org
SUMMARY:Moose Legion Meeting
DESCRIPTION:MOOSE LEGION\nTHE MEN WHO GET THINGS DONE \n\nAlso known as the Degree of Service. The purpose of this degree is to band together the loyal and devoted Moose members who desire to make further contributions to the humanitarian objectives of our Order while providing fun and entertaining activities for members and their families.  The official colors of the Moose Legion are red\, white and purple with purple being predominant. You will also see Moose Legionnaires sporting maroon blazers and informal vests. \n\nMeetings are the 2nd Monday of each month at 7:00pm \n$20 annual dues \nFellowship Degree of Honor  \n\nHonorary degree of the Loyal Order of Moose conferred only upon Moose Legionnaires who are recommended by the Fellows of their Lodge and approved by the Pilgrim Council. The official regalia of a Fellow is a French-blue blazer featuring the Fellowship logo\, coordinated necktie\, white shirt and black trousers. \n\nPilgrim Degree of Merit  \nHighest honor that can be bestowed upon a member of the Loyal Order of Moose. This Degree is conferred only in the House of God at Mooseheart and comes as a reward for extraordinary service to the Order. The official regalia of a Pilgrim is a gold blazer featuring the Pilgrim logo\, coordinated necktie\, white shirt and black trousers!
URL:https://www.bataviamoose682.org/event/moose-legion-meeting/2026-04-13/
CATEGORIES:Monthly Meeting
END:VEVENT
BEGIN:VEVENT
DTSTART;TZID=UTC:20260416T183000
DTEND;TZID=UTC:20260416T190000
DTSTAMP:20260421T215305
CREATED:20250317T044339Z
LAST-MODIFIED:20250317T044339Z
UID:10000537-1776364200-1776366000@www.bataviamoose682.org
SUMMARY:Women of the Moose Monthly Meeting
DESCRIPTION:Women of the Moose unite for our monthly meeting.\nNot a WOTM? Ask us and we can get you more information.
URL:https://www.bataviamoose682.org/event/women-of-the-moose-monthly-meeting/2026-04-16/
LOCATION:Batavia Moose Lodge
CATEGORIES:Monthly Meeting
ATTACH;FMTTYPE=image/png:https://www.bataviamoose682.org/wp-content/uploads/2022/03/KLKE52091.png
END:VEVENT
BEGIN:VEVENT
DTSTART;TZID=UTC:20260419T130000
DTEND;TZID=UTC:20260419T140000
DTSTAMP:20260421T215305
CREATED:20260415T023235Z
LAST-MODIFIED:20260415T023235Z
UID:10004455-1776603600-1776607200@www.bataviamoose682.org
SUMMARY:District 2 Meeting @ Plainfield Moose Lodge
DESCRIPTION:
URL:https://www.bataviamoose682.org/event/district-2-meeting-plainfield-moose-lodge/
CATEGORIES:Monthly Meeting
END:VEVENT
BEGIN:VEVENT
DTSTART;TZID=UTC:20260420T170000
DTEND;TZID=UTC:20260420T200000
DTSTAMP:20260421T215305
CREATED:20250821T051442Z
LAST-MODIFIED:20250821T051444Z
UID:10003098-1776704400-1776715200@www.bataviamoose682.org
SUMMARY:Comfort Food Monday
DESCRIPTION:
URL:https://www.bataviamoose682.org/event/comfort-food-monday-2/2026-04-20/
CATEGORIES:Monthly Meeting
END:VEVENT
BEGIN:VEVENT
DTSTART;TZID=UTC:20260420T190000
DTEND;TZID=UTC:20260420T200000
DTSTAMP:20260421T215305
CREATED:20250306T033105Z
LAST-MODIFIED:20250306T033306Z
UID:10000143-1776711600-1776715200@www.bataviamoose682.org
SUMMARY:Lodge General Meeting
DESCRIPTION:1st & 3rd Monday of each month @ 7:00 p.m. \n\nAll current members are welcome to attend.\nWe recommend each member attend a few meetings a year\nMeetings may include discussions regarding:\n\nBusiness conducted in the lodge\nRegional business\nUpcoming events & volunteer opportunities\nFundraiser ideas or proposals \n\n\nProper conduct & dress…\n\nNo alcohol allowed in meetings\nWhen in doubt\, don’t wear it
URL:https://www.bataviamoose682.org/event/lodge-general-meeting-2/2026-04-20/
CATEGORIES:Monthly Meeting
END:VEVENT
BEGIN:VEVENT
DTSTART;TZID=UTC:20260427T170000
DTEND;TZID=UTC:20260427T200000
DTSTAMP:20260421T215305
CREATED:20250821T051442Z
LAST-MODIFIED:20250821T051444Z
UID:10003099-1777309200-1777320000@www.bataviamoose682.org
SUMMARY:Comfort Food Monday
DESCRIPTION:
URL:https://www.bataviamoose682.org/event/comfort-food-monday-2/2026-04-27/
CATEGORIES:Monthly Meeting
END:VEVENT
BEGIN:VEVENT
DTSTART;TZID=UTC:20260504T170000
DTEND;TZID=UTC:20260504T200000
DTSTAMP:20260421T215305
CREATED:20250821T051442Z
LAST-MODIFIED:20250821T051444Z
UID:10003100-1777914000-1777924800@www.bataviamoose682.org
SUMMARY:Comfort Food Monday
DESCRIPTION:
URL:https://www.bataviamoose682.org/event/comfort-food-monday-2/2026-05-04/
CATEGORIES:Monthly Meeting
END:VEVENT
BEGIN:VEVENT
DTSTART;TZID=UTC:20260504T190000
DTEND;TZID=UTC:20260504T200000
DTSTAMP:20260421T215305
CREATED:20250821T051547Z
LAST-MODIFIED:20250821T051549Z
UID:10003949-1777921200-1777924800@www.bataviamoose682.org
SUMMARY:Lodge General Meeting
DESCRIPTION:1st & 3rd Monday of each month @ 7:00 p.m. \n\nAll current members are welcome to attend.\nWe recommend each member attend a few meetings a year\nMeetings may include discussions regarding:\n\nBusiness conducted in the lodge\nRegional business\nUpcoming events & volunteer opportunities\nFundraiser ideas or proposals \n\n\nProper conduct & dress…\n\nNo alcohol allowed in meetings\nWhen in doubt\, don’t wear it\n\n\n\n 
URL:https://www.bataviamoose682.org/event/lodge-general-meeting-3-2/2026-05-04/
CATEGORIES:Monthly Meeting
END:VEVENT
BEGIN:VEVENT
DTSTART;TZID=UTC:20260507T184500
DTEND;TZID=UTC:20260507T194500
DTSTAMP:20260421T215305
CREATED:20240220T230013Z
LAST-MODIFIED:20250306T022809Z
UID:10000023-1778179500-1778183100@www.bataviamoose682.org
SUMMARY:Moose Rider's Monthly Meeting
DESCRIPTION:Join us for our monthly Batavia Moose Rider’s Meeting. \nThe Moose Riders are consistently among the fastest growing and most “active” of all Moose Lodge Activity Groups. $20 annual dues. \nMoose Riders is open to any current Moose member. No motorcycle required to join.
URL:https://www.bataviamoose682.org/event/moose-riders-monthly-meeting/2026-05-07/
LOCATION:Batavia Moose Lodge
CATEGORIES:Monthly Meeting
ATTACH;FMTTYPE=image/png:https://www.bataviamoose682.org/wp-content/uploads/2024/02/Untitled-design-21-e1708489780661.png
END:VEVENT
BEGIN:VEVENT
DTSTART;TZID=UTC:20260511T170000
DTEND;TZID=UTC:20260511T200000
DTSTAMP:20260421T215305
CREATED:20250821T051442Z
LAST-MODIFIED:20250821T051444Z
UID:10003101-1778518800-1778529600@www.bataviamoose682.org
SUMMARY:Comfort Food Monday
DESCRIPTION:
URL:https://www.bataviamoose682.org/event/comfort-food-monday-2/2026-05-11/
CATEGORIES:Monthly Meeting
END:VEVENT
BEGIN:VEVENT
DTSTART;TZID=UTC:20260511T190000
DTEND;TZID=UTC:20260511T200000
DTSTAMP:20260421T215305
CREATED:20250306T033232Z
LAST-MODIFIED:20250306T033232Z
UID:10000204-1778526000-1778529600@www.bataviamoose682.org
SUMMARY:Moose Legion Meeting
DESCRIPTION:MOOSE LEGION\nTHE MEN WHO GET THINGS DONE \n\nAlso known as the Degree of Service. The purpose of this degree is to band together the loyal and devoted Moose members who desire to make further contributions to the humanitarian objectives of our Order while providing fun and entertaining activities for members and their families.  The official colors of the Moose Legion are red\, white and purple with purple being predominant. You will also see Moose Legionnaires sporting maroon blazers and informal vests. \n\nMeetings are the 2nd Monday of each month at 7:00pm \n$20 annual dues \nFellowship Degree of Honor  \n\nHonorary degree of the Loyal Order of Moose conferred only upon Moose Legionnaires who are recommended by the Fellows of their Lodge and approved by the Pilgrim Council. The official regalia of a Fellow is a French-blue blazer featuring the Fellowship logo\, coordinated necktie\, white shirt and black trousers. \n\nPilgrim Degree of Merit  \nHighest honor that can be bestowed upon a member of the Loyal Order of Moose. This Degree is conferred only in the House of God at Mooseheart and comes as a reward for extraordinary service to the Order. The official regalia of a Pilgrim is a gold blazer featuring the Pilgrim logo\, coordinated necktie\, white shirt and black trousers!
URL:https://www.bataviamoose682.org/event/moose-legion-meeting/2026-05-11/
CATEGORIES:Monthly Meeting
END:VEVENT
BEGIN:VEVENT
DTSTART;TZID=UTC:20260514T180000
DTEND;TZID=UTC:20260514T190000
DTSTAMP:20260421T215305
CREATED:20250507T064303Z
LAST-MODIFIED:20250507T064303Z
UID:10001685-1778781600-1778785200@www.bataviamoose682.org
SUMMARY:Rod & Gun Monthly Meeting
DESCRIPTION:
URL:https://www.bataviamoose682.org/event/rod-gun-monthly-meeting/2026-05-14/
CATEGORIES:Monthly Meeting
END:VEVENT
BEGIN:VEVENT
DTSTART;TZID=UTC:20260518T170000
DTEND;TZID=UTC:20260518T200000
DTSTAMP:20260421T215305
CREATED:20250821T051442Z
LAST-MODIFIED:20250821T051444Z
UID:10003102-1779123600-1779134400@www.bataviamoose682.org
SUMMARY:Comfort Food Monday
DESCRIPTION:
URL:https://www.bataviamoose682.org/event/comfort-food-monday-2/2026-05-18/
CATEGORIES:Monthly Meeting
END:VEVENT
BEGIN:VEVENT
DTSTART;TZID=UTC:20260518T190000
DTEND;TZID=UTC:20260518T200000
DTSTAMP:20260421T215305
CREATED:20250306T033105Z
LAST-MODIFIED:20250306T033306Z
UID:10000144-1779130800-1779134400@www.bataviamoose682.org
SUMMARY:Lodge General Meeting
DESCRIPTION:1st & 3rd Monday of each month @ 7:00 p.m. \n\nAll current members are welcome to attend.\nWe recommend each member attend a few meetings a year\nMeetings may include discussions regarding:\n\nBusiness conducted in the lodge\nRegional business\nUpcoming events & volunteer opportunities\nFundraiser ideas or proposals \n\n\nProper conduct & dress…\n\nNo alcohol allowed in meetings\nWhen in doubt\, don’t wear it
URL:https://www.bataviamoose682.org/event/lodge-general-meeting-2/2026-05-18/
CATEGORIES:Monthly Meeting
END:VEVENT
BEGIN:VEVENT
DTSTART;TZID=UTC:20260521T183000
DTEND;TZID=UTC:20260521T190000
DTSTAMP:20260421T215305
CREATED:20250317T044339Z
LAST-MODIFIED:20250317T044339Z
UID:10000538-1779388200-1779390000@www.bataviamoose682.org
SUMMARY:Women of the Moose Monthly Meeting
DESCRIPTION:Women of the Moose unite for our monthly meeting.\nNot a WOTM? Ask us and we can get you more information.
URL:https://www.bataviamoose682.org/event/women-of-the-moose-monthly-meeting/2026-05-21/
LOCATION:Batavia Moose Lodge
CATEGORIES:Monthly Meeting
ATTACH;FMTTYPE=image/png:https://www.bataviamoose682.org/wp-content/uploads/2022/03/KLKE52091.png
END:VEVENT
BEGIN:VEVENT
DTSTART;TZID=UTC:20260525T170000
DTEND;TZID=UTC:20260525T200000
DTSTAMP:20260421T215305
CREATED:20250821T051442Z
LAST-MODIFIED:20250821T051444Z
UID:10003103-1779728400-1779739200@www.bataviamoose682.org
SUMMARY:Comfort Food Monday
DESCRIPTION:
URL:https://www.bataviamoose682.org/event/comfort-food-monday-2/2026-05-25/
CATEGORIES:Monthly Meeting
END:VEVENT
BEGIN:VEVENT
DTSTART;TZID=UTC:20260601T170000
DTEND;TZID=UTC:20260601T200000
DTSTAMP:20260421T215305
CREATED:20250821T051442Z
LAST-MODIFIED:20250821T051444Z
UID:10003104-1780333200-1780344000@www.bataviamoose682.org
SUMMARY:Comfort Food Monday
DESCRIPTION:
URL:https://www.bataviamoose682.org/event/comfort-food-monday-2/2026-06-01/
CATEGORIES:Monthly Meeting
END:VEVENT
BEGIN:VEVENT
DTSTART;TZID=UTC:20260601T190000
DTEND;TZID=UTC:20260601T200000
DTSTAMP:20260421T215305
CREATED:20250821T051547Z
LAST-MODIFIED:20250821T051549Z
UID:10003950-1780340400-1780344000@www.bataviamoose682.org
SUMMARY:Lodge General Meeting
DESCRIPTION:1st & 3rd Monday of each month @ 7:00 p.m. \n\nAll current members are welcome to attend.\nWe recommend each member attend a few meetings a year\nMeetings may include discussions regarding:\n\nBusiness conducted in the lodge\nRegional business\nUpcoming events & volunteer opportunities\nFundraiser ideas or proposals \n\n\nProper conduct & dress…\n\nNo alcohol allowed in meetings\nWhen in doubt\, don’t wear it\n\n\n\n 
URL:https://www.bataviamoose682.org/event/lodge-general-meeting-3-2/2026-06-01/
CATEGORIES:Monthly Meeting
END:VEVENT
BEGIN:VEVENT
DTSTART;TZID=UTC:20260604T184500
DTEND;TZID=UTC:20260604T194500
DTSTAMP:20260421T215305
CREATED:20240220T230013Z
LAST-MODIFIED:20250306T022809Z
UID:10000024-1780598700-1780602300@www.bataviamoose682.org
SUMMARY:Moose Rider's Monthly Meeting
DESCRIPTION:Join us for our monthly Batavia Moose Rider’s Meeting. \nThe Moose Riders are consistently among the fastest growing and most “active” of all Moose Lodge Activity Groups. $20 annual dues. \nMoose Riders is open to any current Moose member. No motorcycle required to join.
URL:https://www.bataviamoose682.org/event/moose-riders-monthly-meeting/2026-06-04/
LOCATION:Batavia Moose Lodge
CATEGORIES:Monthly Meeting
ATTACH;FMTTYPE=image/png:https://www.bataviamoose682.org/wp-content/uploads/2024/02/Untitled-design-21-e1708489780661.png
END:VEVENT
BEGIN:VEVENT
DTSTART;TZID=UTC:20260608T170000
DTEND;TZID=UTC:20260608T200000
DTSTAMP:20260421T215305
CREATED:20250821T051442Z
LAST-MODIFIED:20250821T051444Z
UID:10003105-1780938000-1780948800@www.bataviamoose682.org
SUMMARY:Comfort Food Monday
DESCRIPTION:
URL:https://www.bataviamoose682.org/event/comfort-food-monday-2/2026-06-08/
CATEGORIES:Monthly Meeting
END:VEVENT
BEGIN:VEVENT
DTSTART;TZID=UTC:20260608T190000
DTEND;TZID=UTC:20260608T200000
DTSTAMP:20260421T215305
CREATED:20250306T033232Z
LAST-MODIFIED:20250306T033232Z
UID:10000205-1780945200-1780948800@www.bataviamoose682.org
SUMMARY:Moose Legion Meeting
DESCRIPTION:MOOSE LEGION\nTHE MEN WHO GET THINGS DONE \n\nAlso known as the Degree of Service. The purpose of this degree is to band together the loyal and devoted Moose members who desire to make further contributions to the humanitarian objectives of our Order while providing fun and entertaining activities for members and their families.  The official colors of the Moose Legion are red\, white and purple with purple being predominant. You will also see Moose Legionnaires sporting maroon blazers and informal vests. \n\nMeetings are the 2nd Monday of each month at 7:00pm \n$20 annual dues \nFellowship Degree of Honor  \n\nHonorary degree of the Loyal Order of Moose conferred only upon Moose Legionnaires who are recommended by the Fellows of their Lodge and approved by the Pilgrim Council. The official regalia of a Fellow is a French-blue blazer featuring the Fellowship logo\, coordinated necktie\, white shirt and black trousers. \n\nPilgrim Degree of Merit  \nHighest honor that can be bestowed upon a member of the Loyal Order of Moose. This Degree is conferred only in the House of God at Mooseheart and comes as a reward for extraordinary service to the Order. The official regalia of a Pilgrim is a gold blazer featuring the Pilgrim logo\, coordinated necktie\, white shirt and black trousers!
URL:https://www.bataviamoose682.org/event/moose-legion-meeting/2026-06-08/
CATEGORIES:Monthly Meeting
END:VEVENT
END:VCALENDAR