BEGIN:VCALENDAR
VERSION:2.0
PRODID:-//Batavia Moose #682 - ECPv6.15.20//NONSGML v1.0//EN
CALSCALE:GREGORIAN
METHOD:PUBLISH
X-ORIGINAL-URL:https://www.bataviamoose682.org
X-WR-CALDESC:Events for Batavia Moose #682
REFRESH-INTERVAL;VALUE=DURATION:PT1H
X-Robots-Tag:noindex
X-PUBLISHED-TTL:PT1H
BEGIN:VTIMEZONE
TZID:UTC
BEGIN:STANDARD
TZOFFSETFROM:+0000
TZOFFSETTO:+0000
TZNAME:UTC
DTSTART:20250101T000000
END:STANDARD
END:VTIMEZONE
BEGIN:VEVENT
DTSTART;TZID=UTC:20260417T200000
DTEND;TZID=UTC:20260417T230000
DTSTAMP:20260421T143648
CREATED:20260415T022753Z
LAST-MODIFIED:20260415T022753Z
UID:10004447-1776456000-1776466800@www.bataviamoose682.org
SUMMARY:Live Music: The Corey Marshall Band
DESCRIPTION:The Corey Marshall band is back playing their country music with a touch of rock.\nThis event is for Lodge members and their qualified guests.
URL:https://www.bataviamoose682.org/event/live-music-the-corey-marshall-band/
LOCATION:Batavia Moose Lodge
CATEGORIES:Live Music Event
ATTACH;FMTTYPE=image/jpeg:https://www.bataviamoose682.org/wp-content/uploads/2026/04/Corey-Marshall-Band.jpg
END:VEVENT
END:VCALENDAR