BEGIN:VCALENDAR
VERSION:2.0
PRODID:-//Batavia Moose #682 - ECPv6.15.20//NONSGML v1.0//EN
CALSCALE:GREGORIAN
METHOD:PUBLISH
X-WR-CALNAME:Batavia Moose #682
X-ORIGINAL-URL:https://www.bataviamoose682.org
X-WR-CALDESC:Events for Batavia Moose #682
REFRESH-INTERVAL;VALUE=DURATION:PT1H
X-Robots-Tag:noindex
X-PUBLISHED-TTL:PT1H
BEGIN:VTIMEZONE
TZID:UTC
BEGIN:STANDARD
TZOFFSETFROM:+0000
TZOFFSETTO:+0000
TZNAME:UTC
DTSTART:20250101T000000
END:STANDARD
END:VTIMEZONE
BEGIN:VEVENT
DTSTART;TZID=UTC:20260415T180000
DTEND;TZID=UTC:20260415T203000
DTSTAMP:20260421T143621
CREATED:20260415T022422Z
LAST-MODIFIED:20260415T022422Z
UID:10004446-1776276000-1776285000@www.bataviamoose682.org
SUMMARY:Local Artist Spotlight: Jim DiDomenico
DESCRIPTION:Jim DiDomenico is an acoustic guitarist and vocalist based in Chicagoland. He performs his Acoustic Variety Show — a dynamic\, request-friendly set that takes audiences on a genre-hopping journey through decades of music\, from classic hits to deep cuts and unexpected favorites.\n\n*Open to current Moose members & their qualified guests
URL:https://www.bataviamoose682.org/event/local-artist-spotlight-jim-didomenico-2/
LOCATION:Batavia Moose Lodge
CATEGORIES:Live Music Event
ATTACH;FMTTYPE=image/jpeg:https://www.bataviamoose682.org/wp-content/uploads/2025/08/Jim-DiDomenico.jpg
END:VEVENT
END:VCALENDAR