BEGIN:VCALENDAR
VERSION:2.0
PRODID:-//Batavia Moose #682 - ECPv6.15.20//NONSGML v1.0//EN
CALSCALE:GREGORIAN
METHOD:PUBLISH
X-ORIGINAL-URL:https://www.bataviamoose682.org
X-WR-CALDESC:Events for Batavia Moose #682
REFRESH-INTERVAL;VALUE=DURATION:PT1H
X-Robots-Tag:noindex
X-PUBLISHED-TTL:PT1H
BEGIN:VTIMEZONE
TZID:UTC
BEGIN:STANDARD
TZOFFSETFROM:+0000
TZOFFSETTO:+0000
TZNAME:UTC
DTSTART:20240101T000000
END:STANDARD
END:VTIMEZONE
BEGIN:VEVENT
DTSTART;TZID=UTC:20251213T200000
DTEND;TZID=UTC:20251213T230000
DTSTAMP:20260425T015914
CREATED:20251203T214231Z
LAST-MODIFIED:20251203T214231Z
UID:10004165-1765656000-1765666800@www.bataviamoose682.org
SUMMARY:The Beaver Moon Band
DESCRIPTION:The Beaver Moon Band is back by popular demand with rave reviews from our members.\nLed by the soulful voice of lead singer Amy\, this group of established musicians bond over their shared passion for sound\, rhythm and beats. Each member brings a diverse and unique musical aesthetic to the band and over the years\, have grown comfortable jumping genres and mashing up influences.\nThis event is for members and their qualified guests.
URL:https://www.bataviamoose682.org/event/the-beaver-moon-band/
LOCATION:Batavia Moose Lodge
CATEGORIES:Live Music Event
ATTACH;FMTTYPE=image/png:https://www.bataviamoose682.org/wp-content/uploads/2024/04/Beaver-Moon.png
END:VEVENT
END:VCALENDAR