BEGIN:VCALENDAR
VERSION:2.0
PRODID:-//Batavia Moose #682 - ECPv6.15.20//NONSGML v1.0//EN
CALSCALE:GREGORIAN
METHOD:PUBLISH
X-ORIGINAL-URL:https://www.bataviamoose682.org
X-WR-CALDESC:Events for Batavia Moose #682
REFRESH-INTERVAL;VALUE=DURATION:PT1H
X-Robots-Tag:noindex
X-PUBLISHED-TTL:PT1H
BEGIN:VTIMEZONE
TZID:UTC
BEGIN:STANDARD
TZOFFSETFROM:+0000
TZOFFSETTO:+0000
TZNAME:UTC
DTSTART:20260101T000000
END:STANDARD
END:VTIMEZONE
BEGIN:VEVENT
DTSTART;TZID=UTC:20270414T170000
DTEND;TZID=UTC:20270414T200000
DTSTAMP:20260424T230331
CREATED:20250507T071042Z
LAST-MODIFIED:20250507T071042Z
UID:10002568-1807722000-1807732800@www.bataviamoose682.org
SUMMARY:Kitchen Open
DESCRIPTION:
URL:https://www.bataviamoose682.org/event/kitchen-open/2027-04-14/
END:VEVENT
BEGIN:VEVENT
DTSTART;TZID=UTC:20270414T190000
DTEND;TZID=UTC:20270414T203000
DTSTAMP:20260424T230332
CREATED:20250317T043634Z
LAST-MODIFIED:20250317T043634Z
UID:10000427-1807729200-1807734600@www.bataviamoose682.org
SUMMARY:Line Dancing - Beginners Lesson
DESCRIPTION:
URL:https://www.bataviamoose682.org/event/line-dancing-beginners-lesson/2027-04-14/
END:VEVENT
END:VCALENDAR