BEGIN:VCALENDAR
VERSION:2.0
PRODID:-//Batavia Moose #682 - ECPv6.15.20//NONSGML v1.0//EN
CALSCALE:GREGORIAN
METHOD:PUBLISH
X-ORIGINAL-URL:https://www.bataviamoose682.org
X-WR-CALDESC:Events for Batavia Moose #682
REFRESH-INTERVAL;VALUE=DURATION:PT1H
X-Robots-Tag:noindex
X-PUBLISHED-TTL:PT1H
BEGIN:VTIMEZONE
TZID:UTC
BEGIN:STANDARD
TZOFFSETFROM:+0000
TZOFFSETTO:+0000
TZNAME:UTC
DTSTART:20250101T000000
END:STANDARD
END:VTIMEZONE
BEGIN:VEVENT
DTSTART;TZID=UTC:20260424T120000
DTEND;TZID=UTC:20260424T150000
DTSTAMP:20260421T114228
CREATED:20250507T070730Z
LAST-MODIFIED:20250507T070800Z
UID:10001790-1777032000-1777042800@www.bataviamoose682.org
SUMMARY:Family Fish Fry Lunch
DESCRIPTION:
URL:https://www.bataviamoose682.org/event/friday-fish-fry-lunch/2026-04-24/
END:VEVENT
BEGIN:VEVENT
DTSTART;TZID=UTC:20260424T170000
DTEND;TZID=UTC:20260424T203000
DTSTAMP:20260421T114228
CREATED:20250507T070846Z
LAST-MODIFIED:20250507T070846Z
UID:10002052-1777050000-1777062600@www.bataviamoose682.org
SUMMARY:Fish Fry
DESCRIPTION:
URL:https://www.bataviamoose682.org/event/fish-fry/2026-04-24/
END:VEVENT
BEGIN:VEVENT
DTSTART;TZID=UTC:20260424T200000
DTEND;TZID=UTC:20260424T213000
DTSTAMP:20260421T114228
CREATED:20260415T024044Z
LAST-MODIFIED:20260415T024044Z
UID:10004458-1777060800-1777066200@www.bataviamoose682.org
SUMMARY:Live Music: School of Rock
DESCRIPTION:Performance is the core of School of Rock’s educational approach. They love playing our Lodge and we love to have them. Such a talented group of young performers.\nThey create opportunities for students to perform on stages throughout the area and are coming to the Batavia Moose Lodge. The House Band music program allows each school’s most talented students the opportunity to join a band and play routinely in front of live audiences. Students gain real music experience associated with gigging musicians and will become leaders and mentors inside the School of Rock community\n\nOpen to current Moose members & their qualified guests
URL:https://www.bataviamoose682.org/event/live-music-school-of-rock/
LOCATION:Batavia Moose Lodge
CATEGORIES:Live Music Event
ATTACH;FMTTYPE=image/jpeg:https://www.bataviamoose682.org/wp-content/uploads/2026/04/school-of-rock.jpg
END:VEVENT
END:VCALENDAR