BEGIN:VCALENDAR
VERSION:2.0
PRODID:-//Batavia Moose #682 - ECPv6.15.20//NONSGML v1.0//EN
CALSCALE:GREGORIAN
METHOD:PUBLISH
X-WR-CALNAME:Batavia Moose #682
X-ORIGINAL-URL:https://www.bataviamoose682.org
X-WR-CALDESC:Events for Batavia Moose #682
REFRESH-INTERVAL;VALUE=DURATION:PT1H
X-Robots-Tag:noindex
X-PUBLISHED-TTL:PT1H
BEGIN:VTIMEZONE
TZID:UTC
BEGIN:STANDARD
TZOFFSETFROM:+0000
TZOFFSETTO:+0000
TZNAME:UTC
DTSTART:20250101T000000
END:STANDARD
END:VTIMEZONE
BEGIN:VEVENT
DTSTART;TZID=UTC:20260418T090000
DTEND;TZID=UTC:20260418T170000
DTSTAMP:20260421T113959
CREATED:20260415T023008Z
LAST-MODIFIED:20260415T023008Z
UID:10004448-1776502800-1776531600@www.bataviamoose682.org
SUMMARY:Midwest Kubb Championship
DESCRIPTION:Saturday\, April 18th  • Oroni Field (Batavia Moose Lodge)\, 1535 Batavia Avenue\, Batavia\, IL\nPlease arrive by 8:30 am\, so we can start promptly at 9 am\nKlassic Kubb tournament rules with Batavia exception of alternating inkasters and the inkaster must take the first blasting throw.\nT-shirts – Raffles – Cash Prizes – Trophies – LunchRegister at the website: https://www.midwestkubbchampionship.com/
URL:https://www.bataviamoose682.org/event/midwest-kubb-championship/
LOCATION:Batavia Moose Lodge
CATEGORIES:Special Event
ATTACH;FMTTYPE=image/jpeg:https://www.bataviamoose682.org/wp-content/uploads/2026/04/Midwest-kubb-championship.jpg
END:VEVENT
BEGIN:VEVENT
DTSTART;TZID=UTC:20260418T120000
DTEND;TZID=UTC:20260418T150000
DTSTAMP:20260421T113959
CREATED:20250507T071224Z
LAST-MODIFIED:20260303T184004Z
UID:10003360-1776513600-1776524400@www.bataviamoose682.org
SUMMARY:Family Lunch
DESCRIPTION:
URL:https://www.bataviamoose682.org/event/family-lunch/2026-04-18/
END:VEVENT
BEGIN:VEVENT
DTSTART;TZID=UTC:20260418T173000
DTEND;TZID=UTC:20260418T200000
DTSTAMP:20260421T113959
CREATED:20250821T064936Z
LAST-MODIFIED:20250821T065109Z
UID:10004087-1776533400-1776542400@www.bataviamoose682.org
SUMMARY:Grilled Steak Night & Rockstar Bingo
DESCRIPTION:Seriously Fun Saturday Evening!\nGrilled Steak Dinner 5:30 pm – 8:00 pm\nRockstar Bingo 7 pm \nRockstar Bingo is like regular Bingo except with groovy music instead of numbers. Guaranteed you will be singing along.\nNo cost to play. Great prizes for winners. \nThis event is sponsored by the Batavia Moose Legion and is intended for Lodge members and their qualified guests. \nThis particular event will be in the social quarters only due to a private event scheduled in the back hall. \nRockstar Bingo is run by Seriously Fun Events.
URL:https://www.bataviamoose682.org/event/grilled-steak-night-rockstar-bingo/2026-04-18/
CATEGORIES:Monthly Special
ATTACH;FMTTYPE=image/png:https://www.bataviamoose682.org/wp-content/uploads/2025/03/Steak-Bingo.png
END:VEVENT
END:VCALENDAR