BEGIN:VCALENDAR
VERSION:2.0
PRODID:-//Batavia Moose #682 - ECPv6.15.20//NONSGML v1.0//EN
CALSCALE:GREGORIAN
METHOD:PUBLISH
X-WR-CALNAME:Batavia Moose #682
X-ORIGINAL-URL:https://www.bataviamoose682.org
X-WR-CALDESC:Events for Batavia Moose #682
REFRESH-INTERVAL;VALUE=DURATION:PT1H
X-Robots-Tag:noindex
X-PUBLISHED-TTL:PT1H
BEGIN:VTIMEZONE
TZID:UTC
BEGIN:STANDARD
TZOFFSETFROM:+0000
TZOFFSETTO:+0000
TZNAME:UTC
DTSTART:20250101T000000
END:STANDARD
END:VTIMEZONE
BEGIN:VEVENT
DTSTART;TZID=UTC:20260228T120000
DTEND;TZID=UTC:20260228T150000
DTSTAMP:20260421T083530
CREATED:20250507T071224Z
LAST-MODIFIED:20260303T184004Z
UID:10003353-1772280000-1772290800@www.bataviamoose682.org
SUMMARY:Family Lunch
DESCRIPTION:
URL:https://www.bataviamoose682.org/event/family-lunch/2026-02-28/
END:VEVENT
BEGIN:VEVENT
DTSTART;TZID=UTC:20260228T160000
DTEND;TZID=UTC:20260228T180000
DTSTAMP:20260421T083530
CREATED:20260209T205250Z
LAST-MODIFIED:20260209T205250Z
UID:10004197-1772294400-1772301600@www.bataviamoose682.org
SUMMARY:Volunteer & Sponsor Appreciation Party
DESCRIPTION:If you have volunteered or sponsored a new member in 2025 you are invited to our Appreciation Night.\nTaco Bar
URL:https://www.bataviamoose682.org/event/volunteer-sponsor-appreciation-party/
END:VEVENT
BEGIN:VEVENT
DTSTART;TZID=UTC:20260228T170000
DTEND;TZID=UTC:20260228T200000
DTSTAMP:20260421T083530
CREATED:20250507T071313Z
LAST-MODIFIED:20260303T184129Z
UID:10003615-1772298000-1772308800@www.bataviamoose682.org
SUMMARY:Saturday Dinner
DESCRIPTION:
URL:https://www.bataviamoose682.org/event/saturday-dinner/2026-02-28/
END:VEVENT
END:VCALENDAR