BEGIN:VCALENDAR
VERSION:2.0
PRODID:-//Batavia Moose #682 - ECPv6.15.20//NONSGML v1.0//EN
CALSCALE:GREGORIAN
METHOD:PUBLISH
X-WR-CALNAME:Batavia Moose #682
X-ORIGINAL-URL:https://www.bataviamoose682.org
X-WR-CALDESC:Events for Batavia Moose #682
REFRESH-INTERVAL;VALUE=DURATION:PT1H
X-Robots-Tag:noindex
X-PUBLISHED-TTL:PT1H
BEGIN:VTIMEZONE
TZID:UTC
BEGIN:STANDARD
TZOFFSETFROM:+0000
TZOFFSETTO:+0000
TZNAME:UTC
DTSTART:20250101T000000
END:STANDARD
END:VTIMEZONE
BEGIN:VEVENT
DTSTART;TZID=UTC:20260208T150000
DTEND;TZID=UTC:20260208T180000
DTSTAMP:20260421T082217
CREATED:20250821T073041Z
LAST-MODIFIED:20250821T073229Z
UID:10004105-1770562800-1770573600@www.bataviamoose682.org
SUMMARY:Pizza Sunday
DESCRIPTION:
URL:https://www.bataviamoose682.org/event/pizza-sunday-2/2026-02-08/
LOCATION:Batavia Moose Lodge
CATEGORIES:Monthly Special
ATTACH;FMTTYPE=image/png:https://www.bataviamoose682.org/wp-content/uploads/2025/08/Pizza-Sunday.png
END:VEVENT
END:VCALENDAR