BEGIN:VCALENDAR
VERSION:2.0
PRODID:-//Batavia Moose #682 - ECPv6.15.20//NONSGML v1.0//EN
CALSCALE:GREGORIAN
METHOD:PUBLISH
X-WR-CALNAME:Batavia Moose #682
X-ORIGINAL-URL:https://www.bataviamoose682.org
X-WR-CALDESC:Events for Batavia Moose #682
REFRESH-INTERVAL;VALUE=DURATION:PT1H
X-Robots-Tag:noindex
X-PUBLISHED-TTL:PT1H
BEGIN:VTIMEZONE
TZID:UTC
BEGIN:STANDARD
TZOFFSETFROM:+0000
TZOFFSETTO:+0000
TZNAME:UTC
DTSTART:20250101T000000
END:STANDARD
END:VTIMEZONE
BEGIN:VEVENT
DTSTART;TZID=UTC:20260123T120000
DTEND;TZID=UTC:20260123T150000
DTSTAMP:20260421T100436
CREATED:20250507T070730Z
LAST-MODIFIED:20250507T070800Z
UID:10001777-1769169600-1769180400@www.bataviamoose682.org
SUMMARY:Family Fish Fry Lunch
DESCRIPTION:
URL:https://www.bataviamoose682.org/event/friday-fish-fry-lunch/2026-01-23/
END:VEVENT
BEGIN:VEVENT
DTSTART;TZID=UTC:20260123T170000
DTEND;TZID=UTC:20260123T203000
DTSTAMP:20260421T100436
CREATED:20250507T070846Z
LAST-MODIFIED:20250507T070846Z
UID:10002039-1769187600-1769200200@www.bataviamoose682.org
SUMMARY:Fish Fry
DESCRIPTION:
URL:https://www.bataviamoose682.org/event/fish-fry/2026-01-23/
END:VEVENT
END:VCALENDAR