BEGIN:VCALENDAR
VERSION:2.0
PRODID:-//Batavia Moose #682 - ECPv6.15.20//NONSGML v1.0//EN
CALSCALE:GREGORIAN
METHOD:PUBLISH
X-WR-CALNAME:Batavia Moose #682
X-ORIGINAL-URL:https://www.bataviamoose682.org
X-WR-CALDESC:Events for Batavia Moose #682
REFRESH-INTERVAL;VALUE=DURATION:PT1H
X-Robots-Tag:noindex
X-PUBLISHED-TTL:PT1H
BEGIN:VTIMEZONE
TZID:UTC
BEGIN:STANDARD
TZOFFSETFROM:+0000
TZOFFSETTO:+0000
TZNAME:UTC
DTSTART:20240101T000000
END:STANDARD
END:VTIMEZONE
BEGIN:VEVENT
DTSTART;TZID=UTC:20251101T120000
DTEND;TZID=UTC:20251101T150000
DTSTAMP:20260421T153659
CREATED:20250507T071224Z
LAST-MODIFIED:20260303T184004Z
UID:10003336-1761998400-1762009200@www.bataviamoose682.org
SUMMARY:Family Lunch
DESCRIPTION:
URL:https://www.bataviamoose682.org/event/family-lunch/2025-11-01/
END:VEVENT
BEGIN:VEVENT
DTSTART;TZID=UTC:20251101T170000
DTEND;TZID=UTC:20251101T200000
DTSTAMP:20260421T153659
CREATED:20250507T071313Z
LAST-MODIFIED:20260303T184129Z
UID:10003598-1762016400-1762027200@www.bataviamoose682.org
SUMMARY:Saturday Dinner
DESCRIPTION:
URL:https://www.bataviamoose682.org/event/saturday-dinner/2025-11-01/
END:VEVENT
BEGIN:VEVENT
DTSTART;TZID=UTC:20251101T200000
DTEND;TZID=UTC:20251101T230000
DTSTAMP:20260421T153659
CREATED:20251004T200029Z
LAST-MODIFIED:20251004T200029Z
UID:10004161-1762027200-1762038000@www.bataviamoose682.org
SUMMARY:Halloween Party w/The Otter Limits
DESCRIPTION:Halloween party in our social quarters. Put on your costume and dancing shows for a fun evening.\nRockin’ the Lodge Halloween party at 8pm will be The Otter Limits. They will be covering 60’s-90’s classic rock/pop/alternative songs plus top 40 hits from 2000-today\, so be ready to move your feet and sing along. The band includes Batavia Moose member Michael Tassi.\nThis event is for members and their qualified guests.
URL:https://www.bataviamoose682.org/event/halloween-party-w-the-otter-limits/
LOCATION:Batavia Moose Lodge
CATEGORIES:Live Music Event,Special Event
ATTACH;FMTTYPE=image/jpeg:https://www.bataviamoose682.org/wp-content/uploads/2025/10/otter-limits.jpg
END:VEVENT
END:VCALENDAR